BEGIN:VCALENDAR
VERSION:2.0
PRODID:-//EX-U22M-1D//NONSGML kigkonsult.se iCalcreator 2.41.80//
CALSCALE:GREGORIAN
UID:63376666-3236-4633-b235-666539323830
BEGIN:VEVENT
UID:65353433-3865-4939-a537-356539613265
DTSTAMP:20260421T223118Z
DESCRIPTION:1/1 V. Meziříčí - Kojetín 0:3 (-19\,-22\,-19)
DTSTART;TZID=Europe/Berlin:20221015T100000
DTEND;TZID=Europe/Berlin:20221015T120000
LOCATION:ZŠ Komenského\, Komenského 1 Velké Meziříčí
SUMMARY:EX-U22M-1D: V. Meziříčí-Kojetín
END:VEVENT
BEGIN:VEVENT
UID:38343833-6266-4533-a363-316661353063
DTSTAMP:20260421T223118Z
DESCRIPTION:1/2 Lvi - Kolín 0:3 (-19\,-20\,-29)
DTSTART;TZID=Europe/Berlin:20221015T120000
DTEND;TZID=Europe/Berlin:20221015T140000
LOCATION:ZŠ Komenského\, Komenského 1 Velké Meziříčí
SUMMARY:EX-U22M-1D: Lvi-Kolín
END:VEVENT
BEGIN:VEVENT
UID:64643236-3632-4737-b335-643133386334
DTSTAMP:20260421T223118Z
DESCRIPTION:1/3 Nymburk - Kojetín 0:3 (-13\,-17\,-21)
DTSTART;TZID=Europe/Berlin:20221015T140000
DTEND;TZID=Europe/Berlin:20221015T160000
LOCATION:ZŠ Komenského\, Komenského 1 Velké Meziříčí
SUMMARY:EX-U22M-1D: Nymburk-Kojetín
END:VEVENT
BEGIN:VEVENT
UID:64366362-3133-4438-a134-336637333535
DTSTAMP:20260421T223118Z
DESCRIPTION:1/4 V. Meziříčí - Lvi 3:1 (-20\,26\,18\,14)
DTSTART;TZID=Europe/Berlin:20221015T160000
DTEND;TZID=Europe/Berlin:20221015T180000
LOCATION:ZŠ Komenského\, Komenského 1 Velké Meziříčí
SUMMARY:EX-U22M-1D: V. Meziříčí-Lvi
END:VEVENT
BEGIN:VEVENT
UID:31303731-3463-4565-a437-356263343731
DTSTAMP:20260421T223118Z
DESCRIPTION:1/5 Nymburk - Kolín 0:3 (-17\,-9\,-11)
DTSTART;TZID=Europe/Berlin:20221015T180000
DTEND;TZID=Europe/Berlin:20221015T200000
LOCATION:ZŠ Komenského\, Komenského 1 Velké Meziříčí
SUMMARY:EX-U22M-1D: Nymburk-Kolín
END:VEVENT
BEGIN:VEVENT
UID:61623939-3737-4332-b732-366135663930
DTSTAMP:20260421T223118Z
DESCRIPTION:2/6 Kojetín - Lvi 3:0 (23\,20\,23)
DTSTART;TZID=Europe/Berlin:20221016T090000
DTEND;TZID=Europe/Berlin:20221016T110000
LOCATION:ZŠ Komenského\, Komenského 1 Velké Meziříčí
SUMMARY:EX-U22M-1D: Kojetín-Lvi
END:VEVENT
BEGIN:VEVENT
UID:35346336-6564-4162-b230-393763363739
DTSTAMP:20260421T223118Z
DESCRIPTION:2/7 V. Meziříčí - Nymburk 3:0 (12\,11\,17)
DTSTART;TZID=Europe/Berlin:20221016T110000
DTEND;TZID=Europe/Berlin:20221016T130000
LOCATION:ZŠ Komenského\, Komenského 1 Velké Meziříčí
SUMMARY:EX-U22M-1D: V. Meziříčí-Nymburk
END:VEVENT
BEGIN:VEVENT
UID:38313465-3634-4063-b930-613032623566
DTSTAMP:20260421T223118Z
DESCRIPTION:2/8 Kolín - Kojetín 2:3 (17\,18\,-22\,-18\,-14)
DTSTART;TZID=Europe/Berlin:20221016T130000
DTEND;TZID=Europe/Berlin:20221016T150000
LOCATION:ZŠ Komenského\, Komenského 1 Velké Meziříčí
SUMMARY:EX-U22M-1D: Kolín-Kojetín
END:VEVENT
BEGIN:VEVENT
UID:65303761-3731-4261-a430-336262626662
DTSTAMP:20260421T223118Z
DESCRIPTION:2/9 Lvi - Nymburk 3:0 (21\,23\,23)
DTSTART;TZID=Europe/Berlin:20221016T150000
DTEND;TZID=Europe/Berlin:20221016T170000
LOCATION:ZŠ Komenského\, Komenského 1 Velké Meziříčí
SUMMARY:EX-U22M-1D: Lvi-Nymburk
END:VEVENT
BEGIN:VEVENT
UID:33663464-6265-4837-a462-346635316338
DTSTAMP:20260421T223118Z
DESCRIPTION:2/10 Kolín - V. Meziříčí 3:0 (21\,20\,20)
DTSTART;TZID=Europe/Berlin:20221016T170000
DTEND;TZID=Europe/Berlin:20221016T190000
LOCATION:ZŠ Komenského\, Komenského 1 Velké Meziříčí
SUMMARY:EX-U22M-1D: Kolín-V. Meziříčí
END:VEVENT
END:VCALENDAR
