BEGIN:VCALENDAR
VERSION:2.0
PRODID:-//KV-U16M-B//NONSGML kigkonsult.se iCalcreator 2.41.80//
CALSCALE:GREGORIAN
UID:39353565-3437-4136-b137-326535666334
BEGIN:VEVENT
UID:63373866-6230-4334-b230-613435306466
DTSTAMP:20260422T075520Z
DESCRIPTION:1/1 Tělovýchovná jednota Baník Most\, z.s. - Jirkov 0:2 (-5\,-2
 1)
DTSTART;TZID=Europe/Berlin:20220925T090000
DTEND;TZID=Europe/Berlin:20220925T110000
LOCATION:14. ZŠ Most Rozmarýnová 1692
SUMMARY:KV-U16M-B: Tělovýchovná jednota Baník Most\, z.s.-Jirkov
END:VEVENT
BEGIN:VEVENT
UID:66626265-3031-4830-a138-663635626639
DTSTAMP:20260422T075520Z
DESCRIPTION:1/2 Klatovy - Sokolov 0:2 (-19\,-18)
DTSTART;TZID=Europe/Berlin:20220925T090000
DTEND;TZID=Europe/Berlin:20220925T110000
LOCATION:Sportovní hala ZŠ Čapkova\, Čapkova 136 Klatovy - Klatovy V
SUMMARY:KV-U16M-B: Klatovy-Sokolov
END:VEVENT
BEGIN:VEVENT
UID:39356437-3033-4132-b739-663462346532
DTSTAMP:20260422T075520Z
DESCRIPTION:1/3 Ústí n. L. - Sokolov 2:0 (9\,13)
DTSTART;TZID=Europe/Berlin:20220925T090000
DTEND;TZID=Europe/Berlin:20220925T110000
LOCATION:ZŠ Rabasova Rabasova 3282/3\, Ústí nad Labem 40011
SUMMARY:KV-U16M-B: Ústí n. L.-Sokolov
END:VEVENT
BEGIN:VEVENT
UID:62646665-6662-4534-b862-663862626633
DTSTAMP:20260422T075520Z
DESCRIPTION:1/4 Tělovýchovná jednota Baník Most\, z.s. - Klatovy 0:2 (-22\,
 -13)
DTSTART;TZID=Europe/Berlin:20220925T090000
DTEND;TZID=Europe/Berlin:20220925T110000
LOCATION:14. ZŠ Most Rozmarýnová 1692
SUMMARY:KV-U16M-B: Tělovýchovná jednota Baník Most\, z.s.-Klatovy
END:VEVENT
BEGIN:VEVENT
UID:39333131-3664-4464-b034-346466383061
DTSTAMP:20260422T075520Z
DESCRIPTION:1/5 Jirkov - Klatovy 2:0 (17\,11)
DTSTART;TZID=Europe/Berlin:20220925T090000
DTEND;TZID=Europe/Berlin:20220925T110000
LOCATION:sportovní hala MGZŠ Krušnohorská Krušnohorská 1675\, 431 11 Jirkov
SUMMARY:KV-U16M-B: Jirkov-Klatovy
END:VEVENT
BEGIN:VEVENT
UID:64376430-6661-4361-b732-666532633537
DTSTAMP:20260422T075520Z
DESCRIPTION:1/6 Ústí n. L. - Tělovýchovná jednota Baník Most\, z.s. 2:0 (16
 \,7)
DTSTART;TZID=Europe/Berlin:20220925T090000
DTEND;TZID=Europe/Berlin:20220925T110000
LOCATION:ZŠ Rabasova Rabasova 3282/3\, Ústí nad Labem 40011
SUMMARY:KV-U16M-B: Ústí n. L.-Tělovýchovná jednota Baník Most\, z.s.
END:VEVENT
BEGIN:VEVENT
UID:65653634-3431-4732-a566-613262396563
DTSTAMP:20260422T075520Z
DESCRIPTION:1/7 Sokolov - Tělovýchovná jednota Baník Most\, z.s. 1:1 (-20\,
 19)
DTSTART;TZID=Europe/Berlin:20220925T090000
DTEND;TZID=Europe/Berlin:20220925T110000
LOCATION:Jiskra\, Maxima Gorkého 280 Sokolov
SUMMARY:KV-U16M-B: Sokolov-Tělovýchovná jednota Baník Most\, z.s.
END:VEVENT
BEGIN:VEVENT
UID:61646231-3537-4930-b232-323066663130
DTSTAMP:20260422T075520Z
DESCRIPTION:1/8 Jirkov - Ústí n. L. 0:2 (-23\,-20)
DTSTART;TZID=Europe/Berlin:20220925T090000
DTEND;TZID=Europe/Berlin:20220925T110000
LOCATION:sportovní hala MGZŠ Krušnohorská Krušnohorská 1675\, 431 11 Jirkov
SUMMARY:KV-U16M-B: Jirkov-Ústí n. L.
END:VEVENT
BEGIN:VEVENT
UID:65333439-3736-4537-a530-363934376262
DTSTAMP:20260422T075520Z
DESCRIPTION:1/9 Klatovy - Ústí n. L. 0:2 (-18\,-14)
DTSTART;TZID=Europe/Berlin:20220925T090000
DTEND;TZID=Europe/Berlin:20220925T110000
LOCATION:Sportovní hala ZŠ Čapkova\, Čapkova 136 Klatovy - Klatovy V
SUMMARY:KV-U16M-B: Klatovy-Ústí n. L.
END:VEVENT
BEGIN:VEVENT
UID:31333930-6663-4437-b361-653461353866
DTSTAMP:20260422T075520Z
DESCRIPTION:1/10 Sokolov - Jirkov 0:2 (-4\,-16)
DTSTART;TZID=Europe/Berlin:20220925T090000
DTEND;TZID=Europe/Berlin:20220925T110000
LOCATION:Jiskra\, Maxima Gorkého 280 Sokolov
SUMMARY:KV-U16M-B: Sokolov-Jirkov
END:VEVENT
END:VCALENDAR
