BEGIN:VCALENDAR
VERSION:2.0
PRODID:-//KV-U16M-D//NONSGML kigkonsult.se iCalcreator 2.41.80//
CALSCALE:GREGORIAN
UID:35633737-6439-4036-b537-393337626165
BEGIN:VEVENT
UID:39326338-3838-4739-b537-656237373965
DTSTAMP:20260422T075522Z
DESCRIPTION:1/1 VK Litvínov\, z.s. - Volejbalový klub Teplice z.s. 1:2 (23\
 ,-12\,-6)
DTSTART;TZID=Europe/Berlin:20221009T090000
DTEND;TZID=Europe/Berlin:20221009T110000
LOCATION:Sportovní hala Litvínov U Koldomu 2049\, 436 01 Litvínov
SUMMARY:KV-U16M-D: VK Litvínov\, z.s.-Volejbalový klub Teplice z.s.
END:VEVENT
BEGIN:VEVENT
UID:33346436-3636-4238-a133-323766336464
DTSTAMP:20260422T075522Z
DESCRIPTION:1/2 Tělovýchovná jednota Baník Most\, z.s. - Klatovy 1:2 (21\,-
 9\,-7)
DTSTART;TZID=Europe/Berlin:20221009T090000
DTEND;TZID=Europe/Berlin:20221009T110000
LOCATION:14. ZŠ Most Rozmarýnová 1692
SUMMARY:KV-U16M-D: Tělovýchovná jednota Baník Most\, z.s.-Klatovy
END:VEVENT
BEGIN:VEVENT
UID:61393462-3931-4464-a163-356334376330
DTSTAMP:20260422T075522Z
DESCRIPTION:1/3 Sokolov - Klatovy 2:0 (21\,16)
DTSTART;TZID=Europe/Berlin:20221009T090000
DTEND;TZID=Europe/Berlin:20221009T110000
LOCATION:Jiskra\, Maxima Gorkého 280 Sokolov
SUMMARY:KV-U16M-D: Sokolov-Klatovy
END:VEVENT
BEGIN:VEVENT
UID:61366462-6263-4565-b732-636432366266
DTSTAMP:20260422T075522Z
DESCRIPTION:1/4 VK Litvínov\, z.s. - Tělovýchovná jednota Baník Most\, z.s.
  0:2 (-18\,-10)
DTSTART;TZID=Europe/Berlin:20221009T090000
DTEND;TZID=Europe/Berlin:20221009T110000
LOCATION:Sportovní hala Litvínov U Koldomu 2049\, 436 01 Litvínov
SUMMARY:KV-U16M-D: VK Litvínov\, z.s.-Tělovýchovná jednota Baník Most\, z.s
 .
END:VEVENT
BEGIN:VEVENT
UID:34336131-3661-4336-b261-323864373336
DTSTAMP:20260422T075522Z
DESCRIPTION:1/5 Volejbalový klub Teplice z.s. - Tělovýchovná jednota Baník 
 Most\, z.s. 2:0 (20\,19)
DTSTART;TZID=Europe/Berlin:20221009T090000
DTEND;TZID=Europe/Berlin:20221009T110000
LOCATION:ZŠ Edisonova Teplice\, Edisonova 1732 Teplice - Trnovany
SUMMARY:KV-U16M-D: Volejbalový klub Teplice z.s.-Tělovýchovná jednota Baník
  Most\, z.s.
END:VEVENT
BEGIN:VEVENT
UID:64376437-3630-4833-b839-353638616130
DTSTAMP:20260422T075522Z
DESCRIPTION:1/6 Sokolov - VK Litvínov\, z.s. 2:0 (12\,16)
DTSTART;TZID=Europe/Berlin:20221009T090000
DTEND;TZID=Europe/Berlin:20221009T110000
LOCATION:Jiskra\, Maxima Gorkého 280 Sokolov
SUMMARY:KV-U16M-D: Sokolov-VK Litvínov\, z.s.
END:VEVENT
BEGIN:VEVENT
UID:38323338-6262-4931-a566-626133646235
DTSTAMP:20260422T075522Z
DESCRIPTION:1/7 Klatovy - VK Litvínov\, z.s. 2:0 (16\,12)
DTSTART;TZID=Europe/Berlin:20221009T090000
DTEND;TZID=Europe/Berlin:20221009T110000
LOCATION:Sportovní hala ZŠ Čapkova\, Čapkova 136 Klatovy - Klatovy V
SUMMARY:KV-U16M-D: Klatovy-VK Litvínov\, z.s.
END:VEVENT
BEGIN:VEVENT
UID:37643465-6431-4461-b833-663131643333
DTSTAMP:20260422T075522Z
DESCRIPTION:1/8 Volejbalový klub Teplice z.s. - Sokolov 0:2 (-17\,-23)
DTSTART;TZID=Europe/Berlin:20221009T090000
DTEND;TZID=Europe/Berlin:20221009T110000
LOCATION:ZŠ Edisonova Teplice\, Edisonova 1732 Teplice - Trnovany
SUMMARY:KV-U16M-D: Volejbalový klub Teplice z.s.-Sokolov
END:VEVENT
BEGIN:VEVENT
UID:61343539-3162-4563-a361-616463373030
DTSTAMP:20260422T075522Z
DESCRIPTION:1/9 Tělovýchovná jednota Baník Most\, z.s. - Sokolov 0:2 (-11\,
 -20)
DTSTART;TZID=Europe/Berlin:20221009T090000
DTEND;TZID=Europe/Berlin:20221009T110000
LOCATION:14. ZŠ Most Rozmarýnová 1692
SUMMARY:KV-U16M-D: Tělovýchovná jednota Baník Most\, z.s.-Sokolov
END:VEVENT
BEGIN:VEVENT
UID:35656137-3732-4364-a266-653530393365
DTSTAMP:20260422T075522Z
DESCRIPTION:1/10 Klatovy - Volejbalový klub Teplice z.s. 2:0 (16\,22)
DTSTART;TZID=Europe/Berlin:20221009T090000
DTEND;TZID=Europe/Berlin:20221009T110000
LOCATION:Sportovní hala ZŠ Čapkova\, Čapkova 136 Klatovy - Klatovy V
SUMMARY:KV-U16M-D: Klatovy-Volejbalový klub Teplice z.s.
END:VEVENT
END:VCALENDAR
