BEGIN:VCALENDAR
VERSION:2.0
PRODID:-//KV-U16M-FF//NONSGML kigkonsult.se iCalcreator 2.41.80//
CALSCALE:GREGORIAN
UID:65626636-6439-4265-b565-343730376464
BEGIN:VEVENT
UID:30353761-3165-4761-a665-396164343832
DTSTAMP:20260422T075356Z
DESCRIPTION:1/1 Ústí n. L. - Jirkov 0:2 (-22\,-13)
DTSTART;TZID=Europe/Berlin:20230401T090000
DTEND;TZID=Europe/Berlin:20230401T110000
LOCATION:ZŠ Rabasova Rabasova 3282/3\, Ústí nad Labem 40011
SUMMARY:KV-U16M-FF: Ústí n. L.-Jirkov
END:VEVENT
BEGIN:VEVENT
UID:66623936-3562-4339-b963-376638613439
DTSTAMP:20260422T075356Z
DESCRIPTION:2/2 Karlovarsko - Sokolov 1:2 (19\,-14\,-9)
DTSTART;TZID=Europe/Berlin:20230401T090000
DTEND;TZID=Europe/Berlin:20230401T110000
LOCATION:Mattoni Arena Hala míčových sportů\, Západní 1812 Karlovy Vary
SUMMARY:KV-U16M-FF: Karlovarsko-Sokolov
END:VEVENT
BEGIN:VEVENT
UID:31336366-3466-4435-b136-346562633037
DTSTAMP:20260422T075356Z
DESCRIPTION:3/3 Plzeň - Klatovy 0:2 (-15\,-20)
DTSTART;TZID=Europe/Berlin:20230401T090000
DTEND;TZID=Europe/Berlin:20230401T110000
LOCATION:Bolevecká základní škola ( 18.ZŠ)\, náměstí Odboje 550 Plzeň - Bol
 evec
SUMMARY:KV-U16M-FF: Plzeň-Klatovy
END:VEVENT
BEGIN:VEVENT
UID:36666237-3239-4136-b131-623330643466
DTSTAMP:20260422T075356Z
DESCRIPTION:4/4 Tělovýchovná jednota Baník Most\, z.s. - Volejbal Aš - Klok
 ani z.s. 2:1 (24\,-22\,11)
DTSTART;TZID=Europe/Berlin:20230401T090000
DTEND;TZID=Europe/Berlin:20230401T110000
LOCATION:14. ZŠ Most Rozmarýnová 1692
SUMMARY:KV-U16M-FF: Tělovýchovná jednota Baník Most\, z.s.-Volejbal Aš - Kl
 okani z.s.
END:VEVENT
BEGIN:VEVENT
UID:65396163-6332-4264-b832-396639663032
DTSTAMP:20260422T075356Z
DESCRIPTION:5/5 Volejbalový klub Teplice z.s. - VK Litvínov\, z.s. 0:2 (-26
 \,-26)
DTSTART;TZID=Europe/Berlin:20230401T090000
DTEND;TZID=Europe/Berlin:20230401T110000
LOCATION:ZŠ Edisonova Teplice\, Edisonova 1732 Teplice - Trnovany
SUMMARY:KV-U16M-FF: Volejbalový klub Teplice z.s.-VK Litvínov\, z.s.
END:VEVENT
END:VCALENDAR
