BEGIN:VCALENDAR
VERSION:2.0
PRODID:-//ST-U16Z-S3A1//NONSGML kigkonsult.se iCalcreator 2.41.80//
CALSCALE:GREGORIAN
UID:64666539-3037-4339-a235-333433366339
BEGIN:VEVENT
UID:33303535-3233-4435-b332-626566633931
DTSTAMP:20260421T153300Z
DESCRIPTION:1/1 Kutná Hora - Pečky 0:2 (-22\,-18)\nPořadatel: TJ Sparta Kut
 ná Hora
DTSTART;TZID=Europe/Berlin:20221009T100000
DTEND;TZID=Europe/Berlin:20221009T120000
LOCATION:Klimeška\, Čáslavská 274 Kutná Hora - Karlov
SUMMARY:ST-U16Z-S3A1: Kutná Hora-Pečky
END:VEVENT
BEGIN:VEVENT
UID:34653336-6166-4937-a362-353536626466
DTSTAMP:20260421T153300Z
DESCRIPTION:1/2 Kolín B - Lysá nad Labem 0:2 (-14\,-17)\nPořadatel: 2 hřišt
 ě
DTSTART;TZID=Europe/Berlin:20221009T100000
DTEND;TZID=Europe/Berlin:20221009T120000
LOCATION:hala STAV\, SOŠ Kolín\, Brankovická 1417 Kolín - Kolín V
SUMMARY:ST-U16Z-S3A1: Kolín B-Lysá nad Labem
END:VEVENT
BEGIN:VEVENT
UID:39386232-3538-4431-b865-343466323536
DTSTAMP:20260421T153300Z
DESCRIPTION:1/3 Kolín A - Pečky 0:2 (-13\,-24)
DTSTART;TZID=Europe/Berlin:20221009T100000
DTEND;TZID=Europe/Berlin:20221009T120000
LOCATION:hala STAV\, SOŠ Kolín\, Brankovická 1417 Kolín - Kolín V
SUMMARY:ST-U16Z-S3A1: Kolín A-Pečky
END:VEVENT
BEGIN:VEVENT
UID:65343164-6136-4631-a138-336366333135
DTSTAMP:20260421T153300Z
DESCRIPTION:1/4 Kutná Hora - Lysá nad Labem 0:2 (-8\,-8)
DTSTART;TZID=Europe/Berlin:20221009T100000
DTEND;TZID=Europe/Berlin:20221009T120000
LOCATION:Klimeška\, Čáslavská 274 Kutná Hora - Karlov
SUMMARY:ST-U16Z-S3A1: Kutná Hora-Lysá nad Labem
END:VEVENT
BEGIN:VEVENT
UID:62393634-6666-4235-a339-613663626563
DTSTAMP:20260421T153300Z
DESCRIPTION:1/5 Kolín B - Pečky 0:2 (-19\,-17)
DTSTART;TZID=Europe/Berlin:20221009T100000
DTEND;TZID=Europe/Berlin:20221009T120000
LOCATION:hala STAV\, SOŠ Kolín\, Brankovická 1417 Kolín - Kolín V
SUMMARY:ST-U16Z-S3A1: Kolín B-Pečky
END:VEVENT
BEGIN:VEVENT
UID:34336133-6436-4230-a661-336135353438
DTSTAMP:20260421T153300Z
DESCRIPTION:1/6 Kolín A - Lysá nad Labem 0:2 (-23\,-11)
DTSTART;TZID=Europe/Berlin:20221009T100000
DTEND;TZID=Europe/Berlin:20221009T120000
LOCATION:hala STAV\, SOŠ Kolín\, Brankovická 1417 Kolín - Kolín V
SUMMARY:ST-U16Z-S3A1: Kolín A-Lysá nad Labem
END:VEVENT
BEGIN:VEVENT
UID:38396339-6136-4038-a134-333739636131
DTSTAMP:20260421T153300Z
DESCRIPTION:1/7 Kutná Hora - Kolín B 0:2 (-9\,-17)
DTSTART;TZID=Europe/Berlin:20221009T100000
DTEND;TZID=Europe/Berlin:20221009T120000
LOCATION:Klimeška\, Čáslavská 274 Kutná Hora - Karlov
SUMMARY:ST-U16Z-S3A1: Kutná Hora-Kolín B
END:VEVENT
BEGIN:VEVENT
UID:62663832-3833-4234-a431-666535663433
DTSTAMP:20260421T153300Z
DESCRIPTION:1/8 Benátky nad Jizerou - Mělník 2:0 (19\,11)\nPořadatel: VK Be
 nátky nad Jizerou
DTSTART;TZID=Europe/Berlin:20221009T100000
DTEND;TZID=Europe/Berlin:20221009T120000
LOCATION:Nibe aréna\, městská sportovní hala\, 5. května 746 Benátky nad Ji
 zerou - Benátky nad Jizerou II
SUMMARY:ST-U16Z-S3A1: Benátky nad Jizerou-Mělník
END:VEVENT
BEGIN:VEVENT
UID:62353530-3338-4239-a165-653539653937
DTSTAMP:20260421T153300Z
DESCRIPTION:1/9 AŠ Mladá Boleslav - VK Mladá Boleslav 0:2 (-24\,-24)\nPořad
 atel: 2 hřiště
DTSTART;TZID=Europe/Berlin:20221009T100000
DTEND;TZID=Europe/Berlin:20221009T120000
LOCATION:7. Základní škola\, Václavkova 1082 Mladá Boleslav - Mladá Bolesla
 v II
SUMMARY:ST-U16Z-S3A1: AŠ Mladá Boleslav-VK Mladá Boleslav
END:VEVENT
BEGIN:VEVENT
UID:31366536-3134-4337-a337-323332313863
DTSTAMP:20260421T153300Z
DESCRIPTION:1/10 Mělník - VK Mladá Boleslav 2:1 (25\,-21\,13)
DTSTART;TZID=Europe/Berlin:20221009T100000
DTEND;TZID=Europe/Berlin:20221009T120000
LOCATION:Tělocvična ZŠ J. Matiegky\, Pražská 2817 Mělník
SUMMARY:ST-U16Z-S3A1: Mělník-VK Mladá Boleslav
END:VEVENT
BEGIN:VEVENT
UID:30343163-3266-4935-b261-386132353362
DTSTAMP:20260421T153300Z
DESCRIPTION:1/11 Benátky nad Jizerou - AŠ Mladá Boleslav 2:0 (3\,20)
DTSTART;TZID=Europe/Berlin:20221009T100000
DTEND;TZID=Europe/Berlin:20221009T120000
LOCATION:Nibe aréna\, městská sportovní hala\, 5. května 746 Benátky nad Ji
 zerou - Benátky nad Jizerou II
SUMMARY:ST-U16Z-S3A1: Benátky nad Jizerou-AŠ Mladá Boleslav
END:VEVENT
BEGIN:VEVENT
UID:65663730-3132-4339-a539-623432633933
DTSTAMP:20260421T153300Z
DESCRIPTION:1/12 AŠ Mladá Boleslav - Mělník 2:0 (15\,13)
DTSTART;TZID=Europe/Berlin:20221009T100000
DTEND;TZID=Europe/Berlin:20221009T120000
LOCATION:7. Základní škola\, Václavkova 1082 Mladá Boleslav - Mladá Bolesla
 v II
SUMMARY:ST-U16Z-S3A1: AŠ Mladá Boleslav-Mělník
END:VEVENT
BEGIN:VEVENT
UID:65636637-3435-4439-b165-333663613038
DTSTAMP:20260421T153300Z
DESCRIPTION:1/13 VK Mladá Boleslav - Benátky nad Jizerou 0:2 (-9\,-26)
DTSTART;TZID=Europe/Berlin:20221009T100000
DTEND;TZID=Europe/Berlin:20221009T120000
LOCATION:7. Základní škola\, Václavkova 1082 Mladá Boleslav - Mladá Bolesla
 v II
SUMMARY:ST-U16Z-S3A1: VK Mladá Boleslav-Benátky nad Jizerou
END:VEVENT
BEGIN:VEVENT
UID:61633038-3035-4539-b463-343138343632
DTSTAMP:20260421T153300Z
DESCRIPTION:2/14 Mělník - Kolín A 0:2 (-14\,-23)\nPořadatel: TJ EMĚ Mělník
DTSTART;TZID=Europe/Berlin:20221023T100000
DTEND;TZID=Europe/Berlin:20221023T120000
LOCATION:Tělocvična ZŠ J. Matiegky\, Pražská 2817 Mělník
SUMMARY:ST-U16Z-S3A1: Mělník-Kolín A
END:VEVENT
BEGIN:VEVENT
UID:66623565-3837-4136-a366-333535333734
DTSTAMP:20260421T153300Z
DESCRIPTION:2/15 Benátky nad Jizerou - Kolín B 2:0 (16\,15)\nPořadatel: 2 h
 řiště
DTSTART;TZID=Europe/Berlin:20221023T100000
DTEND;TZID=Europe/Berlin:20221023T120000
LOCATION:Nibe aréna\, městská sportovní hala\, 5. května 746 Benátky nad Ji
 zerou - Benátky nad Jizerou II
SUMMARY:ST-U16Z-S3A1: Benátky nad Jizerou-Kolín B
END:VEVENT
BEGIN:VEVENT
UID:66306461-6663-4564-b636-643666313264
DTSTAMP:20260421T153300Z
DESCRIPTION:2/16 Kolín A - Kolín B 0:2 (-19\,-5)
DTSTART;TZID=Europe/Berlin:20221023T100000
DTEND;TZID=Europe/Berlin:20221023T120000
LOCATION:hala STAV\, SOŠ Kolín\, Brankovická 1417 Kolín - Kolín V
SUMMARY:ST-U16Z-S3A1: Kolín A-Kolín B
END:VEVENT
BEGIN:VEVENT
UID:61313631-3734-4133-b866-336139663461
DTSTAMP:20260421T153300Z
DESCRIPTION:2/17 Benátky nad Jizerou - Kutná Hora 2:0 (14\,10)
DTSTART;TZID=Europe/Berlin:20221023T100000
DTEND;TZID=Europe/Berlin:20221023T120000
LOCATION:Nibe aréna\, městská sportovní hala\, 5. května 746 Benátky nad Ji
 zerou - Benátky nad Jizerou II
SUMMARY:ST-U16Z-S3A1: Benátky nad Jizerou-Kutná Hora
END:VEVENT
BEGIN:VEVENT
UID:38643034-3864-4530-b134-313163396262
DTSTAMP:20260421T153300Z
DESCRIPTION:2/18 Mělník - Kolín B 2:1 (-16\,23\,7)
DTSTART;TZID=Europe/Berlin:20221023T100000
DTEND;TZID=Europe/Berlin:20221023T120000
LOCATION:Tělocvična ZŠ J. Matiegky\, Pražská 2817 Mělník
SUMMARY:ST-U16Z-S3A1: Mělník-Kolín B
END:VEVENT
BEGIN:VEVENT
UID:61656132-3162-4339-b536-313437623730
DTSTAMP:20260421T153300Z
DESCRIPTION:2/19 Benátky nad Jizerou - Kolín A 2:0 (19\,18)
DTSTART;TZID=Europe/Berlin:20221023T100000
DTEND;TZID=Europe/Berlin:20221023T120000
LOCATION:Nibe aréna\, městská sportovní hala\, 5. května 746 Benátky nad Ji
 zerou - Benátky nad Jizerou II
SUMMARY:ST-U16Z-S3A1: Benátky nad Jizerou-Kolín A
END:VEVENT
BEGIN:VEVENT
UID:64333136-3063-4933-b336-323030313866
DTSTAMP:20260421T153300Z
DESCRIPTION:2/20 Mělník - Kutná Hora 2:0 (19\,20)
DTSTART;TZID=Europe/Berlin:20221023T100000
DTEND;TZID=Europe/Berlin:20221023T120000
LOCATION:Tělocvična ZŠ J. Matiegky\, Pražská 2817 Mělník
SUMMARY:ST-U16Z-S3A1: Mělník-Kutná Hora
END:VEVENT
BEGIN:VEVENT
UID:61663366-3865-4839-a266-303663326463
DTSTAMP:20260421T153300Z
DESCRIPTION:2/21 Pečky - AŠ Mladá Boleslav 2:0 (24\,12)\nPořadatel: TJ Spar
 tak Pečky
DTSTART;TZID=Europe/Berlin:20221023T100000
DTEND;TZID=Europe/Berlin:20221023T120000
LOCATION:PARKHALA\,  Pečky1039
SUMMARY:ST-U16Z-S3A1: Pečky-AŠ Mladá Boleslav
END:VEVENT
BEGIN:VEVENT
UID:33366163-6662-4435-a130-613065346464
DTSTAMP:20260421T153300Z
DESCRIPTION:2/22 Lysá nad Labem - VK Mladá Boleslav 2:1 (-23\,19\,12)\nPořa
 datel: 1 hřiště
DTSTART;TZID=Europe/Berlin:20221023T100000
DTEND;TZID=Europe/Berlin:20221023T120000
LOCATION:Tělocvična ZŠ J.A.Komenského\, Komenského 1534 Lysá nad Labem
SUMMARY:ST-U16Z-S3A1: Lysá nad Labem-VK Mladá Boleslav
END:VEVENT
BEGIN:VEVENT
UID:63356263-3334-4663-a539-346365333534
DTSTAMP:20260421T153300Z
DESCRIPTION:2/23 AŠ Mladá Boleslav - Lysá nad Labem 0:2 (-25\,-15)
DTSTART;TZID=Europe/Berlin:20221023T100000
DTEND;TZID=Europe/Berlin:20221023T120000
LOCATION:7. Základní škola\, Václavkova 1082 Mladá Boleslav - Mladá Bolesla
 v II
SUMMARY:ST-U16Z-S3A1: AŠ Mladá Boleslav-Lysá nad Labem
END:VEVENT
BEGIN:VEVENT
UID:33626663-3131-4666-b136-366561306135
DTSTAMP:20260421T153300Z
DESCRIPTION:2/24 VK Mladá Boleslav - Pečky 0:2 (-15\,-11)
DTSTART;TZID=Europe/Berlin:20221023T100000
DTEND;TZID=Europe/Berlin:20221023T120000
LOCATION:7. Základní škola\, Václavkova 1082 Mladá Boleslav - Mladá Bolesla
 v II
SUMMARY:ST-U16Z-S3A1: VK Mladá Boleslav-Pečky
END:VEVENT
BEGIN:VEVENT
UID:65626261-3530-4466-a435-643136373435
DTSTAMP:20260421T153300Z
DESCRIPTION:2/25 Pečky - Lysá nad Labem 0:2 (-18\,-22)
DTSTART;TZID=Europe/Berlin:20221023T100000
DTEND;TZID=Europe/Berlin:20221023T120000
LOCATION:PARKHALA\,  Pečky1039
SUMMARY:ST-U16Z-S3A1: Pečky-Lysá nad Labem
END:VEVENT
BEGIN:VEVENT
UID:30366530-3831-4131-b666-323330643566
DTSTAMP:20260421T153300Z
DESCRIPTION:3/26 AŠ Mladá Boleslav - Kolín A 2:1 (17\,-22\,14)\nPořadatel: 
 TJ AŠ Mladá Boleslav
DTSTART;TZID=Europe/Berlin:20221106T100000
DTEND;TZID=Europe/Berlin:20221106T120000
LOCATION:7. Základní škola\, Václavkova 1082 Mladá Boleslav - Mladá Bolesla
 v II
SUMMARY:ST-U16Z-S3A1: AŠ Mladá Boleslav-Kolín A
END:VEVENT
BEGIN:VEVENT
UID:35623032-3938-4535-a261-383761396530
DTSTAMP:20260421T153300Z
DESCRIPTION:3/27 VK Mladá Boleslav - Kutná Hora 2:0 (6\,17)\nPořadatel: 2 h
 řiště
DTSTART;TZID=Europe/Berlin:20221106T100000
DTEND;TZID=Europe/Berlin:20221106T120000
LOCATION:7. Základní škola\, Václavkova 1082 Mladá Boleslav - Mladá Bolesla
 v II
SUMMARY:ST-U16Z-S3A1: VK Mladá Boleslav-Kutná Hora
END:VEVENT
BEGIN:VEVENT
UID:33376434-3133-4265-b262-373236643264
DTSTAMP:20260421T153300Z
DESCRIPTION:3/28 Kolín A - Kutná Hora 2:0 (17\,22)
DTSTART;TZID=Europe/Berlin:20221106T100000
DTEND;TZID=Europe/Berlin:20221106T120000
LOCATION:hala STAV\, SOŠ Kolín\, Brankovická 1417 Kolín - Kolín V
SUMMARY:ST-U16Z-S3A1: Kolín A-Kutná Hora
END:VEVENT
BEGIN:VEVENT
UID:64396633-6666-4165-b234-646539303631
DTSTAMP:20260421T153300Z
DESCRIPTION:3/29 VK Mladá Boleslav - Kolín B 2:1 (15\,-20\,10)
DTSTART;TZID=Europe/Berlin:20221106T100000
DTEND;TZID=Europe/Berlin:20221106T120000
LOCATION:7. Základní škola\, Václavkova 1082 Mladá Boleslav - Mladá Bolesla
 v II
SUMMARY:ST-U16Z-S3A1: VK Mladá Boleslav-Kolín B
END:VEVENT
BEGIN:VEVENT
UID:61323439-6133-4237-a433-343531336464
DTSTAMP:20260421T153300Z
DESCRIPTION:3/30 AŠ Mladá Boleslav - Kutná Hora 2:0 (21\,9)
DTSTART;TZID=Europe/Berlin:20221106T100000
DTEND;TZID=Europe/Berlin:20221106T120000
LOCATION:7. Základní škola\, Václavkova 1082 Mladá Boleslav - Mladá Bolesla
 v II
SUMMARY:ST-U16Z-S3A1: AŠ Mladá Boleslav-Kutná Hora
END:VEVENT
BEGIN:VEVENT
UID:36653266-6339-4837-a162-393132353135
DTSTAMP:20260421T153300Z
DESCRIPTION:3/31 VK Mladá Boleslav - Kolín A 0:2 (-14\,-12)
DTSTART;TZID=Europe/Berlin:20221106T100000
DTEND;TZID=Europe/Berlin:20221106T120000
LOCATION:7. Základní škola\, Václavkova 1082 Mladá Boleslav - Mladá Bolesla
 v II
SUMMARY:ST-U16Z-S3A1: VK Mladá Boleslav-Kolín A
END:VEVENT
BEGIN:VEVENT
UID:35323238-6138-4239-a266-623031626134
DTSTAMP:20260421T153300Z
DESCRIPTION:3/32 AŠ Mladá Boleslav - Kolín B 2:0 (15\,14)
DTSTART;TZID=Europe/Berlin:20221106T100000
DTEND;TZID=Europe/Berlin:20221106T120000
LOCATION:7. Základní škola\, Václavkova 1082 Mladá Boleslav - Mladá Bolesla
 v II
SUMMARY:ST-U16Z-S3A1: AŠ Mladá Boleslav-Kolín B
END:VEVENT
BEGIN:VEVENT
UID:63633162-3134-4036-a534-656163643933
DTSTAMP:20260421T153300Z
DESCRIPTION:3/33 Pečky - Benátky nad Jizerou 0:2 (-18\,-21)\nPořadatel: TJ 
 Spartak Pečky
DTSTART;TZID=Europe/Berlin:20221106T100000
DTEND;TZID=Europe/Berlin:20221106T120000
LOCATION:PARKHALA\,  Pečky1039
SUMMARY:ST-U16Z-S3A1: Pečky-Benátky nad Jizerou
END:VEVENT
BEGIN:VEVENT
UID:34633761-3836-4431-b936-333264346337
DTSTAMP:20260421T153300Z
DESCRIPTION:3/34 Lysá nad Labem - Mělník 2:0 (9\,18)\nPořadatel: 1 hřiště
DTSTART;TZID=Europe/Berlin:20221106T100000
DTEND;TZID=Europe/Berlin:20221106T120000
LOCATION:Tělocvična ZŠ J.A.Komenského\, Komenského 1534 Lysá nad Labem
SUMMARY:ST-U16Z-S3A1: Lysá nad Labem-Mělník
END:VEVENT
BEGIN:VEVENT
UID:63636130-3530-4437-a461-396232333738
DTSTAMP:20260421T153300Z
DESCRIPTION:3/35 Benátky nad Jizerou - Lysá nad Labem 2:1 (-19\,19\,11)
DTSTART;TZID=Europe/Berlin:20221106T100000
DTEND;TZID=Europe/Berlin:20221106T120000
LOCATION:Nibe aréna\, městská sportovní hala\, 5. května 746 Benátky nad Ji
 zerou - Benátky nad Jizerou II
SUMMARY:ST-U16Z-S3A1: Benátky nad Jizerou-Lysá nad Labem
END:VEVENT
BEGIN:VEVENT
UID:31303862-6133-4234-b439-656664333833
DTSTAMP:20260421T153300Z
DESCRIPTION:3/36 Mělník - Pečky 0:2 (-15\,-22)
DTSTART;TZID=Europe/Berlin:20221106T100000
DTEND;TZID=Europe/Berlin:20221106T120000
LOCATION:Tělocvična ZŠ J. Matiegky\, Pražská 2817 Mělník
SUMMARY:ST-U16Z-S3A1: Mělník-Pečky
END:VEVENT
END:VCALENDAR
