BEGIN:VCALENDAR
VERSION:2.0
PRODID:-//CP-U16M-Z1F//NONSGML kigkonsult.se iCalcreator 2.41.80//
CALSCALE:GREGORIAN
UID:38303863-6437-4965-b435-643862306633
BEGIN:VEVENT
UID:39393238-3232-4337-b836-333936663038
DTSTAMP:20260421T090641Z
DESCRIPTION:1/1 VK SPORT Rychnov nad Kněžnou\, z.s. - Tělovýchovná jednota 
 Jiskra Havlíčkův Brod z.s. 2:0 (23\,20)
DTSTART;TZID=Europe/Berlin:20221015T113000
DTEND;TZID=Europe/Berlin:20221015T133000
LOCATION:Hala VOŠ a SPŠS\, U Stadionu 1166 Rychnov nad Kněžnou
SUMMARY:CP-U16M-Z1F: VK SPORT Rychnov nad Kněžnou\, z.s.-Tělovýchovná jedno
 ta Jiskra Havlíčkův Brod z.s.
END:VEVENT
BEGIN:VEVENT
UID:62666630-3864-4465-a631-656433656135
DTSTAMP:20260421T090641Z
DESCRIPTION:2/2 TJ Slavia HK - VK Dukla Liberec 2:0 (14\,21)
DTSTART;TZID=Europe/Berlin:20221015T123000
DTEND;TZID=Europe/Berlin:20221015T143000
LOCATION:TJ Slavia Hradec Králové\, Víta Nejedlého 1216 Hradec Králové
SUMMARY:CP-U16M-Z1F: TJ Slavia HK-VK Dukla Liberec
END:VEVENT
BEGIN:VEVENT
UID:30306335-3061-4463-a465-653963303664
DTSTAMP:20260421T090641Z
DESCRIPTION:3/3 Tělovýchovná jednota Jiskra Havlíčkův Brod z.s. - VK Dukla 
 Liberec 2:0 (5\,15)
DTSTART;TZID=Europe/Berlin:20221015T133000
DTEND;TZID=Europe/Berlin:20221015T153000
LOCATION:Sportovní hala TJ Jiskra\, Ledečská 3028 Havlíčkův Brod
SUMMARY:CP-U16M-Z1F: Tělovýchovná jednota Jiskra Havlíčkův Brod z.s.-VK Duk
 la Liberec
END:VEVENT
BEGIN:VEVENT
UID:31616261-3364-4933-b736-306132393736
DTSTAMP:20260421T090641Z
DESCRIPTION:4/4 VK SPORT Rychnov nad Kněžnou\, z.s. - TJ Slavia HK 2:1 (-15
 \,23\,11)
DTSTART;TZID=Europe/Berlin:20221015T143000
DTEND;TZID=Europe/Berlin:20221015T163000
LOCATION:Hala VOŠ a SPŠS\, U Stadionu 1166 Rychnov nad Kněžnou
SUMMARY:CP-U16M-Z1F: VK SPORT Rychnov nad Kněžnou\, z.s.-TJ Slavia HK
END:VEVENT
BEGIN:VEVENT
UID:61376237-3233-4665-a236-323534316637
DTSTAMP:20260421T090641Z
DESCRIPTION:5/5 TJ Slavia HK - Tělovýchovná jednota Jiskra Havlíčkův Brod z
 .s. 1:2 (20\,-19\,-7)
DTSTART;TZID=Europe/Berlin:20221015T153000
DTEND;TZID=Europe/Berlin:20221015T173000
LOCATION:TJ Slavia Hradec Králové\, Víta Nejedlého 1216 Hradec Králové
SUMMARY:CP-U16M-Z1F: TJ Slavia HK-Tělovýchovná jednota Jiskra Havlíčkův Bro
 d z.s.
END:VEVENT
BEGIN:VEVENT
UID:63363431-3032-4139-b033-646433323632
DTSTAMP:20260421T090641Z
DESCRIPTION:6/6 VK Dukla Liberec - VK SPORT Rychnov nad Kněžnou\, z.s. 0:2 
 (-11\,-20)
DTSTART;TZID=Europe/Berlin:20221015T163000
DTEND;TZID=Europe/Berlin:20221015T183000
LOCATION:Dukla Liberec\, Jeronýmova 558 Liberec - Liberec VII-Horní Růžodol
SUMMARY:CP-U16M-Z1F: VK Dukla Liberec-VK SPORT Rychnov nad Kněžnou\, z.s.
END:VEVENT
END:VCALENDAR
