BEGIN:VCALENDAR
VERSION:2.0
PRODID:-//EX-U18Z-3D//NONSGML kigkonsult.se iCalcreator 2.41.80//
CALSCALE:GREGORIAN
UID:37323861-6663-4139-b431-363335393331
BEGIN:VEVENT
UID:34363466-6665-4834-b665-613531373334
DTSTAMP:20260421T210112Z
DESCRIPTION:13/1 Mikulova - Nové Veselí 1:3 (-18\,22\,-21\,-19)
DTSTART;TZID=Europe/Berlin:20221104T190000
DTEND;TZID=Europe/Berlin:20221104T210000
LOCATION:Sportovní hala \, Tyršova 794 Chotěboř
SUMMARY:EX-U18Z-3D: Mikulova-Nové Veselí
END:VEVENT
BEGIN:VEVENT
UID:31333333-6566-4133-a332-393161373561
DTSTAMP:20260421T210112Z
DESCRIPTION:14/2 Šternberk - Frýdek - Místek 1:3 (21\,-16\,-25\,-17)\nNH: h
 ala UP Olomouc
DTSTART;TZID=Europe/Berlin:20221104T163000
DTEND;TZID=Europe/Berlin:20221104T183000
LOCATION:Sportovní hala \, Tyršova 794 Chotěboř
SUMMARY:EX-U18Z-3D: Šternberk-Frýdek - Místek
END:VEVENT
BEGIN:VEVENT
UID:61333764-6535-4561-b564-613236346361
DTSTAMP:20260421T210112Z
DESCRIPTION:15/3 Nové Veselí - Šternberk 0:3 (-10\,-15\,-17)
DTSTART;TZID=Europe/Berlin:20221105T180000
DTEND;TZID=Europe/Berlin:20221105T200000
LOCATION:Sportovní hala \, Tyršova 794 Chotěboř
SUMMARY:EX-U18Z-3D: Nové Veselí-Šternberk
END:VEVENT
BEGIN:VEVENT
UID:63663962-6332-4535-a361-656436303238
DTSTAMP:20260421T210112Z
DESCRIPTION:16/4 Mikulova - Frýdek - Místek 0:3 (-23\,-8\,-5)
DTSTART;TZID=Europe/Berlin:20221105T160000
DTEND;TZID=Europe/Berlin:20221105T180000
LOCATION:Sportovní hala \, Tyršova 794 Chotěboř
SUMMARY:EX-U18Z-3D: Mikulova-Frýdek - Místek
END:VEVENT
BEGIN:VEVENT
UID:64326261-6431-4636-b365-623832666236
DTSTAMP:20260421T210112Z
DESCRIPTION:17/5 Frýdek - Místek - Nové Veselí 3:0 (14\,16\,8)
DTSTART;TZID=Europe/Berlin:20221105T130000
DTEND;TZID=Europe/Berlin:20221105T150000
LOCATION:Sportovní hala \, Tyršova 794 Chotěboř
SUMMARY:EX-U18Z-3D: Frýdek - Místek-Nové Veselí
END:VEVENT
BEGIN:VEVENT
UID:66316438-3964-4738-b130-373666306463
DTSTAMP:20260421T210112Z
DESCRIPTION:18/6 Šternberk - Mikulova 3:2 (-23\,-22\,21\,23\,9)
DTSTART;TZID=Europe/Berlin:20221105T110000
DTEND;TZID=Europe/Berlin:20221105T130000
LOCATION:Sportovní hala \, Tyršova 794 Chotěboř
SUMMARY:EX-U18Z-3D: Šternberk-Mikulova
END:VEVENT
END:VCALENDAR
