BEGIN:VCALENDAR
VERSION:2.0
PRODID:-//EX-U20Z-3B//NONSGML kigkonsult.se iCalcreator 2.41.80//
CALSCALE:GREGORIAN
UID:61393765-3964-4561-b539-653236356637
BEGIN:VEVENT
UID:62346366-3239-4231-b166-663165366332
DTSTAMP:20260421T145503Z
DESCRIPTION:13/1 Ostrava - Frýdek - Místek 3:0 (21\,22\,20)\nNH: Gajdošova 
 16
DTSTART;TZID=Europe/Berlin:20221111T160000
DTEND;TZID=Europe/Berlin:20221111T180000
LOCATION:Hala míčových sportů\, Varenská 3098 Ostrava - Moravská Ostrava
SUMMARY:EX-U20Z-3B: Ostrava-Frýdek - Místek
END:VEVENT
BEGIN:VEVENT
UID:33393837-3539-4239-b633-623934333466
DTSTAMP:20260421T145503Z
DESCRIPTION:14/2 Prostějov - Přerov 3:0 (19\,16\,23)\nNH: Nová Bělá\, Krmel
 ínská 750/303
DTSTART;TZID=Europe/Berlin:20221112T130000
DTEND;TZID=Europe/Berlin:20221112T150000
LOCATION:Hala míčových sportů\, Varenská 3098 Ostrava - Moravská Ostrava
SUMMARY:EX-U20Z-3B: Prostějov-Přerov
END:VEVENT
BEGIN:VEVENT
UID:34616639-6134-4333-b763-393865356537
DTSTAMP:20260421T145503Z
DESCRIPTION:15/3 Frýdek - Místek - Přerov 3:2 (-21\,-10\,23\,14\,6)\nNH: No
 vá Bělá\, Krmelínská 750/303
DTSTART;TZID=Europe/Berlin:20221112T100000
DTEND;TZID=Europe/Berlin:20221112T120000
LOCATION:Hala míčových sportů\, Varenská 3098 Ostrava - Moravská Ostrava
SUMMARY:EX-U20Z-3B: Frýdek - Místek-Přerov
END:VEVENT
BEGIN:VEVENT
UID:34643966-3166-4133-b361-623566396438
DTSTAMP:20260421T145503Z
DESCRIPTION:16/4 Ostrava - Prostějov 0:3 (-21\,-13\,-22)
DTSTART;TZID=Europe/Berlin:20221113T130000
DTEND;TZID=Europe/Berlin:20221113T150000
LOCATION:Hala míčových sportů\, Varenská 3098 Ostrava - Moravská Ostrava
SUMMARY:EX-U20Z-3B: Ostrava-Prostějov
END:VEVENT
BEGIN:VEVENT
UID:39653931-3064-4366-b237-366630633634
DTSTAMP:20260421T145503Z
DESCRIPTION:17/5 Prostějov - Frýdek - Místek 3:0 (16\,14\,16)\nNH: Nová Běl
 á\, Krmelínská 750/303
DTSTART;TZID=Europe/Berlin:20221112T160000
DTEND;TZID=Europe/Berlin:20221112T180000
LOCATION:Hala míčových sportů\, Varenská 3098 Ostrava - Moravská Ostrava
SUMMARY:EX-U20Z-3B: Prostějov-Frýdek - Místek
END:VEVENT
BEGIN:VEVENT
UID:65663934-3739-4939-b339-363964626633
DTSTAMP:20260421T145503Z
DESCRIPTION:18/6 Přerov - Ostrava 0:3 (-19\,-15\,-21)
DTSTART;TZID=Europe/Berlin:20221113T100000
DTEND;TZID=Europe/Berlin:20221113T120000
LOCATION:Hala míčových sportů\, Varenská 3098 Ostrava - Moravská Ostrava
SUMMARY:EX-U20Z-3B: Přerov-Ostrava
END:VEVENT
END:VCALENDAR
