BEGIN:VCALENDAR
VERSION:2.0
PRODID:-//JM-U18Z-IA//NONSGML kigkonsult.se iCalcreator 2.41.80//
CALSCALE:GREGORIAN
UID:35306266-6661-4234-b365-323765623934
BEGIN:VEVENT
UID:39333734-6336-4333-a431-386338663661
DTSTAMP:20260425T035513Z
DESCRIPTION:1/1 TJ JUNIOR Brno\, z.s. - VK Brno\, Vejrostova 2:1 (-21\,23\,
 15)
DTSTART;TZID=Europe/Berlin:20221113T090000
DTEND;TZID=Europe/Berlin:20221113T110000
LOCATION:tělocvičny ZŠ Novolíšeňská\, Brno\, Novolíšeňská 2411 Brno - Líšeň
SUMMARY:JM-U18Z-IA: TJ JUNIOR Brno\, z.s.-VK Brno\, Vejrostova
END:VEVENT
BEGIN:VEVENT
UID:34663964-3461-4431-a264-303434646562
DTSTAMP:20260425T035513Z
DESCRIPTION:2/2 Břeclav - VOLEJBAL VYŠKOV\, z.s. 0:2 (-12\,-20)
DTSTART;TZID=Europe/Berlin:20221113T103000
DTEND;TZID=Europe/Berlin:20221113T123000
LOCATION:TJ Lokomotiva Břeclav\, Veslařská 2753 Břeclav
SUMMARY:JM-U18Z-IA: Břeclav-VOLEJBAL VYŠKOV\, z.s.
END:VEVENT
BEGIN:VEVENT
UID:32373637-3539-4465-a563-313664663366
DTSTAMP:20260425T035513Z
DESCRIPTION:3/3 VK Brno\, Vejrostova - VOLEJBAL VYŠKOV\, z.s. 1:2 (20\,-22\
 ,-8)
DTSTART;TZID=Europe/Berlin:20221113T114500
DTEND;TZID=Europe/Berlin:20221113T134500
LOCATION:ZŠ Vejrostova\, Vejrostova 1066 Brno - Bystrc
SUMMARY:JM-U18Z-IA: VK Brno\, Vejrostova-VOLEJBAL VYŠKOV\, z.s.
END:VEVENT
BEGIN:VEVENT
UID:37666561-3630-4532-b532-306363613866
DTSTAMP:20260425T035513Z
DESCRIPTION:4/4 TJ JUNIOR Brno\, z.s. - Břeclav 0:2 (-16\,-11)
DTSTART;TZID=Europe/Berlin:20221113T130000
DTEND;TZID=Europe/Berlin:20221113T150000
LOCATION:tělocvičny ZŠ Novolíšeňská\, Brno\, Novolíšeňská 2411 Brno - Líšeň
SUMMARY:JM-U18Z-IA: TJ JUNIOR Brno\, z.s.-Břeclav
END:VEVENT
BEGIN:VEVENT
UID:32393534-3065-4464-b466-326536366630
DTSTAMP:20260425T035513Z
DESCRIPTION:5/5 Břeclav - VK Brno\, Vejrostova 2:0 (14\,23)
DTSTART;TZID=Europe/Berlin:20221113T141500
DTEND;TZID=Europe/Berlin:20221113T161500
LOCATION:TJ Lokomotiva Břeclav\, Veslařská 2753 Břeclav
SUMMARY:JM-U18Z-IA: Břeclav-VK Brno\, Vejrostova
END:VEVENT
BEGIN:VEVENT
UID:32313061-6637-4862-b564-626433316666
DTSTAMP:20260425T035513Z
DESCRIPTION:6/6 VOLEJBAL VYŠKOV\, z.s. - TJ JUNIOR Brno\, z.s. 2:0 (16\,23)
DTSTART;TZID=Europe/Berlin:20221113T153000
DTEND;TZID=Europe/Berlin:20221113T173000
LOCATION:Tělocvična ZŠ Nádražní\, Nádražní 5 Vyškov - Vyškov-Město
SUMMARY:JM-U18Z-IA: VOLEJBAL VYŠKOV\, z.s.-TJ JUNIOR Brno\, z.s.
END:VEVENT
END:VCALENDAR
