BEGIN:VCALENDAR
VERSION:2.0
PRODID:-//OLK-U20Z-6//NONSGML kigkonsult.se iCalcreator 2.41.80//
CALSCALE:GREGORIAN
UID:66356563-3064-4635-b035-326361643939
BEGIN:VEVENT
UID:33393333-3733-4034-b033-376235656432
DTSTAMP:20260424T231157Z
DESCRIPTION:1/1 Tělocvičná jednota Sokol Mohelnice - TJ Šumperk 0:3 (-17\,-
 14\,-21)
DTSTART;TZID=Europe/Berlin:20230319T100000
DTEND;TZID=Europe/Berlin:20230319T120000
LOCATION:Hala ZŠ Loštice\, Komenského 17 Loštice
SUMMARY:OLK-U20Z-6: Tělocvičná jednota Sokol Mohelnice-TJ Šumperk
END:VEVENT
BEGIN:VEVENT
UID:62653034-6132-4430-a135-653835653730
DTSTAMP:20260424T231157Z
DESCRIPTION:2/2 TJ Šumperk - Prostějov B 3:0 (17\,22\,16)
DTSTART;TZID=Europe/Berlin:20230319T120000
DTEND;TZID=Europe/Berlin:20230319T140000
LOCATION:Hala ZŠ Loštice\, Komenského 17 Loštice
SUMMARY:OLK-U20Z-6: TJ Šumperk-Prostějov B
END:VEVENT
BEGIN:VEVENT
UID:65326665-3066-4532-a637-333863623633
DTSTAMP:20260424T231157Z
DESCRIPTION:3/3 Prostějov B - Tělocvičná jednota Sokol Mohelnice 0:3 (-19\,
 -17\,-23)
DTSTART;TZID=Europe/Berlin:20230319T140000
DTEND;TZID=Europe/Berlin:20230319T160000
LOCATION:Hala ZŠ Loštice\, Komenského 17 Loštice
SUMMARY:OLK-U20Z-6: Prostějov B-Tělocvičná jednota Sokol Mohelnice
END:VEVENT
END:VCALENDAR
