BEGIN:VCALENDAR
VERSION:2.0
PRODID:-//MS-U14Z-T2C//NONSGML kigkonsult.se iCalcreator 2.41.80//
CALSCALE:GREGORIAN
UID:33396562-3638-4239-b834-316339666636
BEGIN:VEVENT
UID:39396364-6436-4964-a435-393634323836
DTSTAMP:20260421T210034Z
DESCRIPTION:1/1 SVK Nový Jičín  B - SVK Nový Jičín C 2:0 (21\,17)
DTSTART;TZID=Europe/Berlin:20221210T090000
DTEND;TZID=Europe/Berlin:20221210T110000
LOCATION:Hala ABC\, Purkyňova 116 Nový Jičín
SUMMARY:MS-U14Z-T2C: SVK Nový Jičín  B-SVK Nový Jičín C
END:VEVENT
BEGIN:VEVENT
UID:30303839-3465-4166-b530-643733393633
DTSTAMP:20260421T210034Z
DESCRIPTION:2/2 VO Slezská Orlice - VK Karviná\, z.s. 2:0 (20\,25)
DTSTART;TZID=Europe/Berlin:20221210T100000
DTEND;TZID=Europe/Berlin:20221210T120000
LOCATION:Hala ABC\, Purkyňova 116 Nový Jičín
SUMMARY:MS-U14Z-T2C: VO Slezská Orlice-VK Karviná\, z.s.
END:VEVENT
BEGIN:VEVENT
UID:34363462-3364-4565-a331-303130613962
DTSTAMP:20260421T210034Z
DESCRIPTION:3/3 SVK Nový Jičín C - VK Karviná\, z.s. 0:2 (-13\,-16)
DTSTART;TZID=Europe/Berlin:20221210T110000
DTEND;TZID=Europe/Berlin:20221210T130000
LOCATION:Hala ABC\, Purkyňova 116 Nový Jičín
SUMMARY:MS-U14Z-T2C: SVK Nový Jičín C-VK Karviná\, z.s.
END:VEVENT
BEGIN:VEVENT
UID:39363864-3538-4435-b961-653861623434
DTSTAMP:20260421T210034Z
DESCRIPTION:4/4 SVK Nový Jičín  B - VO Slezská Orlice 0:2 (-23\,-24)
DTSTART;TZID=Europe/Berlin:20221210T120000
DTEND;TZID=Europe/Berlin:20221210T140000
LOCATION:Hala ABC\, Purkyňova 116 Nový Jičín
SUMMARY:MS-U14Z-T2C: SVK Nový Jičín  B-VO Slezská Orlice
END:VEVENT
BEGIN:VEVENT
UID:62663437-3236-4263-a331-383838376535
DTSTAMP:20260421T210034Z
DESCRIPTION:5/5 VO Slezská Orlice - SVK Nový Jičín C 2:0 (17\,23)
DTSTART;TZID=Europe/Berlin:20221210T130000
DTEND;TZID=Europe/Berlin:20221210T150000
LOCATION:Hala ABC\, Purkyňova 116 Nový Jičín
SUMMARY:MS-U14Z-T2C: VO Slezská Orlice-SVK Nový Jičín C
END:VEVENT
BEGIN:VEVENT
UID:37636537-6635-4033-b862-373634336633
DTSTAMP:20260421T210034Z
DESCRIPTION:6/6 VK Karviná\, z.s. - SVK Nový Jičín  B 2:0 (24\,20)
DTSTART;TZID=Europe/Berlin:20221210T140000
DTEND;TZID=Europe/Berlin:20221210T160000
LOCATION:Hala ABC\, Purkyňova 116 Nový Jičín
SUMMARY:MS-U14Z-T2C: VK Karviná\, z.s.-SVK Nový Jičín  B
END:VEVENT
END:VCALENDAR
