BEGIN:VCALENDAR
VERSION:2.0
PRODID:-//MS-U14Z-T2D//NONSGML kigkonsult.se iCalcreator 2.41.80//
CALSCALE:GREGORIAN
UID:65336332-3565-4637-b561-393038376437
BEGIN:VEVENT
UID:35396462-6132-4366-b866-303162306463
DTSTAMP:20260421T210101Z
DESCRIPTION:1/1 TJ Sokol Frýdek - Místek A - TJ Ostrava 2:1 (14\,-17\,11)
DTSTART;TZID=Europe/Berlin:20221210T090000
DTEND;TZID=Europe/Berlin:20221210T110000
LOCATION:tělocvična 11.ZŠ Frýdek-Místek\, Jiřího z Poděbrad 3109 Frýdek-Mís
 tek - Frýdek
SUMMARY:MS-U14Z-T2D: TJ Sokol Frýdek - Místek A-TJ Ostrava
END:VEVENT
BEGIN:VEVENT
UID:35666137-6463-4738-b230-643831316164
DTSTAMP:20260421T210101Z
DESCRIPTION:2/2 TJ Sokol Frýdek - Místek B - TJ Sokol Vratimov 2:0 (8\,11)
DTSTART;TZID=Europe/Berlin:20221210T090000
DTEND;TZID=Europe/Berlin:20221210T110000
LOCATION:tělocvična 11.ZŠ Frýdek-Místek\, Jiřího z Poděbrad 3109 Frýdek-Mís
 tek - Frýdek
SUMMARY:MS-U14Z-T2D: TJ Sokol Frýdek - Místek B-TJ Sokol Vratimov
END:VEVENT
BEGIN:VEVENT
UID:34626662-3834-4631-b437-653333343865
DTSTAMP:20260421T210101Z
DESCRIPTION:3/3 TJ Ostrava - TJ Sokol Vratimov 2:1 (-15\,11\,8)
DTSTART;TZID=Europe/Berlin:20221210T103000
DTEND;TZID=Europe/Berlin:20221210T123000
LOCATION:tělocvična 11.ZŠ Frýdek-Místek\, Jiřího z Poděbrad 3109 Frýdek-Mís
 tek - Frýdek
SUMMARY:MS-U14Z-T2D: TJ Ostrava-TJ Sokol Vratimov
END:VEVENT
BEGIN:VEVENT
UID:33303231-3139-4037-a562-323165306164
DTSTAMP:20260421T210101Z
DESCRIPTION:4/4 TJ Sokol Frýdek - Místek A - TJ Sokol Frýdek - Místek B 2:1
  (-20\,26\,13)
DTSTART;TZID=Europe/Berlin:20221210T103000
DTEND;TZID=Europe/Berlin:20221210T123000
LOCATION:tělocvična 11.ZŠ Frýdek-Místek\, Jiřího z Poděbrad 3109 Frýdek-Mís
 tek - Frýdek
SUMMARY:MS-U14Z-T2D: TJ Sokol Frýdek - Místek A-TJ Sokol Frýdek - Místek B
END:VEVENT
BEGIN:VEVENT
UID:31666666-3034-4162-b162-623765316262
DTSTAMP:20260421T210101Z
DESCRIPTION:5/5 TJ Sokol Frýdek - Místek B - TJ Ostrava 2:0 (22\,14)
DTSTART;TZID=Europe/Berlin:20221210T120000
DTEND;TZID=Europe/Berlin:20221210T140000
LOCATION:tělocvična 11.ZŠ Frýdek-Místek\, Jiřího z Poděbrad 3109 Frýdek-Mís
 tek - Frýdek
SUMMARY:MS-U14Z-T2D: TJ Sokol Frýdek - Místek B-TJ Ostrava
END:VEVENT
BEGIN:VEVENT
UID:66303164-6461-4066-a634-323633363866
DTSTAMP:20260421T210101Z
DESCRIPTION:6/6 TJ Sokol Vratimov - TJ Sokol Frýdek - Místek A 0:2 (-20\,-1
 8)
DTSTART;TZID=Europe/Berlin:20221210T120000
DTEND;TZID=Europe/Berlin:20221210T140000
LOCATION:tělocvična 11.ZŠ Frýdek-Místek\, Jiřího z Poděbrad 3109 Frýdek-Mís
 tek - Frýdek
SUMMARY:MS-U14Z-T2D: TJ Sokol Vratimov-TJ Sokol Frýdek - Místek A
END:VEVENT
END:VCALENDAR
