BEGIN:VCALENDAR
VERSION:2.0
PRODID:-//EX-U20M-3B//NONSGML kigkonsult.se iCalcreator 2.41.80//
CALSCALE:GREGORIAN
UID:34356238-3864-4962-a233-613562303761
BEGIN:VEVENT
UID:66613061-3066-4663-a534-643330633139
DTSTAMP:20260421T210120Z
DESCRIPTION:1/1 Kojetín - Olomouc 3:2 (-22\,18\,22\,-19\,10)
DTSTART;TZID=Europe/Berlin:20221203T100000
DTEND;TZID=Europe/Berlin:20221203T120000
LOCATION:Městská sportovní hala\, Hanusíkova 1476 Kojetín - Kojetín I-Město
SUMMARY:EX-U20M-3B: Kojetín-Olomouc
END:VEVENT
BEGIN:VEVENT
UID:33633863-3039-4566-a334-323264316665
DTSTAMP:20260421T210120Z
DESCRIPTION:1/2 H. Králové - Zlín 0:3 (-17\,-26\,-18)
DTSTART;TZID=Europe/Berlin:20221203T120000
DTEND;TZID=Europe/Berlin:20221203T140000
LOCATION:Městská sportovní hala\, Hanusíkova 1476 Kojetín - Kojetín I-Město
SUMMARY:EX-U20M-3B: H. Králové-Zlín
END:VEVENT
BEGIN:VEVENT
UID:38666339-6638-4333-b636-363030396438
DTSTAMP:20260421T210120Z
DESCRIPTION:1/3 Liberec - Olomouc 2:3 (-17\,-24\,17\,19\,-13)
DTSTART;TZID=Europe/Berlin:20221203T140000
DTEND;TZID=Europe/Berlin:20221203T160000
LOCATION:Městská sportovní hala\, Hanusíkova 1476 Kojetín - Kojetín I-Město
SUMMARY:EX-U20M-3B: Liberec-Olomouc
END:VEVENT
BEGIN:VEVENT
UID:66316537-6164-4230-b961-356138646565
DTSTAMP:20260421T210120Z
DESCRIPTION:1/4 Kojetín - H. Králové 3:0 (16\,23\,16)
DTSTART;TZID=Europe/Berlin:20221203T160000
DTEND;TZID=Europe/Berlin:20221203T180000
LOCATION:Městská sportovní hala\, Hanusíkova 1476 Kojetín - Kojetín I-Město
SUMMARY:EX-U20M-3B: Kojetín-H. Králové
END:VEVENT
BEGIN:VEVENT
UID:65353337-3164-4265-a466-653465323464
DTSTAMP:20260421T210120Z
DESCRIPTION:1/5 Liberec - Zlín 2:3 (-16\,22\,-16\,18\,-11)
DTSTART;TZID=Europe/Berlin:20221203T180000
DTEND;TZID=Europe/Berlin:20221203T200000
LOCATION:Městská sportovní hala\, Hanusíkova 1476 Kojetín - Kojetín I-Město
SUMMARY:EX-U20M-3B: Liberec-Zlín
END:VEVENT
BEGIN:VEVENT
UID:33643336-3534-4639-b038-363238643466
DTSTAMP:20260421T210120Z
DESCRIPTION:2/6 Olomouc - H. Králové 3:1 (-23\,17\,13\,22)
DTSTART;TZID=Europe/Berlin:20221204T090000
DTEND;TZID=Europe/Berlin:20221204T110000
LOCATION:Městská sportovní hala\, Hanusíkova 1476 Kojetín - Kojetín I-Město
SUMMARY:EX-U20M-3B: Olomouc-H. Králové
END:VEVENT
BEGIN:VEVENT
UID:37373336-3965-4532-b063-356536613138
DTSTAMP:20260421T210120Z
DESCRIPTION:2/7 Kojetín - Liberec 3:0 (17\,23\,15)
DTSTART;TZID=Europe/Berlin:20221204T110000
DTEND;TZID=Europe/Berlin:20221204T130000
LOCATION:Městská sportovní hala\, Hanusíkova 1476 Kojetín - Kojetín I-Město
SUMMARY:EX-U20M-3B: Kojetín-Liberec
END:VEVENT
BEGIN:VEVENT
UID:35653036-3932-4135-b463-663931636333
DTSTAMP:20260421T210120Z
DESCRIPTION:2/8 Zlín - Olomouc 1:3 (-15\,15\,-15\,-23)
DTSTART;TZID=Europe/Berlin:20221204T130000
DTEND;TZID=Europe/Berlin:20221204T150000
LOCATION:Městská sportovní hala\, Hanusíkova 1476 Kojetín - Kojetín I-Město
SUMMARY:EX-U20M-3B: Zlín-Olomouc
END:VEVENT
BEGIN:VEVENT
UID:38346236-3435-4333-b932-646230313830
DTSTAMP:20260421T210120Z
DESCRIPTION:2/9 H. Králové - Liberec 0:3 (-19\,-17\,-19)
DTSTART;TZID=Europe/Berlin:20221204T150000
DTEND;TZID=Europe/Berlin:20221204T170000
LOCATION:Městská sportovní hala\, Hanusíkova 1476 Kojetín - Kojetín I-Město
SUMMARY:EX-U20M-3B: H. Králové-Liberec
END:VEVENT
BEGIN:VEVENT
UID:65386438-3337-4339-b461-383431633937
DTSTAMP:20260421T210120Z
DESCRIPTION:2/10 Zlín - Kojetín 0:3 (-20\,-10\,-15)
DTSTART;TZID=Europe/Berlin:20221204T170000
DTEND;TZID=Europe/Berlin:20221204T190000
LOCATION:Městská sportovní hala\, Hanusíkova 1476 Kojetín - Kojetín I-Město
SUMMARY:EX-U20M-3B: Zlín-Kojetín
END:VEVENT
END:VCALENDAR
