BEGIN:VCALENDAR
VERSION:2.0
PRODID:-//JM-U18Z-IIB//NONSGML kigkonsult.se iCalcreator 2.41.80//
CALSCALE:GREGORIAN
UID:61323837-6431-4239-b563-346464663962
BEGIN:VEVENT
UID:34303638-6361-4139-a663-636332346132
DTSTAMP:20260422T182947Z
DESCRIPTION:1/1 VK Znojmo - Přímětice - VK Brno\, Vejrostova 1:3 (-19\,-12\
 ,20\,-30)
DTSTART;TZID=Europe/Berlin:20221204T090000
DTEND;TZID=Europe/Berlin:20221204T110000
LOCATION:Tělocvična PSK Znojmo\, Pražská 2486 Znojmo
SUMMARY:JM-U18Z-IIB: VK Znojmo - Přímětice-VK Brno\, Vejrostova
END:VEVENT
BEGIN:VEVENT
UID:30616430-3063-4064-a431-613965383966
DTSTAMP:20260422T182947Z
DESCRIPTION:2/2 VK Brno\, Vejrostova - TJ Slovan Ivančice\, z.s. 3:0 (22\,1
 6\,18)
DTSTART;TZID=Europe/Berlin:20221204T113000
DTEND;TZID=Europe/Berlin:20221204T133000
LOCATION:ZŠ Vejrostova\, Vejrostova 1066 Brno - Bystrc
SUMMARY:JM-U18Z-IIB: VK Brno\, Vejrostova-TJ Slovan Ivančice\, z.s.
END:VEVENT
BEGIN:VEVENT
UID:64363162-3663-4735-b739-383865333935
DTSTAMP:20260422T182947Z
DESCRIPTION:3/3 TJ Slovan Ivančice\, z.s. - VK Znojmo - Přímětice 0:3 (-11\
 ,-26\,-15)
DTSTART;TZID=Europe/Berlin:20221204T140000
DTEND;TZID=Europe/Berlin:20221204T160000
LOCATION:sokolovna Ivančice\, Rybářská 1052 Ivančice
SUMMARY:JM-U18Z-IIB: TJ Slovan Ivančice\, z.s.-VK Znojmo - Přímětice
END:VEVENT
END:VCALENDAR
