BEGIN:VCALENDAR
VERSION:2.0
PRODID:-//JM-U18Z-IIC//NONSGML kigkonsult.se iCalcreator 2.41.80//
CALSCALE:GREGORIAN
UID:65373637-3339-4462-a663-396636396134
BEGIN:VEVENT
UID:63393732-3837-4962-a662-663361336266
DTSTAMP:20260422T221353Z
DESCRIPTION:1/1 TJ Sokol Veselí nad Moravou - Orel Křenovice 3:1 (22\,-18\,
 25\,20)
DTSTART;TZID=Europe/Berlin:20221204T090000
DTEND;TZID=Europe/Berlin:20221204T110000
LOCATION:Církevní ZŠ Veselí nad Moravou\, Školní 698 Veselí nad Moravou
SUMMARY:JM-U18Z-IIC: TJ Sokol Veselí nad Moravou-Orel Křenovice
END:VEVENT
BEGIN:VEVENT
UID:65316462-6539-4165-a232-313132666433
DTSTAMP:20260422T221353Z
DESCRIPTION:2/2 Orel Křenovice - VS Cobry Drásov 0:3 (-16\,-18\,-12)
DTSTART;TZID=Europe/Berlin:20221204T113000
DTEND;TZID=Europe/Berlin:20221204T133000
LOCATION:Sportovní hala Křenovice \, Bratří Mrázků 635 Křenovice
SUMMARY:JM-U18Z-IIC: Orel Křenovice-VS Cobry Drásov
END:VEVENT
BEGIN:VEVENT
UID:66333965-3535-4134-a232-323431613230
DTSTAMP:20260422T221353Z
DESCRIPTION:3/3 VS Cobry Drásov - TJ Sokol Veselí nad Moravou 3:2 (22\,28\,
 -21\,-17\,17)
DTSTART;TZID=Europe/Berlin:20221204T140000
DTEND;TZID=Europe/Berlin:20221204T160000
LOCATION:Hala u ZŠ TGM Drásov\, Školní 167 Drásov
SUMMARY:JM-U18Z-IIC: VS Cobry Drásov-TJ Sokol Veselí nad Moravou
END:VEVENT
END:VCALENDAR
