BEGIN:VCALENDAR
VERSION:2.0
PRODID:-//EX-U20Z-4B//NONSGML kigkonsult.se iCalcreator 2.41.80//
CALSCALE:GREGORIAN
UID:34386361-3434-4631-a361-393137306664
BEGIN:VEVENT
UID:32636163-6331-4535-a562-353262333666
DTSTAMP:20260421T145541Z
DESCRIPTION:19/1 Frýdek - Místek - Ostrava 3:0 (25\,17\,19)
DTSTART;TZID=Europe/Berlin:20221210T100000
DTEND;TZID=Europe/Berlin:20221210T120000
LOCATION:ZŠ Pionýrů 400 Frýdek-Místek\, Pionýrů 400 Frýdek-Místek - Místek
SUMMARY:EX-U20Z-4B: Frýdek - Místek-Ostrava
END:VEVENT
BEGIN:VEVENT
UID:64666162-3034-4165-b339-383632643664
DTSTAMP:20260421T145541Z
DESCRIPTION:20/2 Č. Budějovice - Plzeň 2:3 (-17\,21\,14\,-20\,-9)
DTSTART;TZID=Europe/Berlin:20221210T120000
DTEND;TZID=Europe/Berlin:20221210T140000
LOCATION:ZŠ Pionýrů 400 Frýdek-Místek\, Pionýrů 400 Frýdek-Místek - Místek
SUMMARY:EX-U20Z-4B: Č. Budějovice-Plzeň
END:VEVENT
BEGIN:VEVENT
UID:66366664-6431-4734-b538-653337306363
DTSTAMP:20260421T145541Z
DESCRIPTION:21/3 Ostrava - Plzeň 1:3 (-12\,20\,-22\,-19)\nNH: 1. máje Frýde
 k Místek
DTSTART;TZID=Europe/Berlin:20221210T160000
DTEND;TZID=Europe/Berlin:20221210T180000
LOCATION:ZŠ Pionýrů 400 Frýdek-Místek\, Pionýrů 400 Frýdek-Místek - Místek
SUMMARY:EX-U20Z-4B: Ostrava-Plzeň
END:VEVENT
BEGIN:VEVENT
UID:30303831-3134-4436-b132-656434333864
DTSTAMP:20260421T145541Z
DESCRIPTION:22/4 Frýdek - Místek - Č. Budějovice 3:0 (20\,21\,22)\nNH: 1. m
 áje Frýdek Místek
DTSTART;TZID=Europe/Berlin:20221210T183000
DTEND;TZID=Europe/Berlin:20221210T203000
LOCATION:ZŠ Pionýrů 400 Frýdek-Místek\, Pionýrů 400 Frýdek-Místek - Místek
SUMMARY:EX-U20Z-4B: Frýdek - Místek-Č. Budějovice
END:VEVENT
BEGIN:VEVENT
UID:39633435-3031-4631-a262-303765363761
DTSTAMP:20260421T145541Z
DESCRIPTION:23/5 Č. Budějovice - Ostrava 3:1 (13\,21\,-14\,22)\nNH: 1. máje
  Frýdek Místek
DTSTART;TZID=Europe/Berlin:20221211T100000
DTEND;TZID=Europe/Berlin:20221211T120000
LOCATION:ZŠ Pionýrů 400 Frýdek-Místek\, Pionýrů 400 Frýdek-Místek - Místek
SUMMARY:EX-U20Z-4B: Č. Budějovice-Ostrava
END:VEVENT
BEGIN:VEVENT
UID:64633832-6439-4339-a637-353834343736
DTSTAMP:20260421T145541Z
DESCRIPTION:24/6 Plzeň - Frýdek - Místek 3:1 (19\,14\,-19\,25)\nNH: 1. máje
  Frýdek Místek
DTSTART;TZID=Europe/Berlin:20221211T120000
DTEND;TZID=Europe/Berlin:20221211T140000
LOCATION:ZŠ Pionýrů 400 Frýdek-Místek\, Pionýrů 400 Frýdek-Místek - Místek
SUMMARY:EX-U20Z-4B: Plzeň-Frýdek - Místek
END:VEVENT
END:VCALENDAR
