BEGIN:VCALENDAR
VERSION:2.0
PRODID:-//EX-U22M-3D//NONSGML kigkonsult.se iCalcreator 2.41.80//
CALSCALE:GREGORIAN
UID:30393933-3038-4538-b636-616139333536
BEGIN:VEVENT
UID:62336431-3661-4432-a133-323134306331
DTSTAMP:20260421T192005Z
DESCRIPTION:1/1 Orion - Prosek 1:3 (18\,-20\,-27\,-22)
DTSTART;TZID=Europe/Berlin:20221209T190000
DTEND;TZID=Europe/Berlin:20221209T210000
LOCATION:Nibe aréna\, městská sportovní hala\, 5. května 746 Benátky nad Ji
 zerou - Benátky nad Jizerou II
SUMMARY:EX-U22M-3D: Orion-Prosek
END:VEVENT
BEGIN:VEVENT
UID:64373830-3839-4236-b164-633738333064
DTSTAMP:20260421T192005Z
DESCRIPTION:1/2 Benátky n. J. - Nymburk 3:0 (29\,21\,20)
DTSTART;TZID=Europe/Berlin:20221209T170000
DTEND;TZID=Europe/Berlin:20221209T190000
LOCATION:Nibe aréna\, městská sportovní hala\, 5. května 746 Benátky nad Ji
 zerou - Benátky nad Jizerou II
SUMMARY:EX-U22M-3D: Benátky n. J.-Nymburk
END:VEVENT
BEGIN:VEVENT
UID:34623866-3536-4439-a535-666463636264
DTSTAMP:20260421T192005Z
DESCRIPTION:2/3 Benátky n. J. - Orion 3:1 (-22\,20\,20\,19)
DTSTART;TZID=Europe/Berlin:20221211T090000
DTEND;TZID=Europe/Berlin:20221211T110000
LOCATION:Nibe aréna\, městská sportovní hala\, 5. května 746 Benátky nad Ji
 zerou - Benátky nad Jizerou II
SUMMARY:EX-U22M-3D: Benátky n. J.-Orion
END:VEVENT
BEGIN:VEVENT
UID:32323038-6562-4465-b431-306262623362
DTSTAMP:20260421T192005Z
DESCRIPTION:2/4 Nymburk - Prosek 0:3 (-11\,-26\,-21)
DTSTART;TZID=Europe/Berlin:20221211T110000
DTEND;TZID=Europe/Berlin:20221211T130000
LOCATION:Nibe aréna\, městská sportovní hala\, 5. května 746 Benátky nad Ji
 zerou - Benátky nad Jizerou II
SUMMARY:EX-U22M-3D: Nymburk-Prosek
END:VEVENT
BEGIN:VEVENT
UID:62643038-3535-4138-b362-343835616335
DTSTAMP:20260421T192005Z
DESCRIPTION:2/5 Nymburk - Orion 0:3 (-18\,-30\,-22)
DTSTART;TZID=Europe/Berlin:20221211T130000
DTEND;TZID=Europe/Berlin:20221211T150000
LOCATION:Nibe aréna\, městská sportovní hala\, 5. května 746 Benátky nad Ji
 zerou - Benátky nad Jizerou II
SUMMARY:EX-U22M-3D: Nymburk-Orion
END:VEVENT
BEGIN:VEVENT
UID:61333135-3439-4366-b563-313930623438
DTSTAMP:20260421T192005Z
DESCRIPTION:2/6 Prosek - Benátky n. J. 3:2 (-18\,-22\,19\,19\,10)
DTSTART;TZID=Europe/Berlin:20221211T150000
DTEND;TZID=Europe/Berlin:20221211T170000
LOCATION:Nibe aréna\, městská sportovní hala\, 5. května 746 Benátky nad Ji
 zerou - Benátky nad Jizerou II
SUMMARY:EX-U22M-3D: Prosek-Benátky n. J.
END:VEVENT
END:VCALENDAR
