BEGIN:VCALENDAR
VERSION:2.0
PRODID:-//EX-U20M-4A//NONSGML kigkonsult.se iCalcreator 2.41.80//
CALSCALE:GREGORIAN
UID:32643662-6465-4339-a362-336164333833
BEGIN:VEVENT
UID:39623136-3030-4264-b763-383039643466
DTSTAMP:20260421T111221Z
DESCRIPTION:1/1 Lvi - Brno 0:3 (-22\,-26\,-25)
DTSTART;TZID=Europe/Berlin:20230211T100000
DTEND;TZID=Europe/Berlin:20230211T120000
LOCATION:Sportovní hala Lužiny\, Bellušova 1877 Praha - Stodůlky
SUMMARY:EX-U20M-4A: Lvi-Brno
END:VEVENT
BEGIN:VEVENT
UID:37326336-3730-4130-a237-323831303435
DTSTAMP:20260421T111221Z
DESCRIPTION:1/2 Olomouc - Kojetín 3:1 (-18\,25\,25\,18)
DTSTART;TZID=Europe/Berlin:20230211T120000
DTEND;TZID=Europe/Berlin:20230211T140000
LOCATION:Sportovní hala Lužiny\, Bellušova 1877 Praha - Stodůlky
SUMMARY:EX-U20M-4A: Olomouc-Kojetín
END:VEVENT
BEGIN:VEVENT
UID:63386665-3635-4238-b435-613066376137
DTSTAMP:20260421T111221Z
DESCRIPTION:1/3 Blue Ostrava - Brno 0:3 (-22\,-15\,-21)
DTSTART;TZID=Europe/Berlin:20230211T140000
DTEND;TZID=Europe/Berlin:20230211T160000
LOCATION:Sportovní hala Lužiny\, Bellušova 1877 Praha - Stodůlky
SUMMARY:EX-U20M-4A: Blue Ostrava-Brno
END:VEVENT
BEGIN:VEVENT
UID:37333438-3736-4130-b632-346162303736
DTSTAMP:20260421T111221Z
DESCRIPTION:1/4 Lvi - Olomouc 3:0 (20\,16\,22)
DTSTART;TZID=Europe/Berlin:20230211T160000
DTEND;TZID=Europe/Berlin:20230211T180000
LOCATION:Sportovní hala Lužiny\, Bellušova 1877 Praha - Stodůlky
SUMMARY:EX-U20M-4A: Lvi-Olomouc
END:VEVENT
BEGIN:VEVENT
UID:39393061-6636-4532-a439-623062626463
DTSTAMP:20260421T111221Z
DESCRIPTION:1/5 Blue Ostrava - Kojetín 3:1 (22\,21\,-25\,22)
DTSTART;TZID=Europe/Berlin:20230211T180000
DTEND;TZID=Europe/Berlin:20230211T200000
LOCATION:Sportovní hala Lužiny\, Bellušova 1877 Praha - Stodůlky
SUMMARY:EX-U20M-4A: Blue Ostrava-Kojetín
END:VEVENT
BEGIN:VEVENT
UID:64363634-3436-4366-a262-653034623237
DTSTAMP:20260421T111221Z
DESCRIPTION:2/6 Brno - Olomouc 3:0 (18\,14\,12)
DTSTART;TZID=Europe/Berlin:20230212T090000
DTEND;TZID=Europe/Berlin:20230212T110000
LOCATION:Sportovní hala Lužiny\, Bellušova 1877 Praha - Stodůlky
SUMMARY:EX-U20M-4A: Brno-Olomouc
END:VEVENT
BEGIN:VEVENT
UID:32376239-6436-4233-b634-336135653035
DTSTAMP:20260421T111221Z
DESCRIPTION:2/7 Lvi - Blue Ostrava 3:0 (26\,20\,20)
DTSTART;TZID=Europe/Berlin:20230212T110000
DTEND;TZID=Europe/Berlin:20230212T130000
LOCATION:Sportovní hala Lužiny\, Bellušova 1877 Praha - Stodůlky
SUMMARY:EX-U20M-4A: Lvi-Blue Ostrava
END:VEVENT
BEGIN:VEVENT
UID:64663561-6665-4631-a431-353063386334
DTSTAMP:20260421T111221Z
DESCRIPTION:2/8 Kojetín - Brno 0:3 (-22\,-23\,-21)
DTSTART;TZID=Europe/Berlin:20230212T130000
DTEND;TZID=Europe/Berlin:20230212T150000
LOCATION:Sportovní hala Lužiny\, Bellušova 1877 Praha - Stodůlky
SUMMARY:EX-U20M-4A: Kojetín-Brno
END:VEVENT
BEGIN:VEVENT
UID:39666366-6334-4866-b364-393966313766
DTSTAMP:20260421T111221Z
DESCRIPTION:2/9 Olomouc - Blue Ostrava 1:3 (-16\,-23\,22\,-21)
DTSTART;TZID=Europe/Berlin:20230212T150000
DTEND;TZID=Europe/Berlin:20230212T170000
LOCATION:Sportovní hala Lužiny\, Bellušova 1877 Praha - Stodůlky
SUMMARY:EX-U20M-4A: Olomouc-Blue Ostrava
END:VEVENT
BEGIN:VEVENT
UID:39616130-3431-4165-a163-356161663137
DTSTAMP:20260421T111221Z
DESCRIPTION:2/10 Kojetín - Lvi 1:3 (-20\,22\,-18\,-23)
DTSTART;TZID=Europe/Berlin:20230212T170000
DTEND;TZID=Europe/Berlin:20230212T190000
LOCATION:Sportovní hala Lužiny\, Bellušova 1877 Praha - Stodůlky
SUMMARY:EX-U20M-4A: Kojetín-Lvi
END:VEVENT
END:VCALENDAR
