BEGIN:VCALENDAR
VERSION:2.0
PRODID:-//EX-U20M-4C//NONSGML kigkonsult.se iCalcreator 2.41.80//
CALSCALE:GREGORIAN
UID:39643863-3466-4065-a237-636234616537
BEGIN:VEVENT
UID:32316164-6266-4665-a635-653333323931
DTSTAMP:20260421T192001Z
DESCRIPTION:1/1 Liberec - H. Králové 3:0 (16\,21\,19)
DTSTART;TZID=Europe/Berlin:20230211T100000
DTEND;TZID=Europe/Berlin:20230211T120000
LOCATION:Městská sportovní hala\, U Přehrady 4747 Jablonec nad Nisou
SUMMARY:EX-U20M-4C: Liberec-H. Králové
END:VEVENT
BEGIN:VEVENT
UID:31396263-3730-4130-b861-646236393836
DTSTAMP:20260421T192001Z
DESCRIPTION:1/2 Příbram - Prosek 3:1 (21\,19\,-20\,23)
DTSTART;TZID=Europe/Berlin:20230211T120000
DTEND;TZID=Europe/Berlin:20230211T140000
LOCATION:Městská sportovní hala\, U Přehrady 4747 Jablonec nad Nisou
SUMMARY:EX-U20M-4C: Příbram-Prosek
END:VEVENT
BEGIN:VEVENT
UID:36333936-3264-4463-b332-363464386332
DTSTAMP:20260421T192001Z
DESCRIPTION:1/3 V. Meziříčí - H. Králové 3:2 (25\,-23\,19\,-22\,12)
DTSTART;TZID=Europe/Berlin:20230211T140000
DTEND;TZID=Europe/Berlin:20230211T160000
LOCATION:Městská sportovní hala\, U Přehrady 4747 Jablonec nad Nisou
SUMMARY:EX-U20M-4C: V. Meziříčí-H. Králové
END:VEVENT
BEGIN:VEVENT
UID:62636438-3662-4165-a336-626132633138
DTSTAMP:20260421T192001Z
DESCRIPTION:1/4 Liberec - Příbram 3:0 (16\,9\,17)
DTSTART;TZID=Europe/Berlin:20230211T160000
DTEND;TZID=Europe/Berlin:20230211T180000
LOCATION:Městská sportovní hala\, U Přehrady 4747 Jablonec nad Nisou
SUMMARY:EX-U20M-4C: Liberec-Příbram
END:VEVENT
BEGIN:VEVENT
UID:61303330-6234-4735-b664-353733316439
DTSTAMP:20260421T192001Z
DESCRIPTION:1/5 V. Meziříčí - Prosek 1:3 (-21\,-19\,23\,-25)
DTSTART;TZID=Europe/Berlin:20230211T180000
DTEND;TZID=Europe/Berlin:20230211T200000
LOCATION:Městská sportovní hala\, U Přehrady 4747 Jablonec nad Nisou
SUMMARY:EX-U20M-4C: V. Meziříčí-Prosek
END:VEVENT
BEGIN:VEVENT
UID:63343031-3137-4538-b331-363261633736
DTSTAMP:20260421T192001Z
DESCRIPTION:2/6 H. Králové - Příbram 0:3 (-19\,-17\,-17)\nhala: Dukla Liber
 ec	Jeronýmova 558 Liberec - Liberec VII-Horní Růžodol
DTSTART;TZID=Europe/Berlin:20230212T090000
DTEND;TZID=Europe/Berlin:20230212T110000
LOCATION:Městská sportovní hala\, U Přehrady 4747 Jablonec nad Nisou
SUMMARY:EX-U20M-4C: H. Králové-Příbram
END:VEVENT
BEGIN:VEVENT
UID:38383333-3164-4662-a434-663061356163
DTSTAMP:20260421T192001Z
DESCRIPTION:2/7 Liberec - V. Meziříčí 3:0 (19\,26\,13)\nhala: Dukla Liberec
 	Jeronýmova 558 Liberec - Liberec VII-Horní Růžodol
DTSTART;TZID=Europe/Berlin:20230212T110000
DTEND;TZID=Europe/Berlin:20230212T130000
LOCATION:Městská sportovní hala\, U Přehrady 4747 Jablonec nad Nisou
SUMMARY:EX-U20M-4C: Liberec-V. Meziříčí
END:VEVENT
BEGIN:VEVENT
UID:37623066-3737-4639-b162-613931616536
DTSTAMP:20260421T192001Z
DESCRIPTION:2/8 Prosek - H. Králové 3:2 (19\,24\,-16\,-20\,8)\nhala: Dukla 
 Liberec	Jeronýmova 558 Liberec - Liberec VII-Horní Růžodol
DTSTART;TZID=Europe/Berlin:20230212T130000
DTEND;TZID=Europe/Berlin:20230212T150000
LOCATION:Městská sportovní hala\, U Přehrady 4747 Jablonec nad Nisou
SUMMARY:EX-U20M-4C: Prosek-H. Králové
END:VEVENT
BEGIN:VEVENT
UID:65333239-6438-4633-b338-656335643032
DTSTAMP:20260421T192001Z
DESCRIPTION:2/9 Příbram - V. Meziříčí 2:3 (20\,15\,-19\,-14\,-12)\nhala: Du
 kla Liberec	Jeronýmova 558 Liberec - Liberec VII-Horní Růžodol
DTSTART;TZID=Europe/Berlin:20230212T150000
DTEND;TZID=Europe/Berlin:20230212T170000
LOCATION:Městská sportovní hala\, U Přehrady 4747 Jablonec nad Nisou
SUMMARY:EX-U20M-4C: Příbram-V. Meziříčí
END:VEVENT
BEGIN:VEVENT
UID:30626636-3931-4964-b530-366530326136
DTSTAMP:20260421T192001Z
DESCRIPTION:2/10 Prosek - Liberec 3:0 (20\,20\,20)\nhala: Dukla Liberec	Jero
 nýmova 558 Liberec - Liberec VII-Horní Růžodol
DTSTART;TZID=Europe/Berlin:20230212T170000
DTEND;TZID=Europe/Berlin:20230212T190000
LOCATION:Městská sportovní hala\, U Přehrady 4747 Jablonec nad Nisou
SUMMARY:EX-U20M-4C: Prosek-Liberec
END:VEVENT
END:VCALENDAR
