BEGIN:VCALENDAR
VERSION:2.0
PRODID:-//EX-U22Z-5A//NONSGML kigkonsult.se iCalcreator 2.41.80//
CALSCALE:GREGORIAN
UID:66383237-6631-4133-b866-396662663065
BEGIN:VEVENT
UID:37306566-6635-4636-a161-353031353237
DTSTAMP:20260421T151521Z
DESCRIPTION:13/1 Ostrava - Kr. Pole 3:1 (-20\,22\,21\,14)
DTSTART;TZID=Europe/Berlin:20230115T100000
DTEND;TZID=Europe/Berlin:20230115T120000
LOCATION:Hala mládeže\, Gajdošova 1893 Ostrava - Moravská Ostrava
SUMMARY:EX-U22Z-5A: Ostrava-Kr. Pole
END:VEVENT
BEGIN:VEVENT
UID:30633736-3063-4839-b136-646262373134
DTSTAMP:20260421T151521Z
DESCRIPTION:14/2 Kr. Pole - Olymp 0:3 (-20\,-21\,-22)
DTSTART;TZID=Europe/Berlin:20230115T133000
DTEND;TZID=Europe/Berlin:20230115T153000
LOCATION:Hala mládeže\, Gajdošova 1893 Ostrava - Moravská Ostrava
SUMMARY:EX-U22Z-5A: Kr. Pole-Olymp
END:VEVENT
BEGIN:VEVENT
UID:61656230-3730-4565-b034-353164396132
DTSTAMP:20260421T151521Z
DESCRIPTION:15/3 Olymp - Ostrava 3:1 (17\,-23\,24\,7)
DTSTART;TZID=Europe/Berlin:20230115T170000
DTEND;TZID=Europe/Berlin:20230115T190000
LOCATION:Hala mládeže\, Gajdošova 1893 Ostrava - Moravská Ostrava
SUMMARY:EX-U22Z-5A: Olymp-Ostrava
END:VEVENT
END:VCALENDAR
