BEGIN:VCALENDAR
VERSION:2.0
PRODID:-//MS-U14Z-T3A//NONSGML kigkonsult.se iCalcreator 2.41.80//
CALSCALE:GREGORIAN
UID:38316630-3435-4364-a638-613462313861
BEGIN:VEVENT
UID:36366531-6635-4632-b262-376630643539
DTSTAMP:20260421T192007Z
DESCRIPTION:1/1 ŠSK Bílovec - VAM Havířov\, 2:0 (12\,19)
DTSTART;TZID=Europe/Berlin:20230107T090000
DTEND;TZID=Europe/Berlin:20230107T110000
LOCATION:Sportovní hala Slezského gymnázia v Opavě\, Zámecký okruh 461 Opav
 a - Město
SUMMARY:MS-U14Z-T3A: ŠSK Bílovec-VAM Havířov\,
END:VEVENT
BEGIN:VEVENT
UID:32656532-3339-4565-a661-663861333966
DTSTAMP:20260421T192007Z
DESCRIPTION:1/2 KV Kopřivnice\, - VK Kylešovice\, 1:2 (-23\,19\,-5)
DTSTART;TZID=Europe/Berlin:20230107T090000
DTEND;TZID=Europe/Berlin:20230107T110000
LOCATION:Sportovní hala Slezského gymnázia v Opavě\, Zámecký okruh 461 Opav
 a - Město
SUMMARY:MS-U14Z-T3A: KV Kopřivnice\,-VK Kylešovice\,
END:VEVENT
BEGIN:VEVENT
UID:35666165-6433-4231-b633-376161613232
DTSTAMP:20260421T192007Z
DESCRIPTION:2/3 VAM Havířov\, - KV Kopřivnice\, 0:2 (-15\,-13)
DTSTART;TZID=Europe/Berlin:20230107T100000
DTEND;TZID=Europe/Berlin:20230107T120000
LOCATION:Sportovní hala Slezského gymnázia v Opavě\, Zámecký okruh 461 Opav
 a - Město
SUMMARY:MS-U14Z-T3A: VAM Havířov\,-KV Kopřivnice\,
END:VEVENT
BEGIN:VEVENT
UID:30396137-3266-4663-b464-616433373230
DTSTAMP:20260421T192007Z
DESCRIPTION:2/4 SVK Nový Jičín A - ŠSK Bílovec 0:2 (-8\,-10)
DTSTART;TZID=Europe/Berlin:20230107T100000
DTEND;TZID=Europe/Berlin:20230107T120000
LOCATION:Sportovní hala Slezského gymnázia v Opavě\, Zámecký okruh 461 Opav
 a - Město
SUMMARY:MS-U14Z-T3A: SVK Nový Jičín A-ŠSK Bílovec
END:VEVENT
BEGIN:VEVENT
UID:66613464-3537-4733-a131-353937346138
DTSTAMP:20260421T192007Z
DESCRIPTION:3/5 KV Kopřivnice\, - SVK Nový Jičín A 0:2 (-21\,-19)
DTSTART;TZID=Europe/Berlin:20230107T110000
DTEND;TZID=Europe/Berlin:20230107T130000
LOCATION:Sportovní hala Slezského gymnázia v Opavě\, Zámecký okruh 461 Opav
 a - Město
SUMMARY:MS-U14Z-T3A: KV Kopřivnice\,-SVK Nový Jičín A
END:VEVENT
BEGIN:VEVENT
UID:39666239-3963-4336-a135-633566346464
DTSTAMP:20260421T192007Z
DESCRIPTION:3/6 VK Kylešovice\, - VAM Havířov\, 2:1 (20\,-22\,17)
DTSTART;TZID=Europe/Berlin:20230107T110000
DTEND;TZID=Europe/Berlin:20230107T130000
LOCATION:Sportovní hala Slezského gymnázia v Opavě\, Zámecký okruh 461 Opav
 a - Město
SUMMARY:MS-U14Z-T3A: VK Kylešovice\,-VAM Havířov\,
END:VEVENT
BEGIN:VEVENT
UID:36613333-3439-4362-b133-616166646139
DTSTAMP:20260421T192007Z
DESCRIPTION:4/7 VK Kylešovice\, - ŠSK Bílovec 0:2 (-19\,-6)
DTSTART;TZID=Europe/Berlin:20230107T120000
DTEND;TZID=Europe/Berlin:20230107T140000
LOCATION:Sportovní hala Slezského gymnázia v Opavě\, Zámecký okruh 461 Opav
 a - Město
SUMMARY:MS-U14Z-T3A: VK Kylešovice\,-ŠSK Bílovec
END:VEVENT
BEGIN:VEVENT
UID:64363666-3065-4262-a638-323763336139
DTSTAMP:20260421T192007Z
DESCRIPTION:4/8 VAM Havířov\, - SVK Nový Jičín A 0:2 (-25\,-19)
DTSTART;TZID=Europe/Berlin:20230107T120000
DTEND;TZID=Europe/Berlin:20230107T140000
LOCATION:Sportovní hala Slezského gymnázia v Opavě\, Zámecký okruh 461 Opav
 a - Město
SUMMARY:MS-U14Z-T3A: VAM Havířov\,-SVK Nový Jičín A
END:VEVENT
BEGIN:VEVENT
UID:63316462-3636-4964-a163-373530663261
DTSTAMP:20260421T192007Z
DESCRIPTION:5/9 SVK Nový Jičín A - VK Kylešovice\, 2:0 (24\,11)
DTSTART;TZID=Europe/Berlin:20230107T130000
DTEND;TZID=Europe/Berlin:20230107T150000
LOCATION:Sportovní hala Slezského gymnázia v Opavě\, Zámecký okruh 461 Opav
 a - Město
SUMMARY:MS-U14Z-T3A: SVK Nový Jičín A-VK Kylešovice\,
END:VEVENT
BEGIN:VEVENT
UID:32636633-6265-4562-b533-346630363961
DTSTAMP:20260421T192007Z
DESCRIPTION:5/10 ŠSK Bílovec - KV Kopřivnice\, 2:0 (5\,17)
DTSTART;TZID=Europe/Berlin:20230107T130000
DTEND;TZID=Europe/Berlin:20230107T150000
LOCATION:Sportovní hala Slezského gymnázia v Opavě\, Zámecký okruh 461 Opav
 a - Město
SUMMARY:MS-U14Z-T3A: ŠSK Bílovec-KV Kopřivnice\,
END:VEVENT
END:VCALENDAR
