BEGIN:VCALENDAR
VERSION:2.0
PRODID:-//EX-U22M-5A//NONSGML kigkonsult.se iCalcreator 2.41.80//
CALSCALE:GREGORIAN
UID:64376331-3038-4231-a239-616561663638
BEGIN:VEVENT
UID:33383339-3639-4561-b432-343365303732
DTSTAMP:20260421T210111Z
DESCRIPTION:1/1 Brno - Beskydy 3:1 (16\,17\,-20\,17)
DTSTART;TZID=Europe/Berlin:20230318T100000
DTEND;TZID=Europe/Berlin:20230318T120000
LOCATION:Sportovní gymnázium Ludvíka Daňka\, Botanická 63 Brno - Ponava
SUMMARY:EX-U22M-5A: Brno-Beskydy
END:VEVENT
BEGIN:VEVENT
UID:30383337-3133-4539-b333-393739623538
DTSTAMP:20260421T210111Z
DESCRIPTION:1/2 Příbram - Lvi 1:3 (-22\,-17\,19\,-22)
DTSTART;TZID=Europe/Berlin:20230318T120000
DTEND;TZID=Europe/Berlin:20230318T140000
LOCATION:Sportovní gymnázium Ludvíka Daňka\, Botanická 63 Brno - Ponava
SUMMARY:EX-U22M-5A: Příbram-Lvi
END:VEVENT
BEGIN:VEVENT
UID:37356138-6166-4637-b061-393131623431
DTSTAMP:20260421T210111Z
DESCRIPTION:1/3 Liberec - Beskydy 0:3 (-22\,-21\,-23)
DTSTART;TZID=Europe/Berlin:20230318T140000
DTEND;TZID=Europe/Berlin:20230318T160000
LOCATION:Sportovní gymnázium Ludvíka Daňka\, Botanická 63 Brno - Ponava
SUMMARY:EX-U22M-5A: Liberec-Beskydy
END:VEVENT
BEGIN:VEVENT
UID:36313364-6331-4864-b562-323938646162
DTSTAMP:20260421T210111Z
DESCRIPTION:1/4 Brno - Příbram 3:2 (-19\,-27\,20\,23\,11)
DTSTART;TZID=Europe/Berlin:20230318T160000
DTEND;TZID=Europe/Berlin:20230318T180000
LOCATION:Sportovní gymnázium Ludvíka Daňka\, Botanická 63 Brno - Ponava
SUMMARY:EX-U22M-5A: Brno-Příbram
END:VEVENT
BEGIN:VEVENT
UID:65366164-3465-4363-a566-353766646630
DTSTAMP:20260421T210111Z
DESCRIPTION:1/5 Liberec - Lvi 3:2 (-17\,-18\,24\,22\,15)
DTSTART;TZID=Europe/Berlin:20230318T180000
DTEND;TZID=Europe/Berlin:20230318T200000
LOCATION:Sportovní gymnázium Ludvíka Daňka\, Botanická 63 Brno - Ponava
SUMMARY:EX-U22M-5A: Liberec-Lvi
END:VEVENT
BEGIN:VEVENT
UID:30363139-6162-4431-a661-623339333065
DTSTAMP:20260421T210111Z
DESCRIPTION:2/6 Beskydy - Příbram 1:3 (25\,-19\,-14\,-9)
DTSTART;TZID=Europe/Berlin:20230319T090000
DTEND;TZID=Europe/Berlin:20230319T110000
LOCATION:Sportovní gymnázium Ludvíka Daňka\, Botanická 63 Brno - Ponava
SUMMARY:EX-U22M-5A: Beskydy-Příbram
END:VEVENT
BEGIN:VEVENT
UID:39636165-3536-4062-b432-343433663732
DTSTAMP:20260421T210111Z
DESCRIPTION:2/7 Brno - Liberec 3:1 (21\,-21\,20\,20)
DTSTART;TZID=Europe/Berlin:20230319T110000
DTEND;TZID=Europe/Berlin:20230319T130000
LOCATION:Sportovní gymnázium Ludvíka Daňka\, Botanická 63 Brno - Ponava
SUMMARY:EX-U22M-5A: Brno-Liberec
END:VEVENT
BEGIN:VEVENT
UID:63323436-3761-4565-b635-353436393631
DTSTAMP:20260421T210111Z
DESCRIPTION:2/8 Lvi - Beskydy 3:1 (15\,19\,-24\,24)
DTSTART;TZID=Europe/Berlin:20230319T130000
DTEND;TZID=Europe/Berlin:20230319T150000
LOCATION:Sportovní gymnázium Ludvíka Daňka\, Botanická 63 Brno - Ponava
SUMMARY:EX-U22M-5A: Lvi-Beskydy
END:VEVENT
BEGIN:VEVENT
UID:31653036-6533-4430-b763-376230326637
DTSTAMP:20260421T210111Z
DESCRIPTION:2/9 Příbram - Liberec 3:0 (19\,16\,18)
DTSTART;TZID=Europe/Berlin:20230319T150000
DTEND;TZID=Europe/Berlin:20230319T170000
LOCATION:Sportovní gymnázium Ludvíka Daňka\, Botanická 63 Brno - Ponava
SUMMARY:EX-U22M-5A: Příbram-Liberec
END:VEVENT
BEGIN:VEVENT
UID:36333263-3230-4863-b439-636164383533
DTSTAMP:20260421T210111Z
DESCRIPTION:2/10 Lvi - Brno 0:3 (-8\,-22\,-18)
DTSTART;TZID=Europe/Berlin:20230319T170000
DTEND;TZID=Europe/Berlin:20230319T190000
LOCATION:Sportovní gymnázium Ludvíka Daňka\, Botanická 63 Brno - Ponava
SUMMARY:EX-U22M-5A: Lvi-Brno
END:VEVENT
END:VCALENDAR
