BEGIN:VCALENDAR
VERSION:2.0
PRODID:-//EX-U22M-5C//NONSGML kigkonsult.se iCalcreator 2.41.80//
CALSCALE:GREGORIAN
UID:37383835-6665-4231-b065-653665376238
BEGIN:VEVENT
UID:35376538-3465-4262-a138-643830623935
DTSTAMP:20260421T210104Z
DESCRIPTION:1/1 Ústí n. L. - V. Meziříčí 2:3 (23\,-19\,20\,-14\,-7)
DTSTART;TZID=Europe/Berlin:20230318T100000
DTEND;TZID=Europe/Berlin:20230318T120000
LOCATION:Sportcentrum SLUNETA\, Jateční 1026 Ústí nad Labem - Klíše
SUMMARY:EX-U22M-5C: Ústí n. L.-V. Meziříčí
END:VEVENT
BEGIN:VEVENT
UID:65316135-6233-4232-b037-366161666330
DTSTAMP:20260421T210104Z
DESCRIPTION:1/2 Zlín - Svitavy 3:2 (24\,-24\,-21\,19\,13)
DTSTART;TZID=Europe/Berlin:20230318T130000
DTEND;TZID=Europe/Berlin:20230318T150000
LOCATION:Sportcentrum SLUNETA\, Jateční 1026 Ústí nad Labem - Klíše
SUMMARY:EX-U22M-5C: Zlín-Svitavy
END:VEVENT
BEGIN:VEVENT
UID:62663463-3361-4339-b332-653130363438
DTSTAMP:20260421T210104Z
DESCRIPTION:1/3 Ostrava - V. Meziříčí 3:1 (23\,-20\,17\,19)
DTSTART;TZID=Europe/Berlin:20230318T130000
DTEND;TZID=Europe/Berlin:20230318T150000
LOCATION:Sportcentrum SLUNETA\, Jateční 1026 Ústí nad Labem - Klíše
SUMMARY:EX-U22M-5C: Ostrava-V. Meziříčí
END:VEVENT
BEGIN:VEVENT
UID:34376532-3565-4435-b166-616162613830
DTSTAMP:20260421T210104Z
DESCRIPTION:1/4 Ústí n. L. - Zlín 0:3 (-13\,-22\,-15)
DTSTART;TZID=Europe/Berlin:20230318T160000
DTEND;TZID=Europe/Berlin:20230318T180000
LOCATION:Sportcentrum SLUNETA\, Jateční 1026 Ústí nad Labem - Klíše
SUMMARY:EX-U22M-5C: Ústí n. L.-Zlín
END:VEVENT
BEGIN:VEVENT
UID:62633130-3030-4632-b563-383939383163
DTSTAMP:20260421T210104Z
DESCRIPTION:1/5 Ostrava - Svitavy 3:0 (22\,18\,22)
DTSTART;TZID=Europe/Berlin:20230318T160000
DTEND;TZID=Europe/Berlin:20230318T180000
LOCATION:Sportcentrum SLUNETA\, Jateční 1026 Ústí nad Labem - Klíše
SUMMARY:EX-U22M-5C: Ostrava-Svitavy
END:VEVENT
BEGIN:VEVENT
UID:34366136-3334-4363-b133-373138393936
DTSTAMP:20260421T210104Z
DESCRIPTION:2/6 V. Meziříčí - Zlín 1:3 (-23\,18\,-21\,-24)
DTSTART;TZID=Europe/Berlin:20230319T090000
DTEND;TZID=Europe/Berlin:20230319T110000
LOCATION:Sportcentrum SLUNETA\, Jateční 1026 Ústí nad Labem - Klíše
SUMMARY:EX-U22M-5C: V. Meziříčí-Zlín
END:VEVENT
BEGIN:VEVENT
UID:61396439-3864-4366-b763-663362363765
DTSTAMP:20260421T210104Z
DESCRIPTION:2/7 Ústí n. L. - Ostrava 0:3 (-15\,-19\,-21)
DTSTART;TZID=Europe/Berlin:20230319T090000
DTEND;TZID=Europe/Berlin:20230319T110000
LOCATION:Sportcentrum SLUNETA\, Jateční 1026 Ústí nad Labem - Klíše
SUMMARY:EX-U22M-5C: Ústí n. L.-Ostrava
END:VEVENT
BEGIN:VEVENT
UID:34343535-6633-4761-a337-653963313662
DTSTAMP:20260421T210104Z
DESCRIPTION:2/8 Svitavy - V. Meziříčí 3:0 (25\,15\,20)
DTSTART;TZID=Europe/Berlin:20230319T120000
DTEND;TZID=Europe/Berlin:20230319T140000
LOCATION:Sportcentrum SLUNETA\, Jateční 1026 Ústí nad Labem - Klíše
SUMMARY:EX-U22M-5C: Svitavy-V. Meziříčí
END:VEVENT
BEGIN:VEVENT
UID:38623933-3337-4139-b136-353939393333
DTSTAMP:20260421T210104Z
DESCRIPTION:2/9 Zlín - Ostrava 2:3 (26\,20\,-16\,-12\,-12)
DTSTART;TZID=Europe/Berlin:20230319T120000
DTEND;TZID=Europe/Berlin:20230319T140000
LOCATION:Sportcentrum SLUNETA\, Jateční 1026 Ústí nad Labem - Klíše
SUMMARY:EX-U22M-5C: Zlín-Ostrava
END:VEVENT
BEGIN:VEVENT
UID:63333731-3131-4838-b234-326164313938
DTSTAMP:20260421T210104Z
DESCRIPTION:2/10 Svitavy - Ústí n. L. 3:0 (22\,20\,23)
DTSTART;TZID=Europe/Berlin:20230319T150000
DTEND;TZID=Europe/Berlin:20230319T170000
LOCATION:Sportcentrum SLUNETA\, Jateční 1026 Ústí nad Labem - Klíše
SUMMARY:EX-U22M-5C: Svitavy-Ústí n. L.
END:VEVENT
END:VCALENDAR
