BEGIN:VCALENDAR
VERSION:2.0
PRODID:-//JM-U18Z-VID//NONSGML kigkonsult.se iCalcreator 2.41.80//
CALSCALE:GREGORIAN
UID:39306632-3930-4035-a436-383235333137
BEGIN:VEVENT
UID:61383031-3634-4466-b264-373039373137
DTSTAMP:20260422T202155Z
DESCRIPTION:1/1 TJ Sokol Újezd u Brna - Orel Křenovice 0:3 (-15\,-20\,-12)
DTSTART;TZID=Europe/Berlin:20230212T090000
DTEND;TZID=Europe/Berlin:20230212T110000
LOCATION:Hala ZŠ Újezd u Brna\, Školní 284 Újezd u Brna
SUMMARY:JM-U18Z-VID: TJ Sokol Újezd u Brna-Orel Křenovice
END:VEVENT
BEGIN:VEVENT
UID:66646635-3135-4366-b836-643963346236
DTSTAMP:20260422T202155Z
DESCRIPTION:2/2 Orel Křenovice - DDM Kuřim 3:1 (6\,-23\,21\,19)
DTSTART;TZID=Europe/Berlin:20230212T113000
DTEND;TZID=Europe/Berlin:20230212T133000
LOCATION:Sportovní hala Křenovice \, Bratří Mrázků 635 Křenovice
SUMMARY:JM-U18Z-VID: Orel Křenovice-DDM Kuřim
END:VEVENT
BEGIN:VEVENT
UID:30613139-3466-4635-b130-653366626430
DTSTAMP:20260422T202155Z
DESCRIPTION:3/3 DDM Kuřim - TJ Sokol Újezd u Brna 1:3 (-21\,-22\,22\,-18)
DTSTART;TZID=Europe/Berlin:20230212T140000
DTEND;TZID=Europe/Berlin:20230212T160000
LOCATION:ZŠ Jungmannova Kuřim\, Jungmannova 813 Kuřim
SUMMARY:JM-U18Z-VID: DDM Kuřim-TJ Sokol Újezd u Brna
END:VEVENT
END:VCALENDAR
