BEGIN:VCALENDAR
VERSION:2.0
PRODID:-//EX-U22Z-7D//NONSGML kigkonsult.se iCalcreator 2.41.80//
CALSCALE:GREGORIAN
UID:36653361-3562-4861-b434-663839333334
BEGIN:VEVENT
UID:37656365-6662-4537-b463-363037633864
DTSTAMP:20260421T151521Z
DESCRIPTION:19/1 U. Hradiště - Přerov 1:3 (-19\,-18\,11\,-18)
DTSTART;TZID=Europe/Berlin:20230305T100000
DTEND;TZID=Europe/Berlin:20230305T120000
LOCATION:Městská sportovní hala\, Stonky 860 Uherské Hradiště
SUMMARY:EX-U22Z-7D: U. Hradiště-Přerov
END:VEVENT
BEGIN:VEVENT
UID:63626439-3833-4532-b037-376464373139
DTSTAMP:20260421T151521Z
DESCRIPTION:20/2 U. Hradiště - Přerov 3:1 (-12\,18\,13\,22)
DTSTART;TZID=Europe/Berlin:20230305T140000
DTEND;TZID=Europe/Berlin:20230305T160000
LOCATION:Městská sportovní hala\, Stonky 860 Uherské Hradiště
SUMMARY:EX-U22Z-7D: U. Hradiště-Přerov
END:VEVENT
END:VCALENDAR
