BEGIN:VCALENDAR
VERSION:2.0
PRODID:-//EX-U18Z-8D//NONSGML kigkonsult.se iCalcreator 2.41.80//
CALSCALE:GREGORIAN
UID:66363763-3665-4662-b162-386535383734
BEGIN:VEVENT
UID:61643439-3537-4038-b462-616163633431
DTSTAMP:20260421T192004Z
DESCRIPTION:43/1 Nové Veselí - Mikulova 3:2 (-20\,22\,-24\,19\,10)
DTSTART;TZID=Europe/Berlin:20230401T103000
DTEND;TZID=Europe/Berlin:20230401T123000
LOCATION:Tělocvična ZŠ a MŠ Radostín nad Oslavou\,  Radostín nad Oslavou136
SUMMARY:EX-U18Z-8D: Nové Veselí-Mikulova
END:VEVENT
BEGIN:VEVENT
UID:65346336-6532-4533-a238-336564636533
DTSTAMP:20260421T192004Z
DESCRIPTION:44/2 Přerov - Střešovice 1:3 (-26\,15\,-20\,-20)
DTSTART;TZID=Europe/Berlin:20230401T123000
DTEND;TZID=Europe/Berlin:20230401T143000
LOCATION:Tělocvična ZŠ a MŠ Radostín nad Oslavou\,  Radostín nad Oslavou136
SUMMARY:EX-U18Z-8D: Přerov-Střešovice
END:VEVENT
BEGIN:VEVENT
UID:31306661-3063-4331-a230-363862643066
DTSTAMP:20260421T192004Z
DESCRIPTION:45/3 Střešovice - Mikulova 3:0 (16\,20\,22)\nHráno v hale Tatra
 n Střešovice
DTSTART;TZID=Europe/Berlin:20230329T173000
DTEND;TZID=Europe/Berlin:20230329T193000
LOCATION:Tělocvična ZŠ a MŠ Radostín nad Oslavou\,  Radostín nad Oslavou136
SUMMARY:EX-U18Z-8D: Střešovice-Mikulova
END:VEVENT
BEGIN:VEVENT
UID:62636666-6563-4164-b032-316361313532
DTSTAMP:20260421T192004Z
DESCRIPTION:46/4 Nové Veselí - Přerov 3:2 (-23\,26\,-21\,23\,11)\nNH: Hala 
 Nové Veselí
DTSTART;TZID=Europe/Berlin:20230331T173000
DTEND;TZID=Europe/Berlin:20230331T193000
LOCATION:Tělocvična ZŠ a MŠ Radostín nad Oslavou\,  Radostín nad Oslavou136
SUMMARY:EX-U18Z-8D: Nové Veselí-Přerov
END:VEVENT
BEGIN:VEVENT
UID:64376566-6264-4563-b139-353839363830
DTSTAMP:20260421T192004Z
DESCRIPTION:47/5 Přerov - Mikulova 2:3 (15\,-11\,-21\,21\,-10)
DTSTART;TZID=Europe/Berlin:20230401T153000
DTEND;TZID=Europe/Berlin:20230401T173000
LOCATION:Tělocvična ZŠ a MŠ Radostín nad Oslavou\,  Radostín nad Oslavou136
SUMMARY:EX-U18Z-8D: Přerov-Mikulova
END:VEVENT
BEGIN:VEVENT
UID:66376439-3365-4763-b737-343965353939
DTSTAMP:20260421T192004Z
DESCRIPTION:48/6 Střešovice - Nové Veselí 3:1 (22\,20\,-21\,20)
DTSTART;TZID=Europe/Berlin:20230401T173000
DTEND;TZID=Europe/Berlin:20230401T193000
LOCATION:Tělocvična ZŠ a MŠ Radostín nad Oslavou\,  Radostín nad Oslavou136
SUMMARY:EX-U18Z-8D: Střešovice-Nové Veselí
END:VEVENT
END:VCALENDAR
