BEGIN:VCALENDAR
VERSION:2.0
PRODID:-//MCR-U14Z-1HB//NONSGML kigkonsult.se iCalcreator 2.41.80//
CALSCALE:GREGORIAN
UID:64316330-6130-4362-b064-633736363937
BEGIN:VEVENT
UID:31633633-3433-4364-a337-643639313266
DTSTAMP:20260424T213943Z
DESCRIPTION:1/1 ŠSK Bílovec - Happy Sport Opava 1:2 (-19\,18\,-6)
DTSTART;TZID=Europe/Berlin:20230325T090000
DTEND;TZID=Europe/Berlin:20230325T110000
LOCATION:Hala ZŠ Komenského\, Komenského 701 Bílovec
SUMMARY:MCR-U14Z-1HB: ŠSK Bílovec-Happy Sport Opava
END:VEVENT
BEGIN:VEVENT
UID:38643665-3863-4966-b566-346133313132
DTSTAMP:20260424T213943Z
DESCRIPTION:2/2 Happy Sport Opava - VK Královo Pole  A 2:0 (14\,23)
DTSTART;TZID=Europe/Berlin:20230325T103000
DTEND;TZID=Europe/Berlin:20230325T123000
LOCATION:Sportovní hala Slezského gymnázia v Opavě\, Zámecký okruh 461 Opav
 a - Město
SUMMARY:MCR-U14Z-1HB: Happy Sport Opava-VK Královo Pole  A
END:VEVENT
BEGIN:VEVENT
UID:65393630-6432-4531-b766-323736643532
DTSTAMP:20260424T213943Z
DESCRIPTION:3/3 VK Královo Pole  A - ŠSK Bílovec 0:2 (-18\,-17)
DTSTART;TZID=Europe/Berlin:20230325T114500
DTEND;TZID=Europe/Berlin:20230325T134500
LOCATION:Sportovní gymnázium Ludvíka Daňka\, Botanická 63 Brno - Ponava
SUMMARY:MCR-U14Z-1HB: VK Královo Pole  A-ŠSK Bílovec
END:VEVENT
END:VCALENDAR
