BEGIN:VCALENDAR
VERSION:2.0
PRODID:-//MCR-U14Z-1HH//NONSGML kigkonsult.se iCalcreator 2.41.80//
CALSCALE:GREGORIAN
UID:63633536-6339-4561-b033-653761363636
BEGIN:VEVENT
UID:62653734-3466-4239-b766-336262303466
DTSTAMP:20260424T231205Z
DESCRIPTION:1/1 Prostějov - KV Kopřivnice 0:2 (-7\,-15)
DTSTART;TZID=Europe/Berlin:20230326T090000
DTEND;TZID=Europe/Berlin:20230326T110000
LOCATION:Národní sportovní centrum\, Za velodromem 4187 Prostějov
SUMMARY:MCR-U14Z-1HH: Prostějov-KV Kopřivnice
END:VEVENT
BEGIN:VEVENT
UID:36326539-3833-4764-b765-616166383362
DTSTAMP:20260424T231205Z
DESCRIPTION:2/2 KV Kopřivnice - ŠSK Bílovec 1:2 (15\,-20\,-11)
DTSTART;TZID=Europe/Berlin:20230326T103000
DTEND;TZID=Europe/Berlin:20230326T123000
LOCATION:Tělocvičny ZŠ 17.listopadu Kopřivnice\, 17. listopadu 1225 Kopřivn
 ice
SUMMARY:MCR-U14Z-1HH: KV Kopřivnice-ŠSK Bílovec
END:VEVENT
BEGIN:VEVENT
UID:30353963-6363-4830-a561-393235386432
DTSTAMP:20260424T231205Z
DESCRIPTION:3/3 ŠSK Bílovec - Prostějov 2:0 (14\,21)
DTSTART;TZID=Europe/Berlin:20230326T114500
DTEND;TZID=Europe/Berlin:20230326T134500
LOCATION:Hala ZŠ Komenského\, Komenského 701 Bílovec
SUMMARY:MCR-U14Z-1HH: ŠSK Bílovec-Prostějov
END:VEVENT
END:VCALENDAR
