BEGIN:VCALENDAR
VERSION:2.0
PRODID:-//MCR-U14Z-1HI//NONSGML kigkonsult.se iCalcreator 2.41.80//
CALSCALE:GREGORIAN
UID:34316161-3532-4336-a163-373233623535
BEGIN:VEVENT
UID:62306536-3863-4538-b538-376165646131
DTSTAMP:20260424T233315Z
DESCRIPTION:1/1 Spartak Polička - TJ Ostrava 2:0 (10\,11)
DTSTART;TZID=Europe/Berlin:20230326T090000
DTEND;TZID=Europe/Berlin:20230326T110000
LOCATION:TJ Spartak Polička\, z.s. \, nábř. Svobody 447 Polička - Horní Pře
 dměstí
SUMMARY:MCR-U14Z-1HI: Spartak Polička-TJ Ostrava
END:VEVENT
BEGIN:VEVENT
UID:37356261-6334-4037-b334-306134396463
DTSTAMP:20260424T233315Z
DESCRIPTION:1/2 TJ Ostrava - VK UP Olomouc 0:2 (-15\,-18)
DTSTART;TZID=Europe/Berlin:20230326T090000
DTEND;TZID=Europe/Berlin:20230326T110000
LOCATION:Hala míčových sportů\, Varenská 3098 Ostrava - Moravská Ostrava
SUMMARY:MCR-U14Z-1HI: TJ Ostrava-VK UP Olomouc
END:VEVENT
BEGIN:VEVENT
UID:63323832-6566-4465-b862-313633393636
DTSTAMP:20260424T233315Z
DESCRIPTION:2/3 VK UP Olomouc - Spartak Polička 2:0 (14\,19)
DTSTART;TZID=Europe/Berlin:20230326T103000
DTEND;TZID=Europe/Berlin:20230326T123000
LOCATION:UP Olomouc\, U sportovní haly 38 Olomouc - Lazce
SUMMARY:MCR-U14Z-1HI: VK UP Olomouc-Spartak Polička
END:VEVENT
END:VCALENDAR
