BEGIN:VCALENDAR
VERSION:2.0
PRODID:-//MCR-U14Z-1AB//NONSGML kigkonsult.se iCalcreator 2.41.80//
CALSCALE:GREGORIAN
UID:66616136-3331-4036-b737-393934636438
BEGIN:VEVENT
UID:38303066-3162-4561-a164-656235343761
DTSTAMP:20260422T202226Z
DESCRIPTION:1/1 VSK Spartak Děčín - Sokol Komárov 2:0 (3\,9)
DTSTART;TZID=Europe/Berlin:20230325T093000
DTEND;TZID=Europe/Berlin:20230325T113000
LOCATION:SH ZŠ Dr M. Tyrše\, Vrchlického 630 Děčín - Děčín II-Nové Město
SUMMARY:MCR-U14Z-1AB: VSK Spartak Děčín-Sokol Komárov
END:VEVENT
BEGIN:VEVENT
UID:61386162-3439-4739-b630-666639343131
DTSTAMP:20260422T202226Z
DESCRIPTION:2/2 Sokol Komárov - Olymp Praha 'B' 0:2 (-9\,-16)
DTSTART;TZID=Europe/Berlin:20230325T110000
DTEND;TZID=Europe/Berlin:20230325T130000
LOCATION:Sokolovna Komárov\, Sokolská 230 Komárov
SUMMARY:MCR-U14Z-1AB: Sokol Komárov-Olymp Praha 'B'
END:VEVENT
BEGIN:VEVENT
UID:62633433-3330-4263-b465-376633356438
DTSTAMP:20260422T202226Z
DESCRIPTION:3/3 Olymp Praha 'B' - VSK Spartak Děčín 0:2 (-17\,-23)
DTSTART;TZID=Europe/Berlin:20230325T123000
DTEND;TZID=Europe/Berlin:20230325T143000
LOCATION:VCM OLYMP PRAHA \, Radlická 115 Praha - Radlice
SUMMARY:MCR-U14Z-1AB: Olymp Praha 'B'-VSK Spartak Děčín
END:VEVENT
END:VCALENDAR
