BEGIN:VCALENDAR
VERSION:2.0
PRODID:-//MCR-U14Z-1AE//NONSGML kigkonsult.se iCalcreator 2.41.80//
CALSCALE:GREGORIAN
UID:31363163-3930-4335-b164-626638353066
BEGIN:VEVENT
UID:61663336-6164-4931-b463-383366633466
DTSTAMP:20260424T090849Z
DESCRIPTION:1/1 VSK Spartak Děčín - TJ Neratovice 1:2 (-23\,15\,-9)
DTSTART;TZID=Europe/Berlin:20230325T140000
DTEND;TZID=Europe/Berlin:20230325T160000
LOCATION:SH ZŠ Dr M. Tyrše\, Vrchlického 630 Děčín - Děčín II-Nové Město
SUMMARY:MCR-U14Z-1AE: VSK Spartak Děčín-TJ Neratovice
END:VEVENT
BEGIN:VEVENT
UID:35323737-3537-4763-b764-336234396633
DTSTAMP:20260424T090849Z
DESCRIPTION:2/2 TJ Neratovice - VK Lvi Praha 0:2 (-12\,-18)
DTSTART;TZID=Europe/Berlin:20230325T153000
DTEND;TZID=Europe/Berlin:20230325T173000
LOCATION:sportovní hala TJ Neratovice \, Kpt. Jaroše 233 Neratovice
SUMMARY:MCR-U14Z-1AE: TJ Neratovice-VK Lvi Praha
END:VEVENT
BEGIN:VEVENT
UID:61303135-6537-4039-b132-323439326633
DTSTAMP:20260424T090849Z
DESCRIPTION:3/3 VK Lvi Praha - VSK Spartak Děčín 1:2 (23\,-16\,-11)
DTSTART;TZID=Europe/Berlin:20230325T170000
DTEND;TZID=Europe/Berlin:20230325T190000
LOCATION:Sportovní hala Lužiny\, Bellušova 1877 Praha - Stodůlky
SUMMARY:MCR-U14Z-1AE: VK Lvi Praha-VSK Spartak Děčín
END:VEVENT
END:VCALENDAR
