BEGIN:VCALENDAR
VERSION:2.0
PRODID:-//MCR-U14Z-1FB//NONSGML kigkonsult.se iCalcreator 2.41.80//
CALSCALE:GREGORIAN
UID:64326333-6431-4036-b863-373539303063
BEGIN:VEVENT
UID:39623430-6665-4363-b436-336163306564
DTSTAMP:20260424T034546Z
DESCRIPTION:1/1 BVC Chodov - Kladno volejbal 0:2 (-12\,-9)
DTSTART;TZID=Europe/Berlin:20230325T103000
DTEND;TZID=Europe/Berlin:20230325T123000
LOCATION:Městská sportovní hala Chodov\, Tyršova 1201 Chodov
SUMMARY:MCR-U14Z-1FB: BVC Chodov-Kladno volejbal
END:VEVENT
BEGIN:VEVENT
UID:30303464-3437-4963-b765-383430346162
DTSTAMP:20260424T034546Z
DESCRIPTION:2/2 BVC Chodov - Mikulova Praha B 0:2 (-26\,-16)
DTSTART;TZID=Europe/Berlin:20230325T114500
DTEND;TZID=Europe/Berlin:20230325T134500
LOCATION:Městská sportovní hala Chodov\, Tyršova 1201 Chodov
SUMMARY:MCR-U14Z-1FB: BVC Chodov-Mikulova Praha B
END:VEVENT
BEGIN:VEVENT
UID:33643938-3431-4139-a330-626434613566
DTSTAMP:20260424T034546Z
DESCRIPTION:3/3 Mikulova Praha B - Kladno volejbal 2:0 (23\,12)
DTSTART;TZID=Europe/Berlin:20230325T130000
DTEND;TZID=Europe/Berlin:20230325T150000
LOCATION:tělocvičny ZŠ Mikulova\, Mikulova 1594 Praha - Chodov
SUMMARY:MCR-U14Z-1FB: Mikulova Praha B-Kladno volejbal
END:VEVENT
END:VCALENDAR
