BEGIN:VCALENDAR
VERSION:2.0
PRODID:-//MCR-U14Z-1FG//NONSGML kigkonsult.se iCalcreator 2.41.80//
CALSCALE:GREGORIAN
UID:35623631-6231-4466-a661-626536643431
BEGIN:VEVENT
UID:64383762-6664-4535-a439-666565313132
DTSTAMP:20260424T192621Z
DESCRIPTION:1/1 VK Karlovy Vary - SK Volejbal Ústí n. L. 2:0 (26\,10)
DTSTART;TZID=Europe/Berlin:20230326T083000
DTEND;TZID=Europe/Berlin:20230326T103000
LOCATION:Mattoni Arena Hala míčových sportů\, Západní 1812 Karlovy Vary
SUMMARY:MCR-U14Z-1FG: VK Karlovy Vary-SK Volejbal Ústí n. L.
END:VEVENT
BEGIN:VEVENT
UID:36363137-3265-4363-b566-343236623834
DTSTAMP:20260424T192621Z
DESCRIPTION:2/2 SK Volejbal Ústí n. L. - Mikulova Praha B 0:2 (-16\,-15)
DTSTART;TZID=Europe/Berlin:20230326T094500
DTEND;TZID=Europe/Berlin:20230326T114500
LOCATION:Základní škola Stříbrnická\, Stříbrnická 3031 Ústí nad Labem - Sev
 erní Terasa
SUMMARY:MCR-U14Z-1FG: SK Volejbal Ústí n. L.-Mikulova Praha B
END:VEVENT
BEGIN:VEVENT
UID:64643334-3365-4162-a161-366164366235
DTSTAMP:20260424T192621Z
DESCRIPTION:3/3 VK Karlovy Vary - Mikulova Praha B 2:0 (23\,22)
DTSTART;TZID=Europe/Berlin:20230326T110000
DTEND;TZID=Europe/Berlin:20230326T130000
LOCATION:Mattoni Arena Hala míčových sportů\, Západní 1812 Karlovy Vary
SUMMARY:MCR-U14Z-1FG: VK Karlovy Vary-Mikulova Praha B
END:VEVENT
END:VCALENDAR
