BEGIN:VCALENDAR
VERSION:2.0
PRODID:-//MCR-U14Z-1GE//NONSGML kigkonsult.se iCalcreator 2.41.80//
CALSCALE:GREGORIAN
UID:62636134-3532-4464-b864-633665343066
BEGIN:VEVENT
UID:63393962-3530-4262-b064-316132313432
DTSTAMP:20260424T201808Z
DESCRIPTION:1/1 Střešovice - TJ Loko Plzeň 2:1 (-18\,8\,12)
DTSTART;TZID=Europe/Berlin:20230325T134500
DTEND;TZID=Europe/Berlin:20230325T154500
LOCATION:TJ Tatran Střešovice\, Sibeliova 368 Praha - Střešovice
SUMMARY:MCR-U14Z-1GE: Střešovice-TJ Loko Plzeň
END:VEVENT
BEGIN:VEVENT
UID:37636231-6262-4535-b836-613834336463
DTSTAMP:20260424T201808Z
DESCRIPTION:2/2 TJ Loko Plzeň - Radotínský SK 2:0 (12\,16)
DTSTART;TZID=Europe/Berlin:20230325T150000
DTEND;TZID=Europe/Berlin:20230325T170000
LOCATION:Městská sportovní hala  -  hala 2\, Úslavská 2357 Plzeň - Východní
  Předměstí
SUMMARY:MCR-U14Z-1GE: TJ Loko Plzeň-Radotínský SK
END:VEVENT
BEGIN:VEVENT
UID:63643537-3935-4633-b766-343635663632
DTSTAMP:20260424T201808Z
DESCRIPTION:3/3 Radotínský SK - Střešovice 0:2 (-15\,-9)
DTSTART;TZID=Europe/Berlin:20230325T161500
DTEND;TZID=Europe/Berlin:20230325T181500
LOCATION:Sportovní hala Radotín\, U starého stadiónu 1585 Praha - Radotín
SUMMARY:MCR-U14Z-1GE: Radotínský SK-Střešovice
END:VEVENT
END:VCALENDAR
