BEGIN:VCALENDAR
VERSION:2.0
PRODID:-//MCR-U14Z-1IB//NONSGML kigkonsult.se iCalcreator 2.41.80//
CALSCALE:GREGORIAN
UID:66393964-6333-4337-b862-346231626533
BEGIN:VEVENT
UID:39356139-6639-4338-b532-363238613031
DTSTAMP:20260422T183113Z
DESCRIPTION:1/1 Ještědská Liberec - Spartak Hořovice 2:0 (21\,21)
DTSTART;TZID=Europe/Berlin:20230325T100000
DTEND;TZID=Europe/Berlin:20230325T120000
LOCATION:ZŠ Ještědská\, Ještědská 354 Liberec - Liberec VIII-Dolní Hanychov
SUMMARY:MCR-U14Z-1IB: Ještědská Liberec-Spartak Hořovice
END:VEVENT
BEGIN:VEVENT
UID:61333163-6336-4561-b633-343639646536
DTSTAMP:20260422T183113Z
DESCRIPTION:2/2 Volejbal Rudolfov - Ještědská Liberec 0:2 (-12\,-16)
DTSTART;TZID=Europe/Berlin:20230325T110000
DTEND;TZID=Europe/Berlin:20230325T130000
LOCATION:Sportovní hala Rudolfov\, Adamovská 511 Rudolfov
SUMMARY:MCR-U14Z-1IB: Volejbal Rudolfov-Ještědská Liberec
END:VEVENT
BEGIN:VEVENT
UID:65333634-3437-4634-b930-383462653265
DTSTAMP:20260422T183113Z
DESCRIPTION:3/3 Spartak Hořovice - Volejbal Rudolfov 2:0 (19\,23)
DTSTART;TZID=Europe/Berlin:20230325T120000
DTEND;TZID=Europe/Berlin:20230325T140000
LOCATION:Sportovní hala\, Ke Stadionu 1385 Hořovice
SUMMARY:MCR-U14Z-1IB: Spartak Hořovice-Volejbal Rudolfov
END:VEVENT
END:VCALENDAR
