BEGIN:VCALENDAR
VERSION:2.0
PRODID:-//MCR-U14Z-1IF//NONSGML kigkonsult.se iCalcreator 2.41.80//
CALSCALE:GREGORIAN
UID:61633232-6164-4532-a632-616664666135
BEGIN:VEVENT
UID:38343766-6139-4738-b763-666630386639
DTSTAMP:20260424T192740Z
DESCRIPTION:1/1 VK Teplice - Volejbal Rudolfov 0:2 (-22\,-13)
DTSTART;TZID=Europe/Berlin:20230325T140000
DTEND;TZID=Europe/Berlin:20230325T160000
LOCATION:ZŠ Edisonova Teplice\, Edisonova 1732 Teplice - Trnovany
SUMMARY:MCR-U14Z-1IF: VK Teplice-Volejbal Rudolfov
END:VEVENT
BEGIN:VEVENT
UID:66613865-6663-4566-b765-653833383639
DTSTAMP:20260424T192740Z
DESCRIPTION:2/2 SK Meteor Praha - Volejbal Rudolfov 2:0 (21\,10)
DTSTART;TZID=Europe/Berlin:20230325T150000
DTEND;TZID=Europe/Berlin:20230325T170000
LOCATION:ZŠ Žernosecká\, Žernosecká 1597 Praha - Kobylisy
SUMMARY:MCR-U14Z-1IF: SK Meteor Praha-Volejbal Rudolfov
END:VEVENT
BEGIN:VEVENT
UID:33376639-6435-4031-b737-636131663664
DTSTAMP:20260424T192740Z
DESCRIPTION:3/3 VK Teplice - SK Meteor Praha 0:2 (-23\,-19)
DTSTART;TZID=Europe/Berlin:20230325T160000
DTEND;TZID=Europe/Berlin:20230325T180000
LOCATION:ZŠ Edisonova Teplice\, Edisonova 1732 Teplice - Trnovany
SUMMARY:MCR-U14Z-1IF: VK Teplice-SK Meteor Praha
END:VEVENT
END:VCALENDAR
