BEGIN:VCALENDAR
VERSION:2.0
PRODID:-//MS-U14Z-T6C//NONSGML kigkonsult.se iCalcreator 2.41.80//
CALSCALE:GREGORIAN
UID:61313164-3236-4265-b332-623061623331
BEGIN:VEVENT
UID:36646665-3738-4532-a432-356638376331
DTSTAMP:20260421T210138Z
DESCRIPTION:1/1 VK Polanka nad Odrou - TJ Sokol Frýdek - Místek B 2:0 (21\,
 17)
DTSTART;TZID=Europe/Berlin:20230401T090000
DTEND;TZID=Europe/Berlin:20230401T110000
LOCATION:Hala Gymnázium Karviná\, Mírová 1442 Karviná - Nové Město
SUMMARY:MS-U14Z-T6C: VK Polanka nad Odrou-TJ Sokol Frýdek - Místek B
END:VEVENT
BEGIN:VEVENT
UID:32623362-3334-4963-a635-623131303166
DTSTAMP:20260421T210138Z
DESCRIPTION:1/2 SVK Nový Jičín  B - TJ Hlučín 0:2 (-20\,-21)
DTSTART;TZID=Europe/Berlin:20230401T090000
DTEND;TZID=Europe/Berlin:20230401T110000
LOCATION:Hala Gymnázium Karviná\, Mírová 1442 Karviná - Nové Město
SUMMARY:MS-U14Z-T6C: SVK Nový Jičín  B-TJ Hlučín
END:VEVENT
BEGIN:VEVENT
UID:30363435-6131-4363-a237-653831343063
DTSTAMP:20260421T210138Z
DESCRIPTION:2/3 TJ Sokol Frýdek - Místek B - SVK Nový Jičín  B 2:0 (16\,23)
DTSTART;TZID=Europe/Berlin:20230401T100000
DTEND;TZID=Europe/Berlin:20230401T120000
LOCATION:Hala Gymnázium Karviná\, Mírová 1442 Karviná - Nové Město
SUMMARY:MS-U14Z-T6C: TJ Sokol Frýdek - Místek B-SVK Nový Jičín  B
END:VEVENT
BEGIN:VEVENT
UID:37346138-3837-4837-b566-393334326461
DTSTAMP:20260421T210138Z
DESCRIPTION:2/4 VK Karviná\, z.s. - VK Polanka nad Odrou 2:1 (25\,-20\,9)
DTSTART;TZID=Europe/Berlin:20230401T100000
DTEND;TZID=Europe/Berlin:20230401T120000
LOCATION:Hala Gymnázium Karviná\, Mírová 1442 Karviná - Nové Město
SUMMARY:MS-U14Z-T6C: VK Karviná\, z.s.-VK Polanka nad Odrou
END:VEVENT
BEGIN:VEVENT
UID:36336238-3537-4439-b563-646566663864
DTSTAMP:20260421T210138Z
DESCRIPTION:3/5 SVK Nový Jičín  B - VK Karviná\, z.s. 0:2 (-23\,-25)
DTSTART;TZID=Europe/Berlin:20230401T110000
DTEND;TZID=Europe/Berlin:20230401T130000
LOCATION:Hala Gymnázium Karviná\, Mírová 1442 Karviná - Nové Město
SUMMARY:MS-U14Z-T6C: SVK Nový Jičín  B-VK Karviná\, z.s.
END:VEVENT
BEGIN:VEVENT
UID:65333938-3438-4061-b837-623839663932
DTSTAMP:20260421T210138Z
DESCRIPTION:3/6 TJ Hlučín - TJ Sokol Frýdek - Místek B 1:2 (17\,-9\,-8)
DTSTART;TZID=Europe/Berlin:20230401T110000
DTEND;TZID=Europe/Berlin:20230401T130000
LOCATION:Hala Gymnázium Karviná\, Mírová 1442 Karviná - Nové Město
SUMMARY:MS-U14Z-T6C: TJ Hlučín-TJ Sokol Frýdek - Místek B
END:VEVENT
BEGIN:VEVENT
UID:39353331-6431-4236-b666-613361386539
DTSTAMP:20260421T210138Z
DESCRIPTION:4/7 TJ Hlučín - VK Polanka nad Odrou 2:0 (18\,17)
DTSTART;TZID=Europe/Berlin:20230401T120000
DTEND;TZID=Europe/Berlin:20230401T140000
LOCATION:Hala Gymnázium Karviná\, Mírová 1442 Karviná - Nové Město
SUMMARY:MS-U14Z-T6C: TJ Hlučín-VK Polanka nad Odrou
END:VEVENT
BEGIN:VEVENT
UID:33376164-3138-4538-b032-373233663366
DTSTAMP:20260421T210138Z
DESCRIPTION:4/8 TJ Sokol Frýdek - Místek B - VK Karviná\, z.s. 0:2 (-17\,-1
 9)
DTSTART;TZID=Europe/Berlin:20230401T120000
DTEND;TZID=Europe/Berlin:20230401T140000
LOCATION:Hala Gymnázium Karviná\, Mírová 1442 Karviná - Nové Město
SUMMARY:MS-U14Z-T6C: TJ Sokol Frýdek - Místek B-VK Karviná\, z.s.
END:VEVENT
BEGIN:VEVENT
UID:30613737-3536-4361-b332-353435356331
DTSTAMP:20260421T210138Z
DESCRIPTION:5/9 VK Karviná\, z.s. - TJ Hlučín 0:2 (-17\,-19)
DTSTART;TZID=Europe/Berlin:20230401T130000
DTEND;TZID=Europe/Berlin:20230401T150000
LOCATION:Hala Gymnázium Karviná\, Mírová 1442 Karviná - Nové Město
SUMMARY:MS-U14Z-T6C: VK Karviná\, z.s.-TJ Hlučín
END:VEVENT
BEGIN:VEVENT
UID:30333465-3135-4334-a131-353632613739
DTSTAMP:20260421T210138Z
DESCRIPTION:5/10 VK Polanka nad Odrou - SVK Nový Jičín  B 2:0 (22\,19)
DTSTART;TZID=Europe/Berlin:20230401T130000
DTEND;TZID=Europe/Berlin:20230401T150000
LOCATION:Hala Gymnázium Karviná\, Mírová 1442 Karviná - Nové Město
SUMMARY:MS-U14Z-T6C: VK Polanka nad Odrou-SVK Nový Jičín  B
END:VEVENT
END:VCALENDAR
