BEGIN:VCALENDAR
VERSION:2.0
PRODID:-//EX-U20M-6B//NONSGML kigkonsult.se iCalcreator 2.41.80//
CALSCALE:GREGORIAN
UID:62316561-3337-4236-a137-393264316632
BEGIN:VEVENT
UID:35326465-3833-4566-b032-666231396134
DTSTAMP:20260421T192002Z
DESCRIPTION:1/1 Kojetín - Olomouc 3:0 (21\,21\,21)
DTSTART;TZID=Europe/Berlin:20230429T100000
DTEND;TZID=Europe/Berlin:20230429T120000
LOCATION:Městská sportovní hala\, Hanusíkova 1476 Kojetín - Kojetín I-Město
SUMMARY:EX-U20M-6B: Kojetín-Olomouc
END:VEVENT
BEGIN:VEVENT
UID:35393432-3361-4236-b766-666439366334
DTSTAMP:20260421T192002Z
DESCRIPTION:1/2 VK Ostrava - Zlín 1:3 (-22\,17\,-21\,-21)
DTSTART;TZID=Europe/Berlin:20230429T120000
DTEND;TZID=Europe/Berlin:20230429T140000
LOCATION:Městská sportovní hala\, Hanusíkova 1476 Kojetín - Kojetín I-Město
SUMMARY:EX-U20M-6B: VK Ostrava-Zlín
END:VEVENT
BEGIN:VEVENT
UID:34336461-6636-4362-b964-616665643539
DTSTAMP:20260421T192002Z
DESCRIPTION:1/3 Liberec - Olomouc 3:2 (-16\,19\,23\,-26\,12)
DTSTART;TZID=Europe/Berlin:20230429T140000
DTEND;TZID=Europe/Berlin:20230429T160000
LOCATION:Městská sportovní hala\, Hanusíkova 1476 Kojetín - Kojetín I-Město
SUMMARY:EX-U20M-6B: Liberec-Olomouc
END:VEVENT
BEGIN:VEVENT
UID:35356661-3661-4038-b130-646531363837
DTSTAMP:20260421T192002Z
DESCRIPTION:1/4 Kojetín - VK Ostrava 2:3 (24\,-26\,-22\,19\,-11)
DTSTART;TZID=Europe/Berlin:20230429T160000
DTEND;TZID=Europe/Berlin:20230429T180000
LOCATION:Městská sportovní hala\, Hanusíkova 1476 Kojetín - Kojetín I-Město
SUMMARY:EX-U20M-6B: Kojetín-VK Ostrava
END:VEVENT
BEGIN:VEVENT
UID:62663530-3031-4233-b766-353733633336
DTSTAMP:20260421T192002Z
DESCRIPTION:1/5 Liberec - Zlín 3:0 (25\,20\,16)
DTSTART;TZID=Europe/Berlin:20230429T180000
DTEND;TZID=Europe/Berlin:20230429T200000
LOCATION:Městská sportovní hala\, Hanusíkova 1476 Kojetín - Kojetín I-Město
SUMMARY:EX-U20M-6B: Liberec-Zlín
END:VEVENT
BEGIN:VEVENT
UID:32373666-3438-4763-b631-363436353063
DTSTAMP:20260421T192002Z
DESCRIPTION:2/6 Olomouc - VK Ostrava 3:1 (18\,-16\,18\,18)
DTSTART;TZID=Europe/Berlin:20230430T090000
DTEND;TZID=Europe/Berlin:20230430T110000
LOCATION:Městská sportovní hala\, Hanusíkova 1476 Kojetín - Kojetín I-Město
SUMMARY:EX-U20M-6B: Olomouc-VK Ostrava
END:VEVENT
BEGIN:VEVENT
UID:66326132-3830-4537-b838-316565323231
DTSTAMP:20260421T192002Z
DESCRIPTION:2/7 Kojetín - Liberec 1:3 (-22\,-22\,21\,-19)
DTSTART;TZID=Europe/Berlin:20230430T110000
DTEND;TZID=Europe/Berlin:20230430T130000
LOCATION:Městská sportovní hala\, Hanusíkova 1476 Kojetín - Kojetín I-Město
SUMMARY:EX-U20M-6B: Kojetín-Liberec
END:VEVENT
BEGIN:VEVENT
UID:36343830-3336-4531-b835-663639313331
DTSTAMP:20260421T192002Z
DESCRIPTION:2/8 Zlín - Olomouc 3:0 (23\,16\,19)
DTSTART;TZID=Europe/Berlin:20230430T130000
DTEND;TZID=Europe/Berlin:20230430T150000
LOCATION:Městská sportovní hala\, Hanusíkova 1476 Kojetín - Kojetín I-Město
SUMMARY:EX-U20M-6B: Zlín-Olomouc
END:VEVENT
BEGIN:VEVENT
UID:34383164-3637-4635-b931-313238623462
DTSTAMP:20260421T192002Z
DESCRIPTION:2/9 VK Ostrava - Liberec 1:3 (-15\,-10\,20\,-14)
DTSTART;TZID=Europe/Berlin:20230430T150000
DTEND;TZID=Europe/Berlin:20230430T170000
LOCATION:Městská sportovní hala\, Hanusíkova 1476 Kojetín - Kojetín I-Město
SUMMARY:EX-U20M-6B: VK Ostrava-Liberec
END:VEVENT
BEGIN:VEVENT
UID:34396366-6433-4237-b634-303133343830
DTSTAMP:20260421T192002Z
DESCRIPTION:2/10 Zlín - Kojetín 1:3 (19\,-16\,-21\,-21)
DTSTART;TZID=Europe/Berlin:20230430T170000
DTEND;TZID=Europe/Berlin:20230430T190000
LOCATION:Městská sportovní hala\, Hanusíkova 1476 Kojetín - Kojetín I-Město
SUMMARY:EX-U20M-6B: Zlín-Kojetín
END:VEVENT
END:VCALENDAR
