BEGIN:VCALENDAR
VERSION:2.0
PRODID:-//CP-U20Z-4B//NONSGML kigkonsult.se iCalcreator 2.41.80//
CALSCALE:GREGORIAN
UID:34336336-3634-4635-a663-343139613136
BEGIN:VEVENT
UID:63613233-3536-4631-b839-653066303265
DTSTAMP:20260421T210039Z
DESCRIPTION:1/1 SPORT KLUB Náchod\, z.s. - Chlumec/C. 2:0 (16\,21)
DTSTART;TZID=Europe/Berlin:20230325T090000
DTEND;TZID=Europe/Berlin:20230325T110000
LOCATION:SPORT KLUB Náchod\, Pražská 696 Náchod
SUMMARY:CP-U20Z-4B: SPORT KLUB Náchod\, z.s.-Chlumec/C.
END:VEVENT
BEGIN:VEVENT
UID:61323238-6639-4663-b765-383733666232
DTSTAMP:20260421T210039Z
DESCRIPTION:2/2 SPORT KLUB Náchod\, z.s. - VK Rokycany 2:1 (-22\,18\,5)
DTSTART;TZID=Europe/Berlin:20230325T101500
DTEND;TZID=Europe/Berlin:20230325T121500
LOCATION:SPORT KLUB Náchod\, Pražská 696 Náchod
SUMMARY:CP-U20Z-4B: SPORT KLUB Náchod\, z.s.-VK Rokycany
END:VEVENT
BEGIN:VEVENT
UID:66363865-3532-4437-a265-666366396464
DTSTAMP:20260421T210039Z
DESCRIPTION:2/3 Chlumec/C. - Tělovýchovná jednota Jiskra Havlíčkův Brod z.s
 . 2:0 (18\,15)
DTSTART;TZID=Europe/Berlin:20230325T101500
DTEND;TZID=Europe/Berlin:20230325T121500
LOCATION:Slavíčkova hala\, Sokolská 795 Chlumec nad Cidlinou - Chlumec nad 
 Cidlinou IV
SUMMARY:CP-U20Z-4B: Chlumec/C.-Tělovýchovná jednota Jiskra Havlíčkův Brod z
 .s.
END:VEVENT
BEGIN:VEVENT
UID:64616532-3263-4436-a265-343366396335
DTSTAMP:20260421T210039Z
DESCRIPTION:3/4 VYŠKOV - TJ ABC Braník\, z.s. 2:0 (12\,24)
DTSTART;TZID=Europe/Berlin:20230325T113000
DTEND;TZID=Europe/Berlin:20230325T133000
LOCATION:Tělocvična ZŠ Nádražní\, Nádražní 5 Vyškov - Vyškov-Město
SUMMARY:CP-U20Z-4B: VYŠKOV-TJ ABC Braník\, z.s.
END:VEVENT
BEGIN:VEVENT
UID:34373064-3339-4533-a439-303032333966
DTSTAMP:20260421T210039Z
DESCRIPTION:3/5 SK TŘEBÍN\, z.s. - Tělovýchovná jednota Jiskra Havlíčkův Br
 od z.s. 0:2 (-16\,-14)
DTSTART;TZID=Europe/Berlin:20230325T113000
DTEND;TZID=Europe/Berlin:20230325T133000
LOCATION:ZŠ Máj I\, M. Chlajna 1319 České Budějovice - České Budějovice 2
SUMMARY:CP-U20Z-4B: SK TŘEBÍN\, z.s.-Tělovýchovná jednota Jiskra Havlíčkův 
 Brod z.s.
END:VEVENT
BEGIN:VEVENT
UID:66313533-3665-4563-b763-373263383465
DTSTAMP:20260421T210039Z
DESCRIPTION:4/6 VK Rokycany - TJ ABC Braník\, z.s. 2:0 (19\,24)
DTSTART;TZID=Europe/Berlin:20230325T124500
DTEND;TZID=Europe/Berlin:20230325T144500
LOCATION:Hala Gymnázia Rokycany\, Mládežníků 1115 Rokycany - Nové Město
SUMMARY:CP-U20Z-4B: VK Rokycany-TJ ABC Braník\, z.s.
END:VEVENT
BEGIN:VEVENT
UID:66366161-3765-4032-a132-623438343738
DTSTAMP:20260421T210039Z
DESCRIPTION:4/7 Chlumec/C. - SK TŘEBÍN\, z.s. 2:0 (15\,20)
DTSTART;TZID=Europe/Berlin:20230325T124500
DTEND;TZID=Europe/Berlin:20230325T144500
LOCATION:Slavíčkova hala\, Sokolská 795 Chlumec nad Cidlinou - Chlumec nad 
 Cidlinou IV
SUMMARY:CP-U20Z-4B: Chlumec/C.-SK TŘEBÍN\, z.s.
END:VEVENT
BEGIN:VEVENT
UID:65633934-3333-4337-b634-376362363430
DTSTAMP:20260421T210039Z
DESCRIPTION:5/8 SPORT KLUB Náchod\, z.s. - VYŠKOV 2:0 (20\,20)
DTSTART;TZID=Europe/Berlin:20230325T140000
DTEND;TZID=Europe/Berlin:20230325T160000
LOCATION:SPORT KLUB Náchod\, Pražská 696 Náchod
SUMMARY:CP-U20Z-4B: SPORT KLUB Náchod\, z.s.-VYŠKOV
END:VEVENT
BEGIN:VEVENT
UID:61336264-3065-4461-a531-646334353565
DTSTAMP:20260421T210039Z
DESCRIPTION:5/9 Tělovýchovná jednota Jiskra Havlíčkův Brod z.s. - VK Rokyca
 ny 0:2 (-16\,-20)
DTSTART;TZID=Europe/Berlin:20230325T140000
DTEND;TZID=Europe/Berlin:20230325T160000
LOCATION:Sportovní hala TJ Jiskra\, Ledečská 3028 Havlíčkův Brod
SUMMARY:CP-U20Z-4B: Tělovýchovná jednota Jiskra Havlíčkův Brod z.s.-VK Roky
 cany
END:VEVENT
BEGIN:VEVENT
UID:30393338-3038-4362-b537-343433656364
DTSTAMP:20260421T210039Z
DESCRIPTION:6/10 SK TŘEBÍN\, z.s. - VYŠKOV 0:2 (-14\,-19)
DTSTART;TZID=Europe/Berlin:20230325T151500
DTEND;TZID=Europe/Berlin:20230325T171500
LOCATION:ZŠ Máj I\, M. Chlajna 1319 České Budějovice - České Budějovice 2
SUMMARY:CP-U20Z-4B: SK TŘEBÍN\, z.s.-VYŠKOV
END:VEVENT
BEGIN:VEVENT
UID:36303866-6330-4366-a262-313235613637
DTSTAMP:20260421T210039Z
DESCRIPTION:6/11 Chlumec/C. - VK Rokycany 2:1 (-23\,8\,13)
DTSTART;TZID=Europe/Berlin:20230325T151500
DTEND;TZID=Europe/Berlin:20230325T171500
LOCATION:Slavíčkova hala\, Sokolská 795 Chlumec nad Cidlinou - Chlumec nad 
 Cidlinou IV
SUMMARY:CP-U20Z-4B: Chlumec/C.-VK Rokycany
END:VEVENT
BEGIN:VEVENT
UID:30383131-3730-4137-b435-663737616331
DTSTAMP:20260421T210039Z
DESCRIPTION:7/12 SPORT KLUB Náchod\, z.s. - TJ ABC Braník\, z.s. 1:2 (-23\,
 18\,-12)
DTSTART;TZID=Europe/Berlin:20230325T163000
DTEND;TZID=Europe/Berlin:20230325T183000
LOCATION:SPORT KLUB Náchod\, Pražská 696 Náchod
SUMMARY:CP-U20Z-4B: SPORT KLUB Náchod\, z.s.-TJ ABC Braník\, z.s.
END:VEVENT
BEGIN:VEVENT
UID:34363138-6334-4361-b666-336333346135
DTSTAMP:20260421T210039Z
DESCRIPTION:7/13 VYŠKOV - Tělovýchovná jednota Jiskra Havlíčkův Brod z.s. 2
 :0 (0\,0)
DTSTART;TZID=Europe/Berlin:20230325T163000
DTEND;TZID=Europe/Berlin:20230325T183000
LOCATION:Tělocvična ZŠ Nádražní\, Nádražní 5 Vyškov - Vyškov-Město
SUMMARY:CP-U20Z-4B: VYŠKOV-Tělovýchovná jednota Jiskra Havlíčkův Brod z.s.
END:VEVENT
BEGIN:VEVENT
UID:63373335-3031-4465-b365-653531623432
DTSTAMP:20260421T210039Z
DESCRIPTION:8/14 SK TŘEBÍN\, z.s. - TJ ABC Braník\, z.s. 0:2 (-22\,-13)
DTSTART;TZID=Europe/Berlin:20230325T173000
DTEND;TZID=Europe/Berlin:20230325T193000
LOCATION:ZŠ Máj I\, M. Chlajna 1319 České Budějovice - České Budějovice 2
SUMMARY:CP-U20Z-4B: SK TŘEBÍN\, z.s.-TJ ABC Braník\, z.s.
END:VEVENT
BEGIN:VEVENT
UID:30316334-3561-4832-b064-326331306530
DTSTAMP:20260421T210039Z
DESCRIPTION:9/15 SK TŘEBÍN\, z.s. - SPORT KLUB Náchod\, z.s. 0:2 (-9\,-15)
DTSTART;TZID=Europe/Berlin:20230326T090000
DTEND;TZID=Europe/Berlin:20230326T110000
LOCATION:ZŠ Máj I\, M. Chlajna 1319 České Budějovice - České Budějovice 2
SUMMARY:CP-U20Z-4B: SK TŘEBÍN\, z.s.-SPORT KLUB Náchod\, z.s.
END:VEVENT
BEGIN:VEVENT
UID:65313763-3334-4862-b532-343432653361
DTSTAMP:20260421T210039Z
DESCRIPTION:9/16 VK Rokycany - VYŠKOV 1:2 (10\,-24\,-14)
DTSTART;TZID=Europe/Berlin:20230326T090000
DTEND;TZID=Europe/Berlin:20230326T110000
LOCATION:Hala Gymnázia Rokycany\, Mládežníků 1115 Rokycany - Nové Město
SUMMARY:CP-U20Z-4B: VK Rokycany-VYŠKOV
END:VEVENT
BEGIN:VEVENT
UID:62313434-3965-4238-a337-386335303466
DTSTAMP:20260421T210039Z
DESCRIPTION:10/17 Tělovýchovná jednota Jiskra Havlíčkův Brod z.s. - TJ ABC 
 Braník\, z.s. 0:2 (-0\,-0)
DTSTART;TZID=Europe/Berlin:20230326T101500
DTEND;TZID=Europe/Berlin:20230326T121500
LOCATION:Sportovní hala TJ Jiskra\, Ledečská 3028 Havlíčkův Brod
SUMMARY:CP-U20Z-4B: Tělovýchovná jednota Jiskra Havlíčkův Brod z.s.-TJ ABC 
 Braník\, z.s.
END:VEVENT
BEGIN:VEVENT
UID:66653033-3034-4063-b164-633935643139
DTSTAMP:20260421T210039Z
DESCRIPTION:10/18 Chlumec/C. - VYŠKOV 0:2 (-22\,-23)
DTSTART;TZID=Europe/Berlin:20230326T101500
DTEND;TZID=Europe/Berlin:20230326T121500
LOCATION:Slavíčkova hala\, Sokolská 795 Chlumec nad Cidlinou - Chlumec nad 
 Cidlinou IV
SUMMARY:CP-U20Z-4B: Chlumec/C.-VYŠKOV
END:VEVENT
BEGIN:VEVENT
UID:65623530-6562-4461-b765-636462393863
DTSTAMP:20260421T210039Z
DESCRIPTION:11/19 TJ ABC Braník\, z.s. - Chlumec/C. 1:2 (14\,-21\,-9)
DTSTART;TZID=Europe/Berlin:20230326T113000
DTEND;TZID=Europe/Berlin:20230326T133000
LOCATION:Sokolovna Braník\, Branická 275 Praha - Braník
SUMMARY:CP-U20Z-4B: TJ ABC Braník\, z.s.-Chlumec/C.
END:VEVENT
BEGIN:VEVENT
UID:34363264-6632-4933-a437-393336613235
DTSTAMP:20260421T210039Z
DESCRIPTION:11/20 SK TŘEBÍN\, z.s. - VK Rokycany 0:2 (-13\,-15)
DTSTART;TZID=Europe/Berlin:20230326T113000
DTEND;TZID=Europe/Berlin:20230326T133000
LOCATION:ZŠ Máj I\, M. Chlajna 1319 České Budějovice - České Budějovice 2
SUMMARY:CP-U20Z-4B: SK TŘEBÍN\, z.s.-VK Rokycany
END:VEVENT
BEGIN:VEVENT
UID:31666265-3433-4965-a633-316162363031
DTSTAMP:20260421T210039Z
DESCRIPTION:12/21 Tělovýchovná jednota Jiskra Havlíčkův Brod z.s. - SPORT K
 LUB Náchod\, z.s. 0:2 (-23\,-18)
DTSTART;TZID=Europe/Berlin:20230326T124500
DTEND;TZID=Europe/Berlin:20230326T144500
LOCATION:Sportovní hala TJ Jiskra\, Ledečská 3028 Havlíčkův Brod
SUMMARY:CP-U20Z-4B: Tělovýchovná jednota Jiskra Havlíčkův Brod z.s.-SPORT K
 LUB Náchod\, z.s.
END:VEVENT
END:VCALENDAR
