BEGIN:VCALENDAR
VERSION:2.0
PRODID:-//PA-U16M-4FB//NONSGML kigkonsult.se iCalcreator 2.41.80//
CALSCALE:GREGORIAN
UID:36313736-3238-4063-a163-393736363061
BEGIN:VEVENT
UID:36363633-3337-4463-b030-376463373764
DTSTAMP:20260421T210125Z
DESCRIPTION:1/1 Hradec Králové A - Česká Třebová 2:0 (17\,17)
DTSTART;TZID=Europe/Berlin:20230401T090000
DTEND;TZID=Europe/Berlin:20230401T110000
SUMMARY:PA-U16M-4FB: Hradec Králové A-Česká Třebová
END:VEVENT
BEGIN:VEVENT
UID:62353061-3232-4734-b735-313565623663
DTSTAMP:20260421T210125Z
DESCRIPTION:1/2 Letohrad - Nová Paka 2:1 (16\,-24\,6)
DTSTART;TZID=Europe/Berlin:20230401T100000
DTEND;TZID=Europe/Berlin:20230401T120000
SUMMARY:PA-U16M-4FB: Letohrad-Nová Paka
END:VEVENT
BEGIN:VEVENT
UID:64616237-6238-4134-b430-303464303938
DTSTAMP:20260421T210125Z
DESCRIPTION:1/3 Česká Třebová - Nová Paka 2:0 (18\,15)
DTSTART;TZID=Europe/Berlin:20230401T110000
DTEND;TZID=Europe/Berlin:20230401T130000
SUMMARY:PA-U16M-4FB: Česká Třebová-Nová Paka
END:VEVENT
BEGIN:VEVENT
UID:66303634-6235-4261-b534-653438336237
DTSTAMP:20260421T210125Z
DESCRIPTION:1/4 Hradec Králové A - Letohrad 2:0 (20\,18)
DTSTART;TZID=Europe/Berlin:20230401T120000
DTEND;TZID=Europe/Berlin:20230401T140000
SUMMARY:PA-U16M-4FB: Hradec Králové A-Letohrad
END:VEVENT
BEGIN:VEVENT
UID:66663839-6465-4635-b066-643433383531
DTSTAMP:20260421T210125Z
DESCRIPTION:1/5 Letohrad - Česká Třebová 0:2 (-14\,-21)
DTSTART;TZID=Europe/Berlin:20230401T130000
DTEND;TZID=Europe/Berlin:20230401T150000
SUMMARY:PA-U16M-4FB: Letohrad-Česká Třebová
END:VEVENT
BEGIN:VEVENT
UID:64656262-3833-4233-a331-643163343235
DTSTAMP:20260421T210125Z
DESCRIPTION:1/6 Hradec Králové A - Nová Paka 2:0 (14\,12)
DTSTART;TZID=Europe/Berlin:20230401T140000
DTEND;TZID=Europe/Berlin:20230401T160000
SUMMARY:PA-U16M-4FB: Hradec Králové A-Nová Paka
END:VEVENT
END:VCALENDAR
