BEGIN:VCALENDAR
VERSION:2.0
PRODID:-//ST-U14Z-J1//NONSGML kigkonsult.se iCalcreator 2.41.80//
CALSCALE:GREGORIAN
UID:64336630-3436-4033-a633-643166313766
BEGIN:VEVENT
UID:66386162-3030-4562-a135-623230323630
DTSTAMP:20260422T154816Z
DESCRIPTION:1/7 Hořovice - Příbram A 2:0 (10\,23)\nPořadatel: Volleyball Ny
 mburk
DTSTART;TZID=Europe/Berlin:20230416T100000
DTEND;TZID=Europe/Berlin:20230416T120000
LOCATION:Sportovní hala\, Ke Stadionu 1385 Hořovice
SUMMARY:ST-U14Z-J1: Hořovice-Příbram A
END:VEVENT
BEGIN:VEVENT
UID:39323338-6638-4261-b263-313534643465
DTSTAMP:20260422T154816Z
DESCRIPTION:1/8 Kralupy - Nymburské BOMBY 0:2 (-18\,-17)
DTSTART;TZID=Europe/Berlin:20230416T100000
DTEND;TZID=Europe/Berlin:20230416T120000
LOCATION:TJ KRALUPY\, z.s.\, Gen. Klapálka 1029 Kralupy nad Vltavou
SUMMARY:ST-U14Z-J1: Kralupy-Nymburské BOMBY
END:VEVENT
BEGIN:VEVENT
UID:38313762-3633-4934-b932-623532633964
DTSTAMP:20260422T154816Z
DESCRIPTION:1/9 Nymburk A - Kladno A 2:1 (-20\,16\,12)
DTSTART;TZID=Europe/Berlin:20230416T100000
DTEND;TZID=Europe/Berlin:20230416T120000
LOCATION:Zimní stadion\, U Stadionu 12 Nymburk
SUMMARY:ST-U14Z-J1: Nymburk A-Kladno A
END:VEVENT
END:VCALENDAR
