BEGIN:VCALENDAR
VERSION:2.0
PRODID:-//ST-U14Z-J1A//NONSGML kigkonsult.se iCalcreator 2.41.80//
CALSCALE:GREGORIAN
UID:35343637-3136-4564-b030-333038303738
BEGIN:VEVENT
UID:35333432-3534-4930-b135-333237376238
DTSTAMP:20260424T201830Z
DESCRIPTION:1/1 Nymburk A - Kralupy 2:0 (14\,16)\nPořadatel: Volleyball Nym
 burk
DTSTART;TZID=Europe/Berlin:20230416T100000
DTEND;TZID=Europe/Berlin:20230416T120000
LOCATION:Zimní stadion\, U Stadionu 12 Nymburk
SUMMARY:ST-U14Z-J1A: Nymburk A-Kralupy
END:VEVENT
BEGIN:VEVENT
UID:62303934-6137-4232-a532-316334353835
DTSTAMP:20260424T201830Z
DESCRIPTION:1/3 Kralupy - Hořovice 2:1 (-12\,13\,5)
DTSTART;TZID=Europe/Berlin:20230416T100000
DTEND;TZID=Europe/Berlin:20230416T120000
LOCATION:TJ KRALUPY\, z.s.\, Gen. Klapálka 1029 Kralupy nad Vltavou
SUMMARY:ST-U14Z-J1A: Kralupy-Hořovice
END:VEVENT
BEGIN:VEVENT
UID:37623238-3736-4532-b362-393435353438
DTSTAMP:20260424T201830Z
DESCRIPTION:1/5 Hořovice - Nymburk A 0:2 (-16\,-18)
DTSTART;TZID=Europe/Berlin:20230416T100000
DTEND;TZID=Europe/Berlin:20230416T120000
LOCATION:Sportovní hala\, Ke Stadionu 1385 Hořovice
SUMMARY:ST-U14Z-J1A: Hořovice-Nymburk A
END:VEVENT
END:VCALENDAR
