BEGIN:VCALENDAR
VERSION:2.0
PRODID:-//EX-U22M-6B//NONSGML kigkonsult.se iCalcreator 2.41.80//
CALSCALE:GREGORIAN
UID:65333130-6134-4530-a266-616163313932
BEGIN:VEVENT
UID:66633230-6633-4237-b632-313134316263
DTSTAMP:20260421T192001Z
DESCRIPTION:1/1 Kolín - Karlovarsko 3:0 (12\,16\,15)
DTSTART;TZID=Europe/Berlin:20230422T100000
DTEND;TZID=Europe/Berlin:20230422T120000
LOCATION:hala STAV\, SOŠ Kolín\, Brankovická 1417 Kolín - Kolín V
SUMMARY:EX-U22M-6B: Kolín-Karlovarsko
END:VEVENT
BEGIN:VEVENT
UID:30626137-3266-4537-b066-646334626261
DTSTAMP:20260421T192001Z
DESCRIPTION:1/2 Kojetín - Liberec 0:3 (-19\,-23\,-20)
DTSTART;TZID=Europe/Berlin:20230422T120000
DTEND;TZID=Europe/Berlin:20230422T140000
LOCATION:hala STAV\, SOŠ Kolín\, Brankovická 1417 Kolín - Kolín V
SUMMARY:EX-U22M-6B: Kojetín-Liberec
END:VEVENT
BEGIN:VEVENT
UID:64306133-3937-4463-b034-643236663530
DTSTAMP:20260421T192001Z
DESCRIPTION:1/3 Ostrava - Karlovarsko 3:1 (-19\,20\,22\,17)
DTSTART;TZID=Europe/Berlin:20230422T140000
DTEND;TZID=Europe/Berlin:20230422T160000
LOCATION:hala STAV\, SOŠ Kolín\, Brankovická 1417 Kolín - Kolín V
SUMMARY:EX-U22M-6B: Ostrava-Karlovarsko
END:VEVENT
BEGIN:VEVENT
UID:64366532-6636-4235-b535-346364303230
DTSTAMP:20260421T192001Z
DESCRIPTION:1/4 Kolín - Kojetín 3:1 (-22\,18\,13\,18)
DTSTART;TZID=Europe/Berlin:20230422T160000
DTEND;TZID=Europe/Berlin:20230422T180000
LOCATION:hala STAV\, SOŠ Kolín\, Brankovická 1417 Kolín - Kolín V
SUMMARY:EX-U22M-6B: Kolín-Kojetín
END:VEVENT
BEGIN:VEVENT
UID:39393533-3934-4263-a230-613236353466
DTSTAMP:20260421T192001Z
DESCRIPTION:1/5 Ostrava - Liberec 2:3 (24\,-19\,-17\,22\,-13)
DTSTART;TZID=Europe/Berlin:20230422T180000
DTEND;TZID=Europe/Berlin:20230422T200000
LOCATION:hala STAV\, SOŠ Kolín\, Brankovická 1417 Kolín - Kolín V
SUMMARY:EX-U22M-6B: Ostrava-Liberec
END:VEVENT
BEGIN:VEVENT
UID:35303434-3236-4433-b137-636263633966
DTSTAMP:20260421T192001Z
DESCRIPTION:2/6 Karlovarsko - Kojetín 0:3 (-13\,-9\,-9)
DTSTART;TZID=Europe/Berlin:20230423T090000
DTEND;TZID=Europe/Berlin:20230423T110000
LOCATION:hala STAV\, SOŠ Kolín\, Brankovická 1417 Kolín - Kolín V
SUMMARY:EX-U22M-6B: Karlovarsko-Kojetín
END:VEVENT
BEGIN:VEVENT
UID:30653761-3438-4635-b234-663639313033
DTSTAMP:20260421T192001Z
DESCRIPTION:2/7 Kolín - Ostrava 3:1 (22\,23\,-25\,16)
DTSTART;TZID=Europe/Berlin:20230423T110000
DTEND;TZID=Europe/Berlin:20230423T130000
LOCATION:hala STAV\, SOŠ Kolín\, Brankovická 1417 Kolín - Kolín V
SUMMARY:EX-U22M-6B: Kolín-Ostrava
END:VEVENT
BEGIN:VEVENT
UID:34336437-3466-4566-a265-313865363936
DTSTAMP:20260421T192001Z
DESCRIPTION:2/8 Liberec - Karlovarsko 3:0 (19\,15\,20)
DTSTART;TZID=Europe/Berlin:20230423T130000
DTEND;TZID=Europe/Berlin:20230423T150000
LOCATION:hala STAV\, SOŠ Kolín\, Brankovická 1417 Kolín - Kolín V
SUMMARY:EX-U22M-6B: Liberec-Karlovarsko
END:VEVENT
BEGIN:VEVENT
UID:33343839-6236-4437-b339-626163363063
DTSTAMP:20260421T192001Z
DESCRIPTION:2/9 Kojetín - Ostrava 0:3 (-15\,-18\,-15)
DTSTART;TZID=Europe/Berlin:20230423T150000
DTEND;TZID=Europe/Berlin:20230423T170000
LOCATION:hala STAV\, SOŠ Kolín\, Brankovická 1417 Kolín - Kolín V
SUMMARY:EX-U22M-6B: Kojetín-Ostrava
END:VEVENT
BEGIN:VEVENT
UID:34393261-6362-4239-b165-646131343737
DTSTAMP:20260421T192001Z
DESCRIPTION:2/10 Liberec - Kolín 0:3 (-21\,-24\,-17)
DTSTART;TZID=Europe/Berlin:20230423T170000
DTEND;TZID=Europe/Berlin:20230423T190000
LOCATION:hala STAV\, SOŠ Kolín\, Brankovická 1417 Kolín - Kolín V
SUMMARY:EX-U22M-6B: Liberec-Kolín
END:VEVENT
END:VCALENDAR
