BEGIN:VCALENDAR
VERSION:2.0
PRODID:-//EX-U18Z-F2//NONSGML kigkonsult.se iCalcreator 2.41.80//
CALSCALE:GREGORIAN
UID:38396137-3565-4336-b639-663334326338
BEGIN:VEVENT
UID:35353336-3135-4631-b939-306164663830
DTSTAMP:20260421T223106Z
DESCRIPTION:1/1 Olymp - Č. Budějovice 3:0 (14\,15\,18)
DTSTART;TZID=Europe/Berlin:20230428T150000
DTEND;TZID=Europe/Berlin:20230428T170000
LOCATION:Městská sportovní hala\, Petřivalského 2884 Přerov - Přerov I-Měst
 o
SUMMARY:EX-U18Z-F2: Olymp-Č. Budějovice
END:VEVENT
BEGIN:VEVENT
UID:39353563-6163-4338-b038-666139636334
DTSTAMP:20260421T223106Z
DESCRIPTION:1/2 Havlíčkův Brod - Kr. Pole 0:3 (-12\,-13\,-18)
DTSTART;TZID=Europe/Berlin:20230428T170000
DTEND;TZID=Europe/Berlin:20230428T190000
LOCATION:Městská sportovní hala\, Petřivalského 2884 Přerov - Přerov I-Měst
 o
SUMMARY:EX-U18Z-F2: Havlíčkův Brod-Kr. Pole
END:VEVENT
BEGIN:VEVENT
UID:66303737-6435-4662-a136-306337626330
DTSTAMP:20260421T223106Z
DESCRIPTION:2/3 Č. Budějovice - Kr. Pole 0:3 (-12\,-21\,-14)
DTSTART;TZID=Europe/Berlin:20230429T100000
DTEND;TZID=Europe/Berlin:20230429T120000
LOCATION:Městská sportovní hala\, Petřivalského 2884 Přerov - Přerov I-Měst
 o
SUMMARY:EX-U18Z-F2: Č. Budějovice-Kr. Pole
END:VEVENT
BEGIN:VEVENT
UID:31663230-3738-4934-a534-376133653764
DTSTAMP:20260421T223106Z
DESCRIPTION:2/4 Olymp - Havlíčkův Brod 3:0 (5\,11\,9)
DTSTART;TZID=Europe/Berlin:20230429T120000
DTEND;TZID=Europe/Berlin:20230429T140000
LOCATION:Městská sportovní hala\, Petřivalského 2884 Přerov - Přerov I-Měst
 o
SUMMARY:EX-U18Z-F2: Olymp-Havlíčkův Brod
END:VEVENT
BEGIN:VEVENT
UID:64356266-3764-4537-b466-383331333732
DTSTAMP:20260421T223106Z
DESCRIPTION:2/5 Havlíčkův Brod - Č. Budějovice 0:3 (-20\,-8\,-16)
DTSTART;TZID=Europe/Berlin:20230429T150000
DTEND;TZID=Europe/Berlin:20230429T170000
LOCATION:Městská sportovní hala\, Petřivalského 2884 Přerov - Přerov I-Měst
 o
SUMMARY:EX-U18Z-F2: Havlíčkův Brod-Č. Budějovice
END:VEVENT
BEGIN:VEVENT
UID:66646439-6535-4232-a565-376464386661
DTSTAMP:20260421T223106Z
DESCRIPTION:2/6 Kr. Pole - Olymp 0:3 (-16\,-23\,-18)
DTSTART;TZID=Europe/Berlin:20230429T170000
DTEND;TZID=Europe/Berlin:20230429T190000
LOCATION:Městská sportovní hala\, Petřivalského 2884 Přerov - Přerov I-Měst
 o
SUMMARY:EX-U18Z-F2: Kr. Pole-Olymp
END:VEVENT
END:VCALENDAR
