BEGIN:VCALENDAR
VERSION:2.0
PRODID:-//EX-U18Z-F//NONSGML kigkonsult.se iCalcreator 2.41.80//
CALSCALE:GREGORIAN
UID:33313439-6131-4036-b162-343831313562
BEGIN:VEVENT
UID:34323264-3738-4435-b666-616238373432
DTSTAMP:20260421T134935Z
DESCRIPTION:1/1 Kralupy - Havlíčkův Brod 1:3 (18\,-24\,-16\,-23)\n3F1-4F2
DTSTART;TZID=Europe/Berlin:20230430T100000
DTEND;TZID=Europe/Berlin:20230430T120000
LOCATION:TJ KRALUPY\, z.s.\, Gen. Klapálka 1029 Kralupy nad Vltavou
SUMMARY:EX-U18Z-F: Kralupy-Havlíčkův Brod
END:VEVENT
BEGIN:VEVENT
UID:37396266-6336-4134-b731-343932623563
DTSTAMP:20260421T134935Z
DESCRIPTION:1/2 Č. Budějovice - Plzeň 3:1 (24\,-13\,21\,23)\n3F2-4F1
DTSTART;TZID=Europe/Berlin:20230430T120000
DTEND;TZID=Europe/Berlin:20230430T140000
LOCATION:Sportovní hala\, Stromovka 1216 České Budějovice - České Budějovic
 e 2
SUMMARY:EX-U18Z-F: Č. Budějovice-Plzeň
END:VEVENT
BEGIN:VEVENT
UID:64616362-3334-4535-b538-353365613838
DTSTAMP:20260421T134935Z
DESCRIPTION:1/3 Ostrava - Kr. Pole 3:0 (24\,23\,26)\n1F1-2F2
DTSTART;TZID=Europe/Berlin:20230430T140000
DTEND;TZID=Europe/Berlin:20230430T160000
LOCATION:Hala mládeže\, Gajdošova 1893 Ostrava - Moravská Ostrava
SUMMARY:EX-U18Z-F: Ostrava-Kr. Pole
END:VEVENT
BEGIN:VEVENT
UID:37613865-3837-4139-b234-633133353434
DTSTAMP:20260421T134935Z
DESCRIPTION:1/4 Olymp - Liberec 1:3 (17\,-22\,-10\,-19)\n1F2-2F1
DTSTART;TZID=Europe/Berlin:20230430T160000
DTEND;TZID=Europe/Berlin:20230430T180000
LOCATION:PVK Olymp Praha\, Přípotoční 300 Praha - Vršovice
SUMMARY:EX-U18Z-F: Olymp-Liberec
END:VEVENT
BEGIN:VEVENT
UID:65313064-3332-4638-b939-386563663930
DTSTAMP:20260421T134935Z
DESCRIPTION:2/5 Kralupy - Plzeň 3:0 (13\,21\,18)\no 7.-8. místo
DTSTART;TZID=Europe/Berlin:20230501T090000
DTEND;TZID=Europe/Berlin:20230501T110000
LOCATION:TJ KRALUPY\, z.s.\, Gen. Klapálka 1029 Kralupy nad Vltavou
SUMMARY:EX-U18Z-F: Kralupy-Plzeň
END:VEVENT
BEGIN:VEVENT
UID:32663436-3965-4638-b039-303166653563
DTSTAMP:20260421T134935Z
DESCRIPTION:2/6 Č. Budějovice - Havlíčkův Brod 1:3 (-18\,21\,-15\,-20)\no 5
 .-6. místo
DTSTART;TZID=Europe/Berlin:20230501T110000
DTEND;TZID=Europe/Berlin:20230501T130000
LOCATION:Sportovní hala\, Stromovka 1216 České Budějovice - České Budějovic
 e 2
SUMMARY:EX-U18Z-F: Č. Budějovice-Havlíčkův Brod
END:VEVENT
BEGIN:VEVENT
UID:63663832-3965-4461-b636-623833316166
DTSTAMP:20260421T134935Z
DESCRIPTION:2/7 Kr. Pole - Olymp 2:3 (22\,22\,-18\,-24\,-11)\no 3.-4. místo
DTSTART;TZID=Europe/Berlin:20230501T130000
DTEND;TZID=Europe/Berlin:20230501T150000
LOCATION:Sportovní gymnázium Ludvíka Daňka\, Botanická 63 Brno - Ponava
SUMMARY:EX-U18Z-F: Kr. Pole-Olymp
END:VEVENT
BEGIN:VEVENT
UID:65333330-3434-4231-b230-363030666365
DTSTAMP:20260421T134935Z
DESCRIPTION:2/8 Ostrava - Liberec 1:3 (-20\,-17\,25\,-16)\nfinále
DTSTART;TZID=Europe/Berlin:20230501T150000
DTEND;TZID=Europe/Berlin:20230501T170000
LOCATION:Hala mládeže\, Gajdošova 1893 Ostrava - Moravská Ostrava
SUMMARY:EX-U18Z-F: Ostrava-Liberec
END:VEVENT
END:VCALENDAR
