BEGIN:VCALENDAR
VERSION:2.0
PRODID:-//EX-U20Z-F1//NONSGML kigkonsult.se iCalcreator 2.41.80//
CALSCALE:GREGORIAN
UID:63323661-3833-4132-a136-626633663361
BEGIN:VEVENT
UID:62383362-3763-4665-b365-663739343137
DTSTAMP:20260421T151520Z
DESCRIPTION:1/1 Liberec - Č. Budějovice 3:0 (17\,15\,14)
DTSTART;TZID=Europe/Berlin:20230420T150000
DTEND;TZID=Europe/Berlin:20230420T170000
LOCATION:Hala mládeže\, Gajdošova 1893 Ostrava - Moravská Ostrava
SUMMARY:EX-U20Z-F1: Liberec-Č. Budějovice
END:VEVENT
BEGIN:VEVENT
UID:61633832-3136-4832-b332-633638623566
DTSTAMP:20260421T151520Z
DESCRIPTION:1/2 Frýdek - Místek - Prostějov 1:3 (23\,-15\,-22\,-10)
DTSTART;TZID=Europe/Berlin:20230420T170000
DTEND;TZID=Europe/Berlin:20230420T190000
LOCATION:Hala mládeže\, Gajdošova 1893 Ostrava - Moravská Ostrava
SUMMARY:EX-U20Z-F1: Frýdek - Místek-Prostějov
END:VEVENT
BEGIN:VEVENT
UID:35363463-6261-4563-a566-383838613137
DTSTAMP:20260421T151520Z
DESCRIPTION:2/3 Č. Budějovice - Prostějov 0:3 (-22\,-18\,-24)
DTSTART;TZID=Europe/Berlin:20230421T100000
DTEND;TZID=Europe/Berlin:20230421T120000
LOCATION:Hala mládeže\, Gajdošova 1893 Ostrava - Moravská Ostrava
SUMMARY:EX-U20Z-F1: Č. Budějovice-Prostějov
END:VEVENT
BEGIN:VEVENT
UID:66636133-3039-4231-a138-376531393335
DTSTAMP:20260421T151520Z
DESCRIPTION:2/4 Liberec - Frýdek - Místek 3:0 (21\,10\,17)
DTSTART;TZID=Europe/Berlin:20230421T120000
DTEND;TZID=Europe/Berlin:20230421T140000
LOCATION:Hala mládeže\, Gajdošova 1893 Ostrava - Moravská Ostrava
SUMMARY:EX-U20Z-F1: Liberec-Frýdek - Místek
END:VEVENT
BEGIN:VEVENT
UID:65383833-3239-4435-b964-333066356561
DTSTAMP:20260421T151520Z
DESCRIPTION:2/5 Frýdek - Místek - Č. Budějovice 0:3 (-22\,-20\,-23)
DTSTART;TZID=Europe/Berlin:20230421T150000
DTEND;TZID=Europe/Berlin:20230421T170000
LOCATION:Hala mládeže\, Gajdošova 1893 Ostrava - Moravská Ostrava
SUMMARY:EX-U20Z-F1: Frýdek - Místek-Č. Budějovice
END:VEVENT
BEGIN:VEVENT
UID:35376238-6339-4738-b637-643136653331
DTSTAMP:20260421T151520Z
DESCRIPTION:2/6 Prostějov - Liberec 0:3 (-14\,-19\,-15)
DTSTART;TZID=Europe/Berlin:20230421T170000
DTEND;TZID=Europe/Berlin:20230421T190000
LOCATION:Hala mládeže\, Gajdošova 1893 Ostrava - Moravská Ostrava
SUMMARY:EX-U20Z-F1: Prostějov-Liberec
END:VEVENT
END:VCALENDAR
