BEGIN:VCALENDAR
VERSION:2.0
PRODID:-//2-U18Z-KA//NONSGML kigkonsult.se iCalcreator 2.41.80//
CALSCALE:GREGORIAN
UID:30353539-3130-4465-b666-616636396639
BEGIN:VEVENT
UID:35323664-6130-4734-a631-373236383965
DTSTAMP:20260424T233604Z
DESCRIPTION:1/1 Děčín - Teplice 0:3 (-17\,-21\,-21)
DTSTART;TZID=Europe/Berlin:20230415T090000
DTEND;TZID=Europe/Berlin:20230415T110000
LOCATION:Hotelová škola\, Smetanovo náměstí 786 Teplice - Trnovany
SUMMARY:2-U18Z-KA: Děčín-Teplice
END:VEVENT
BEGIN:VEVENT
UID:37623537-6134-4733-a365-366135353338
DTSTAMP:20260424T233604Z
DESCRIPTION:1/2 Šťáhlavy - Mikulova B 0:3 (-13\,-13\,-13)
DTSTART;TZID=Europe/Berlin:20230415T110000
DTEND;TZID=Europe/Berlin:20230415T130000
LOCATION:Hotelová škola\, Smetanovo náměstí 786 Teplice - Trnovany
SUMMARY:2-U18Z-KA: Šťáhlavy-Mikulova B
END:VEVENT
BEGIN:VEVENT
UID:65313932-3465-4138-a561-643764366330
DTSTAMP:20260424T233604Z
DESCRIPTION:1/3 Třebín - Děčín 3:0 (18\,15\,13)
DTSTART;TZID=Europe/Berlin:20230415T130000
DTEND;TZID=Europe/Berlin:20230415T150000
LOCATION:Hotelová škola\, Smetanovo náměstí 786 Teplice - Trnovany
SUMMARY:2-U18Z-KA: Třebín-Děčín
END:VEVENT
BEGIN:VEVENT
UID:36363538-6137-4839-b964-643436343039
DTSTAMP:20260424T233604Z
DESCRIPTION:1/4 Teplice - Šťáhlavy 3:0 (6\,10\,5)
DTSTART;TZID=Europe/Berlin:20230415T150000
DTEND;TZID=Europe/Berlin:20230415T170000
LOCATION:Hotelová škola\, Smetanovo náměstí 786 Teplice - Trnovany
SUMMARY:2-U18Z-KA: Teplice-Šťáhlavy
END:VEVENT
BEGIN:VEVENT
UID:30663438-3533-4532-b934-626233663130
DTSTAMP:20260424T233604Z
DESCRIPTION:1/5 Třebín - Mikulova B 3:0 (7\,16\,23)
DTSTART;TZID=Europe/Berlin:20230415T170000
DTEND;TZID=Europe/Berlin:20230415T190000
LOCATION:Hotelová škola\, Smetanovo náměstí 786 Teplice - Trnovany
SUMMARY:2-U18Z-KA: Třebín-Mikulova B
END:VEVENT
BEGIN:VEVENT
UID:62323131-6534-4963-b335-393332666139
DTSTAMP:20260424T233604Z
DESCRIPTION:2/6 Děčín - Šťáhlavy 3:0 (12\,9\,9)
DTSTART;TZID=Europe/Berlin:20230416T090000
DTEND;TZID=Europe/Berlin:20230416T110000
LOCATION:Hotelová škola\, Smetanovo náměstí 786 Teplice - Trnovany
SUMMARY:2-U18Z-KA: Děčín-Šťáhlavy
END:VEVENT
BEGIN:VEVENT
UID:61323661-3863-4635-b739-326161316361
DTSTAMP:20260424T233604Z
DESCRIPTION:2/7 Teplice - Třebín 0:3 (-17\,-4\,-22)
DTSTART;TZID=Europe/Berlin:20230416T110000
DTEND;TZID=Europe/Berlin:20230416T130000
LOCATION:Hotelová škola\, Smetanovo náměstí 786 Teplice - Trnovany
SUMMARY:2-U18Z-KA: Teplice-Třebín
END:VEVENT
BEGIN:VEVENT
UID:65666565-3366-4534-a562-353430653939
DTSTAMP:20260424T233604Z
DESCRIPTION:2/8 Mikulova B - Děčín 1:3 (23\,-22\,-20\,-15)
DTSTART;TZID=Europe/Berlin:20230416T130000
DTEND;TZID=Europe/Berlin:20230416T150000
LOCATION:Hotelová škola\, Smetanovo náměstí 786 Teplice - Trnovany
SUMMARY:2-U18Z-KA: Mikulova B-Děčín
END:VEVENT
BEGIN:VEVENT
UID:62633266-3765-4562-b539-633866333564
DTSTAMP:20260424T233604Z
DESCRIPTION:2/9 Šťáhlavy - Třebín 0:3 (-8\,-12\,-9)
DTSTART;TZID=Europe/Berlin:20230416T150000
DTEND;TZID=Europe/Berlin:20230416T170000
LOCATION:Hotelová škola\, Smetanovo náměstí 786 Teplice - Trnovany
SUMMARY:2-U18Z-KA: Šťáhlavy-Třebín
END:VEVENT
BEGIN:VEVENT
UID:34303039-3165-4635-b862-653166356138
DTSTAMP:20260424T233604Z
DESCRIPTION:2/10 Mikulova B - Teplice 0:3 (-18\,-15\,-26)
DTSTART;TZID=Europe/Berlin:20230416T170000
DTEND;TZID=Europe/Berlin:20230416T190000
LOCATION:Hotelová škola\, Smetanovo náměstí 786 Teplice - Trnovany
SUMMARY:2-U18Z-KA: Mikulova B-Teplice
END:VEVENT
END:VCALENDAR
