BEGIN:VCALENDAR
VERSION:2.0
PRODID:-//CP-U20Z-5D//NONSGML kigkonsult.se iCalcreator 2.41.80//
CALSCALE:GREGORIAN
UID:61646431-6439-4834-b935-633662306337
BEGIN:VEVENT
UID:66663536-3231-4539-a337-366531656636
DTSTAMP:20260421T223111Z
DESCRIPTION:1/1 Přerov 1908 - Litomyšl 0:2 (-18\,-11)\nKostelec/O\, hř.2
DTSTART;TZID=Europe/Berlin:20230422T093000
DTEND;TZID=Europe/Berlin:20230422T113000
LOCATION:Tělocvična SŠGaS\, Šířava 670 Přerov - Přerov I-Město
SUMMARY:CP-U20Z-5D: Přerov 1908-Litomyšl
END:VEVENT
BEGIN:VEVENT
UID:36343562-3432-4962-a661-326362366530
DTSTAMP:20260421T223111Z
DESCRIPTION:1/2 RÉMA Rychnov - Volejbalový klub Karlovy Vary z.s. 2:0 (10\,
 14)\nKostelec/O\, hř.1
DTSTART;TZID=Europe/Berlin:20230422T093000
DTEND;TZID=Europe/Berlin:20230422T113000
LOCATION:VOŠ a SŠ zem.\, Komenského 873 Kostelec nad Orlicí
SUMMARY:CP-U20Z-5D: RÉMA Rychnov-Volejbalový klub Karlovy Vary z.s.
END:VEVENT
BEGIN:VEVENT
UID:37393866-3136-4635-a536-643062306237
DTSTAMP:20260421T223111Z
DESCRIPTION:1/3 TJ Svitavy - VK AUSTIN Vsetín z.s. 0:2 (-8\,-24)\nKostelec/
 O\, hř.3
DTSTART;TZID=Europe/Berlin:20230422T093000
DTEND;TZID=Europe/Berlin:20230422T113000
LOCATION:Sportovní hala Na Střelnici\, Pražská 2162 Svitavy - Předměstí
SUMMARY:CP-U20Z-5D: TJ Svitavy-VK AUSTIN Vsetín z.s.
END:VEVENT
BEGIN:VEVENT
UID:61363165-3139-4532-a237-643836363536
DTSTAMP:20260421T223111Z
DESCRIPTION:2/4 VK AUSTIN Vsetín z.s. - Přerov 1908 2:0 (13\,9)
DTSTART;TZID=Europe/Berlin:20230422T104500
DTEND;TZID=Europe/Berlin:20230422T124500
LOCATION:Sportovní hala Na Lapači\, Na Lapači 247 Vsetín - Rokytnice
SUMMARY:CP-U20Z-5D: VK AUSTIN Vsetín z.s.-Přerov 1908
END:VEVENT
BEGIN:VEVENT
UID:64623939-3465-4362-b438-353638353261
DTSTAMP:20260421T223111Z
DESCRIPTION:2/5 Volejbalový klub Karlovy Vary z.s. - TJ Svitavy 0:2 (-20\,-
 10)
DTSTART;TZID=Europe/Berlin:20230422T104500
DTEND;TZID=Europe/Berlin:20230422T124500
LOCATION:Mattoni Arena Hala míčových sportů\, Západní 1812 Karlovy Vary
SUMMARY:CP-U20Z-5D: Volejbalový klub Karlovy Vary z.s.-TJ Svitavy
END:VEVENT
BEGIN:VEVENT
UID:66643861-6665-4465-a635-636563383137
DTSTAMP:20260421T223111Z
DESCRIPTION:2/6 Litomyšl - RÉMA Rychnov 0:2 (-18\,-17)
DTSTART;TZID=Europe/Berlin:20230422T104500
DTEND;TZID=Europe/Berlin:20230422T124500
LOCATION:Městská sportovní hala\, T. G. Masaryka 1145 Litomyšl - Litomyšl-M
 ěsto
SUMMARY:CP-U20Z-5D: Litomyšl-RÉMA Rychnov
END:VEVENT
BEGIN:VEVENT
UID:62353433-3266-4366-b737-313161616334
DTSTAMP:20260421T223111Z
DESCRIPTION:3/7 TJ Svitavy - Přerov 1908 1:2 (-18\,24\,-11)
DTSTART;TZID=Europe/Berlin:20230422T130000
DTEND;TZID=Europe/Berlin:20230422T150000
LOCATION:Sportovní hala Na Střelnici\, Pražská 2162 Svitavy - Předměstí
SUMMARY:CP-U20Z-5D: TJ Svitavy-Přerov 1908
END:VEVENT
BEGIN:VEVENT
UID:37616630-3663-4832-b662-353434626438
DTSTAMP:20260421T223111Z
DESCRIPTION:3/8 VK AUSTIN Vsetín z.s. - RÉMA Rychnov 1:2 (-25\,9\,-13)
DTSTART;TZID=Europe/Berlin:20230422T130000
DTEND;TZID=Europe/Berlin:20230422T150000
LOCATION:Sportovní hala Na Lapači\, Na Lapači 247 Vsetín - Rokytnice
SUMMARY:CP-U20Z-5D: VK AUSTIN Vsetín z.s.-RÉMA Rychnov
END:VEVENT
BEGIN:VEVENT
UID:64326561-3434-4437-a665-623335356534
DTSTAMP:20260421T223111Z
DESCRIPTION:3/9 Volejbalový klub Karlovy Vary z.s. - Litomyšl 0:2 (-10\,-13
 )
DTSTART;TZID=Europe/Berlin:20230422T130000
DTEND;TZID=Europe/Berlin:20230422T150000
LOCATION:Mattoni Arena Hala míčových sportů\, Západní 1812 Karlovy Vary
SUMMARY:CP-U20Z-5D: Volejbalový klub Karlovy Vary z.s.-Litomyšl
END:VEVENT
BEGIN:VEVENT
UID:32633735-3338-4231-b362-373761356338
DTSTAMP:20260421T223111Z
DESCRIPTION:4/10 Přerov 1908 - RÉMA Rychnov 0:2 (-15\,-21)
DTSTART;TZID=Europe/Berlin:20230422T150000
DTEND;TZID=Europe/Berlin:20230422T170000
LOCATION:Tělocvična SŠGaS\, Šířava 670 Přerov - Přerov I-Město
SUMMARY:CP-U20Z-5D: Přerov 1908-RÉMA Rychnov
END:VEVENT
BEGIN:VEVENT
UID:32323437-3434-4430-b838-636261313532
DTSTAMP:20260421T223111Z
DESCRIPTION:4/11 TJ Svitavy - Litomyšl 0:2 (-19\,-13)
DTSTART;TZID=Europe/Berlin:20230422T150000
DTEND;TZID=Europe/Berlin:20230422T170000
LOCATION:Sportovní hala Na Střelnici\, Pražská 2162 Svitavy - Předměstí
SUMMARY:CP-U20Z-5D: TJ Svitavy-Litomyšl
END:VEVENT
BEGIN:VEVENT
UID:39636336-3066-4034-b931-623963336339
DTSTAMP:20260421T223111Z
DESCRIPTION:4/12 VK AUSTIN Vsetín z.s. - Volejbalový klub Karlovy Vary z.s.
  2:0 (8\,24)
DTSTART;TZID=Europe/Berlin:20230422T150000
DTEND;TZID=Europe/Berlin:20230422T170000
LOCATION:Sportovní hala Na Lapači\, Na Lapači 247 Vsetín - Rokytnice
SUMMARY:CP-U20Z-5D: VK AUSTIN Vsetín z.s.-Volejbalový klub Karlovy Vary z.s
 .
END:VEVENT
BEGIN:VEVENT
UID:33626234-3936-4734-b630-663063643539
DTSTAMP:20260421T223111Z
DESCRIPTION:5/13 Volejbalový klub Karlovy Vary z.s. - Přerov 1908 0:2 (-19\
 ,-20)
DTSTART;TZID=Europe/Berlin:20230422T170000
DTEND;TZID=Europe/Berlin:20230422T190000
LOCATION:Mattoni Arena Hala míčových sportů\, Západní 1812 Karlovy Vary
SUMMARY:CP-U20Z-5D: Volejbalový klub Karlovy Vary z.s.-Přerov 1908
END:VEVENT
BEGIN:VEVENT
UID:64646362-3833-4362-b338-373563633162
DTSTAMP:20260421T223111Z
DESCRIPTION:5/14 Litomyšl - VK AUSTIN Vsetín z.s. 0:2 (-18\,-23)
DTSTART;TZID=Europe/Berlin:20230422T170000
DTEND;TZID=Europe/Berlin:20230422T190000
LOCATION:Městská sportovní hala\, T. G. Masaryka 1145 Litomyšl - Litomyšl-M
 ěsto
SUMMARY:CP-U20Z-5D: Litomyšl-VK AUSTIN Vsetín z.s.
END:VEVENT
BEGIN:VEVENT
UID:63383566-6262-4338-a161-613336346664
DTSTAMP:20260421T223111Z
DESCRIPTION:5/15 RÉMA Rychnov - TJ Svitavy 2:0 (24\,26)
DTSTART;TZID=Europe/Berlin:20230422T170000
DTEND;TZID=Europe/Berlin:20230422T190000
LOCATION:VOŠ a SŠ zem.\, Komenského 873 Kostelec nad Orlicí
SUMMARY:CP-U20Z-5D: RÉMA Rychnov-TJ Svitavy
END:VEVENT
END:VCALENDAR
