BEGIN:VCALENDAR
VERSION:2.0
PRODID:-//JC-U22Z//NONSGML kigkonsult.se iCalcreator 2.41.80//
CALSCALE:GREGORIAN
UID:61306362-3130-4666-b234-666239313331
BEGIN:VEVENT
UID:38373331-6634-4038-a434-343030666137
DTSTAMP:20260421T231835Z
DESCRIPTION:1/1 SK Třebín LVI - TJ Slovan J. Hradec 2:0 (18\,24)\nPořadatel
 : VSK Slavia JU (ZŠ Bezdrevská ČB)
DTSTART;TZID=Europe/Berlin:20231015T090000
DTEND;TZID=Europe/Berlin:20231015T110000
LOCATION:ZŠ Máj I\, M. Chlajna 1319 České Budějovice - České Budějovice 2
SUMMARY:JC-U22Z: SK Třebín LVI-TJ Slovan J. Hradec
END:VEVENT
BEGIN:VEVENT
UID:61613634-6232-4030-b933-623665623666
DTSTAMP:20260421T231835Z
DESCRIPTION:1/2 SK Třebín JKY - VSK Slavia JU ČB 2:0 (16\,14)
DTSTART;TZID=Europe/Berlin:20231015T090000
DTEND;TZID=Europe/Berlin:20231015T110000
LOCATION:ZŠ Máj I\, M. Chlajna 1319 České Budějovice - České Budějovice 2
SUMMARY:JC-U22Z: SK Třebín JKY-VSK Slavia JU ČB
END:VEVENT
BEGIN:VEVENT
UID:65653833-6663-4032-b637-363531636266
DTSTAMP:20260421T231835Z
DESCRIPTION:1/3 TJ Slovan J. Hradec - Volejbal Tábor A 0:2 (-14\,-6)
DTSTART;TZID=Europe/Berlin:20231015T100000
DTEND;TZID=Europe/Berlin:20231015T120000
LOCATION:Sportovní hala J. Hradec\, U Stadionu 1137 Jindřichův Hradec - Jin
 dřichův Hradec II
SUMMARY:JC-U22Z: TJ Slovan J. Hradec-Volejbal Tábor A
END:VEVENT
BEGIN:VEVENT
UID:31383235-6637-4432-a630-353362383366
DTSTAMP:20260421T231835Z
DESCRIPTION:1/4 České Budějovice - VSK Slavia JU ČB 2:1 (-17\,19\,10)
DTSTART;TZID=Europe/Berlin:20231015T100000
DTEND;TZID=Europe/Berlin:20231015T120000
LOCATION:Sportovní hala\, Stromovka 1216 České Budějovice - České Budějovic
 e 2
SUMMARY:JC-U22Z: České Budějovice-VSK Slavia JU ČB
END:VEVENT
BEGIN:VEVENT
UID:38643365-6261-4431-b466-323563373437
DTSTAMP:20260421T231835Z
DESCRIPTION:1/5 SK Třebín LVI - Volejbal Tábor A 0:2 (-18\,-12)
DTSTART;TZID=Europe/Berlin:20231015T110000
DTEND;TZID=Europe/Berlin:20231015T130000
LOCATION:ZŠ Máj I\, M. Chlajna 1319 České Budějovice - České Budějovice 2
SUMMARY:JC-U22Z: SK Třebín LVI-Volejbal Tábor A
END:VEVENT
BEGIN:VEVENT
UID:38386239-3662-4637-b331-653461656362
DTSTAMP:20260421T231835Z
DESCRIPTION:1/6 České Budějovice - SK Třebín JKY 2:0 (20\,22)
DTSTART;TZID=Europe/Berlin:20231015T110000
DTEND;TZID=Europe/Berlin:20231015T130000
LOCATION:Sportovní hala\, Stromovka 1216 České Budějovice - České Budějovic
 e 2
SUMMARY:JC-U22Z: České Budějovice-SK Třebín JKY
END:VEVENT
BEGIN:VEVENT
UID:38623737-3134-4637-a137-373463653037
DTSTAMP:20260421T231835Z
DESCRIPTION:1/7 VSK Slavia JU ČB - SK Třebín LVI 2:0 (23\,14)
DTSTART;TZID=Europe/Berlin:20231015T120000
DTEND;TZID=Europe/Berlin:20231015T140000
LOCATION:Sportovní hala Jihočeské univerzity\, Na Sádkách 305 České Budějov
 ice - České Budějovice 2
SUMMARY:JC-U22Z: VSK Slavia JU ČB-SK Třebín LVI
END:VEVENT
BEGIN:VEVENT
UID:32373863-3234-4835-b931-343364623033
DTSTAMP:20260421T231835Z
DESCRIPTION:1/8 TJ Slovan J. Hradec - České Budějovice 0:2 (-18\,-15)
DTSTART;TZID=Europe/Berlin:20231015T120000
DTEND;TZID=Europe/Berlin:20231015T140000
LOCATION:Sportovní hala J. Hradec\, U Stadionu 1137 Jindřichův Hradec - Jin
 dřichův Hradec II
SUMMARY:JC-U22Z: TJ Slovan J. Hradec-České Budějovice
END:VEVENT
BEGIN:VEVENT
UID:66336565-3131-4935-b761-643132373633
DTSTAMP:20260421T231835Z
DESCRIPTION:1/9 VSK Slavia JU ČB - Volejbal Tábor A 0:2 (-10\,-16)
DTSTART;TZID=Europe/Berlin:20231015T130000
DTEND;TZID=Europe/Berlin:20231015T150000
LOCATION:Sportovní hala Jihočeské univerzity\, Na Sádkách 305 České Budějov
 ice - České Budějovice 2
SUMMARY:JC-U22Z: VSK Slavia JU ČB-Volejbal Tábor A
END:VEVENT
BEGIN:VEVENT
UID:30313363-3564-4164-a564-643335313239
DTSTAMP:20260421T231835Z
DESCRIPTION:1/10 TJ Slovan J. Hradec - SK Třebín JKY 0:2 (-10\,-11)
DTSTART;TZID=Europe/Berlin:20231015T130000
DTEND;TZID=Europe/Berlin:20231015T150000
LOCATION:Sportovní hala J. Hradec\, U Stadionu 1137 Jindřichův Hradec - Jin
 dřichův Hradec II
SUMMARY:JC-U22Z: TJ Slovan J. Hradec-SK Třebín JKY
END:VEVENT
BEGIN:VEVENT
UID:64666135-3633-4536-b162-383037636432
DTSTAMP:20260421T231835Z
DESCRIPTION:1/11 České Budějovice - Volejbal Tábor A 2:0 (23\,21)
DTSTART;TZID=Europe/Berlin:20231015T140000
DTEND;TZID=Europe/Berlin:20231015T160000
LOCATION:Sportovní hala\, Stromovka 1216 České Budějovice - České Budějovic
 e 2
SUMMARY:JC-U22Z: České Budějovice-Volejbal Tábor A
END:VEVENT
BEGIN:VEVENT
UID:34336131-3839-4631-b664-643761636535
DTSTAMP:20260421T231835Z
DESCRIPTION:1/12 SK Třebín JKY - SK Třebín LVI 2:0 (14\,13)
DTSTART;TZID=Europe/Berlin:20231015T140000
DTEND;TZID=Europe/Berlin:20231015T160000
LOCATION:ZŠ Máj I\, M. Chlajna 1319 České Budějovice - České Budějovice 2
SUMMARY:JC-U22Z: SK Třebín JKY-SK Třebín LVI
END:VEVENT
BEGIN:VEVENT
UID:63323735-6262-4230-b064-623535313236
DTSTAMP:20260421T231835Z
DESCRIPTION:1/13 TJ Slovan J. Hradec - VSK Slavia JU ČB 0:2 (-11\,-20)
DTSTART;TZID=Europe/Berlin:20231015T150000
DTEND;TZID=Europe/Berlin:20231015T170000
LOCATION:Sportovní hala J. Hradec\, U Stadionu 1137 Jindřichův Hradec - Jin
 dřichův Hradec II
SUMMARY:JC-U22Z: TJ Slovan J. Hradec-VSK Slavia JU ČB
END:VEVENT
BEGIN:VEVENT
UID:38653535-3732-4534-b233-633162326136
DTSTAMP:20260421T231835Z
DESCRIPTION:1/14 Volejbal Tábor A - SK Třebín JKY 2:1 (-18\,23\,8)
DTSTART;TZID=Europe/Berlin:20231015T150000
DTEND;TZID=Europe/Berlin:20231015T170000
LOCATION:Sportovní Hala Mír\, U Stadionu Míru 1579 Tábor
SUMMARY:JC-U22Z: Volejbal Tábor A-SK Třebín JKY
END:VEVENT
BEGIN:VEVENT
UID:65633164-3034-4435-b332-343532313463
DTSTAMP:20260421T231835Z
DESCRIPTION:1/15 SK Třebín LVI - České Budějovice 0:2 (-11\,-11)
DTSTART;TZID=Europe/Berlin:20231015T160000
DTEND;TZID=Europe/Berlin:20231015T180000
LOCATION:ZŠ Máj I\, M. Chlajna 1319 České Budějovice - České Budějovice 2
SUMMARY:JC-U22Z: SK Třebín LVI-České Budějovice
END:VEVENT
BEGIN:VEVENT
UID:34383630-6530-4638-a533-396263316465
DTSTAMP:20260421T231835Z
DESCRIPTION:2/16 TJ Slovan J. Hradec - SK Třebín LVI 2:0 (15\,20)\nPořadate
 l: SK Třebín (ZŠ Máj\, ČB)
DTSTART;TZID=Europe/Berlin:20231125T090000
DTEND;TZID=Europe/Berlin:20231125T110000
LOCATION:Sportovní hala J. Hradec\, U Stadionu 1137 Jindřichův Hradec - Jin
 dřichův Hradec II
SUMMARY:JC-U22Z: TJ Slovan J. Hradec-SK Třebín LVI
END:VEVENT
BEGIN:VEVENT
UID:36636236-3430-4731-a337-623362343662
DTSTAMP:20260421T231835Z
DESCRIPTION:2/17 VSK Slavia JU ČB - SK Třebín JKY 0:2 (-23\,-20)
DTSTART;TZID=Europe/Berlin:20231125T090000
DTEND;TZID=Europe/Berlin:20231125T110000
LOCATION:Sportovní hala Jihočeské univerzity\, Na Sádkách 305 České Budějov
 ice - České Budějovice 2
SUMMARY:JC-U22Z: VSK Slavia JU ČB-SK Třebín JKY
END:VEVENT
BEGIN:VEVENT
UID:35363563-6561-4434-b865-386538373730
DTSTAMP:20260421T231835Z
DESCRIPTION:2/18 Volejbal Tábor A - TJ Slovan J. Hradec 2:0 (12\,17)
DTSTART;TZID=Europe/Berlin:20231125T100000
DTEND;TZID=Europe/Berlin:20231125T120000
LOCATION:Sportovní Hala Mír\, U Stadionu Míru 1579 Tábor
SUMMARY:JC-U22Z: Volejbal Tábor A-TJ Slovan J. Hradec
END:VEVENT
BEGIN:VEVENT
UID:39316631-3561-4131-b737-633061626663
DTSTAMP:20260421T231835Z
DESCRIPTION:2/19 VSK Slavia JU ČB - České Budějovice 0:2 (-10\,-14)
DTSTART;TZID=Europe/Berlin:20231125T100000
DTEND;TZID=Europe/Berlin:20231125T120000
LOCATION:Sportovní hala Jihočeské univerzity\, Na Sádkách 305 České Budějov
 ice - České Budějovice 2
SUMMARY:JC-U22Z: VSK Slavia JU ČB-České Budějovice
END:VEVENT
BEGIN:VEVENT
UID:35666665-3665-4566-b335-376630363739
DTSTAMP:20260421T231835Z
DESCRIPTION:2/20 Volejbal Tábor A - SK Třebín LVI 2:0 (5\,6)
DTSTART;TZID=Europe/Berlin:20231125T110000
DTEND;TZID=Europe/Berlin:20231125T130000
LOCATION:Sportovní Hala Mír\, U Stadionu Míru 1579 Tábor
SUMMARY:JC-U22Z: Volejbal Tábor A-SK Třebín LVI
END:VEVENT
BEGIN:VEVENT
UID:66626230-3438-4464-a139-343463316665
DTSTAMP:20260421T231835Z
DESCRIPTION:2/21 SK Třebín JKY - České Budějovice 0:2 (-12\,-13)
DTSTART;TZID=Europe/Berlin:20231125T110000
DTEND;TZID=Europe/Berlin:20231125T130000
LOCATION:ZŠ Máj I\, M. Chlajna 1319 České Budějovice - České Budějovice 2
SUMMARY:JC-U22Z: SK Třebín JKY-České Budějovice
END:VEVENT
BEGIN:VEVENT
UID:38373534-3932-4934-b730-653439326538
DTSTAMP:20260421T231835Z
DESCRIPTION:2/22 SK Třebín LVI - VSK Slavia JU ČB 0:2 (-17\,-10)
DTSTART;TZID=Europe/Berlin:20231125T120000
DTEND;TZID=Europe/Berlin:20231125T140000
LOCATION:ZŠ Máj I\, M. Chlajna 1319 České Budějovice - České Budějovice 2
SUMMARY:JC-U22Z: SK Třebín LVI-VSK Slavia JU ČB
END:VEVENT
BEGIN:VEVENT
UID:33363136-6636-4066-b736-666530613531
DTSTAMP:20260421T231835Z
DESCRIPTION:2/23 České Budějovice - TJ Slovan J. Hradec 2:0 (11\,10)
DTSTART;TZID=Europe/Berlin:20231125T120000
DTEND;TZID=Europe/Berlin:20231125T140000
LOCATION:Sportovní hala\, Stromovka 1216 České Budějovice - České Budějovic
 e 2
SUMMARY:JC-U22Z: České Budějovice-TJ Slovan J. Hradec
END:VEVENT
BEGIN:VEVENT
UID:66656637-3439-4634-b539-396663313132
DTSTAMP:20260421T231835Z
DESCRIPTION:2/24 Volejbal Tábor A - VSK Slavia JU ČB 2:0 (15\,18)
DTSTART;TZID=Europe/Berlin:20231125T130000
DTEND;TZID=Europe/Berlin:20231125T150000
LOCATION:Sportovní Hala Mír\, U Stadionu Míru 1579 Tábor
SUMMARY:JC-U22Z: Volejbal Tábor A-VSK Slavia JU ČB
END:VEVENT
BEGIN:VEVENT
UID:34326635-3863-4561-a164-323936623338
DTSTAMP:20260421T231835Z
DESCRIPTION:2/25 SK Třebín JKY - TJ Slovan J. Hradec 2:0 (13\,25)
DTSTART;TZID=Europe/Berlin:20231125T130000
DTEND;TZID=Europe/Berlin:20231125T150000
LOCATION:ZŠ Máj I\, M. Chlajna 1319 České Budějovice - České Budějovice 2
SUMMARY:JC-U22Z: SK Třebín JKY-TJ Slovan J. Hradec
END:VEVENT
BEGIN:VEVENT
UID:61653262-6238-4539-b963-346463633265
DTSTAMP:20260421T231835Z
DESCRIPTION:2/26 Volejbal Tábor A - České Budějovice 0:2 (-19\,-13)
DTSTART;TZID=Europe/Berlin:20231125T140000
DTEND;TZID=Europe/Berlin:20231125T160000
LOCATION:Sportovní Hala Mír\, U Stadionu Míru 1579 Tábor
SUMMARY:JC-U22Z: Volejbal Tábor A-České Budějovice
END:VEVENT
BEGIN:VEVENT
UID:66316363-3763-4438-b038-386134333932
DTSTAMP:20260421T231835Z
DESCRIPTION:2/27 SK Třebín LVI - SK Třebín JKY 0:2 (-8\,-12)
DTSTART;TZID=Europe/Berlin:20231125T140000
DTEND;TZID=Europe/Berlin:20231125T160000
LOCATION:ZŠ Máj I\, M. Chlajna 1319 České Budějovice - České Budějovice 2
SUMMARY:JC-U22Z: SK Třebín LVI-SK Třebín JKY
END:VEVENT
BEGIN:VEVENT
UID:31383033-3232-4434-b538-373130663633
DTSTAMP:20260421T231835Z
DESCRIPTION:2/28 VSK Slavia JU ČB - TJ Slovan J. Hradec 2:0 (14\,21)
DTSTART;TZID=Europe/Berlin:20231125T150000
DTEND;TZID=Europe/Berlin:20231125T170000
LOCATION:Sportovní hala Jihočeské univerzity\, Na Sádkách 305 České Budějov
 ice - České Budějovice 2
SUMMARY:JC-U22Z: VSK Slavia JU ČB-TJ Slovan J. Hradec
END:VEVENT
BEGIN:VEVENT
UID:62613336-3834-4162-b561-633333613438
DTSTAMP:20260421T231835Z
DESCRIPTION:2/29 SK Třebín JKY - Volejbal Tábor A 2:0 (15\,23)
DTSTART;TZID=Europe/Berlin:20231125T150000
DTEND;TZID=Europe/Berlin:20231125T170000
LOCATION:ZŠ Máj I\, M. Chlajna 1319 České Budějovice - České Budějovice 2
SUMMARY:JC-U22Z: SK Třebín JKY-Volejbal Tábor A
END:VEVENT
BEGIN:VEVENT
UID:32623862-3432-4534-b165-636137326164
DTSTAMP:20260421T231835Z
DESCRIPTION:2/30 České Budějovice - SK Třebín LVI 2:0 (7\,7)
DTSTART;TZID=Europe/Berlin:20231125T160000
DTEND;TZID=Europe/Berlin:20231125T180000
LOCATION:Sportovní hala\, Stromovka 1216 České Budějovice - České Budějovic
 e 2
SUMMARY:JC-U22Z: České Budějovice-SK Třebín LVI
END:VEVENT
BEGIN:VEVENT
UID:32323034-6535-4265-b661-373837363033
DTSTAMP:20260421T231835Z
DESCRIPTION:3/31 SK Třebín LVI - TJ Slovan J. Hradec 1:2 (17\,-21\,-3)\nPoř
 adatel: Jindřichův Hradec (SH J. Hradec)
DTSTART;TZID=Europe/Berlin:20240203T090000
DTEND;TZID=Europe/Berlin:20240203T110000
LOCATION:ZŠ Máj I\, M. Chlajna 1319 České Budějovice - České Budějovice 2
SUMMARY:JC-U22Z: SK Třebín LVI-TJ Slovan J. Hradec
END:VEVENT
BEGIN:VEVENT
UID:36323430-6338-4032-b137-363437656331
DTSTAMP:20260421T231835Z
DESCRIPTION:3/32 SK Třebín JKY - VSK Slavia JU ČB 2:0 (10\,21)
DTSTART;TZID=Europe/Berlin:20240203T090000
DTEND;TZID=Europe/Berlin:20240203T110000
LOCATION:ZŠ Máj I\, M. Chlajna 1319 České Budějovice - České Budějovice 2
SUMMARY:JC-U22Z: SK Třebín JKY-VSK Slavia JU ČB
END:VEVENT
BEGIN:VEVENT
UID:30326662-3733-4035-b961-636131326263
DTSTAMP:20260421T231835Z
DESCRIPTION:3/33 TJ Slovan J. Hradec - Volejbal Tábor A 0:2 (-13\,-9)
DTSTART;TZID=Europe/Berlin:20240203T090000
DTEND;TZID=Europe/Berlin:20240203T110000
LOCATION:Sportovní hala J. Hradec\, U Stadionu 1137 Jindřichův Hradec - Jin
 dřichův Hradec II
SUMMARY:JC-U22Z: TJ Slovan J. Hradec-Volejbal Tábor A
END:VEVENT
BEGIN:VEVENT
UID:35643132-6631-4162-b332-363164396633
DTSTAMP:20260421T231835Z
DESCRIPTION:3/34 České Budějovice - VSK Slavia JU ČB 2:0 (17\,19)
DTSTART;TZID=Europe/Berlin:20240203T100000
DTEND;TZID=Europe/Berlin:20240203T120000
LOCATION:Sportovní hala\, Stromovka 1216 České Budějovice - České Budějovic
 e 2
SUMMARY:JC-U22Z: České Budějovice-VSK Slavia JU ČB
END:VEVENT
BEGIN:VEVENT
UID:31663634-3763-4137-b235-663336303936
DTSTAMP:20260421T231836Z
DESCRIPTION:3/35 SK Třebín LVI - Volejbal Tábor A 0:2 (-15\,-11)
DTSTART;TZID=Europe/Berlin:20240203T100000
DTEND;TZID=Europe/Berlin:20240203T120000
LOCATION:ZŠ Máj I\, M. Chlajna 1319 České Budějovice - České Budějovice 2
SUMMARY:JC-U22Z: SK Třebín LVI-Volejbal Tábor A
END:VEVENT
BEGIN:VEVENT
UID:31373431-6234-4831-b462-623231373431
DTSTAMP:20260421T231836Z
DESCRIPTION:3/36 České Budějovice - SK Třebín JKY 2:0 (21\,18)
DTSTART;TZID=Europe/Berlin:20240203T100000
DTEND;TZID=Europe/Berlin:20240203T120000
LOCATION:Sportovní hala\, Stromovka 1216 České Budějovice - České Budějovic
 e 2
SUMMARY:JC-U22Z: České Budějovice-SK Třebín JKY
END:VEVENT
BEGIN:VEVENT
UID:64373166-3336-4235-b735-366337636435
DTSTAMP:20260421T231836Z
DESCRIPTION:3/37 VSK Slavia JU ČB - SK Třebín LVI 2:1 (23\,-24\,12)
DTSTART;TZID=Europe/Berlin:20240203T110000
DTEND;TZID=Europe/Berlin:20240203T130000
LOCATION:Sportovní hala Jihočeské univerzity\, Na Sádkách 305 České Budějov
 ice - České Budějovice 2
SUMMARY:JC-U22Z: VSK Slavia JU ČB-SK Třebín LVI
END:VEVENT
BEGIN:VEVENT
UID:61353664-6539-4632-a238-346234383462
DTSTAMP:20260421T231836Z
DESCRIPTION:3/38 TJ Slovan J. Hradec - České Budějovice 0:2 (-12\,-13)
DTSTART;TZID=Europe/Berlin:20240203T110000
DTEND;TZID=Europe/Berlin:20240203T130000
LOCATION:Sportovní hala J. Hradec\, U Stadionu 1137 Jindřichův Hradec - Jin
 dřichův Hradec II
SUMMARY:JC-U22Z: TJ Slovan J. Hradec-České Budějovice
END:VEVENT
BEGIN:VEVENT
UID:63636532-6439-4836-b531-653761636238
DTSTAMP:20260421T231836Z
DESCRIPTION:3/39 VSK Slavia JU ČB - Volejbal Tábor A 0:2 (-17\,-22)
DTSTART;TZID=Europe/Berlin:20240203T110000
DTEND;TZID=Europe/Berlin:20240203T130000
LOCATION:Sportovní hala Jihočeské univerzity\, Na Sádkách 305 České Budějov
 ice - České Budějovice 2
SUMMARY:JC-U22Z: VSK Slavia JU ČB-Volejbal Tábor A
END:VEVENT
BEGIN:VEVENT
UID:35306562-6139-4364-b637-633731383731
DTSTAMP:20260421T231836Z
DESCRIPTION:3/40 TJ Slovan J. Hradec - SK Třebín JKY 0:2 (-13\,-12)
DTSTART;TZID=Europe/Berlin:20240203T120000
DTEND;TZID=Europe/Berlin:20240203T140000
LOCATION:Sportovní hala J. Hradec\, U Stadionu 1137 Jindřichův Hradec - Jin
 dřichův Hradec II
SUMMARY:JC-U22Z: TJ Slovan J. Hradec-SK Třebín JKY
END:VEVENT
BEGIN:VEVENT
UID:31326261-3539-4233-b261-646433383565
DTSTAMP:20260421T231836Z
DESCRIPTION:3/41 České Budějovice - Volejbal Tábor A 2:0 (17\,22)
DTSTART;TZID=Europe/Berlin:20240203T120000
DTEND;TZID=Europe/Berlin:20240203T140000
LOCATION:Sportovní hala\, Stromovka 1216 České Budějovice - České Budějovic
 e 2
SUMMARY:JC-U22Z: České Budějovice-Volejbal Tábor A
END:VEVENT
BEGIN:VEVENT
UID:34343831-6332-4132-a537-386639636235
DTSTAMP:20260421T231836Z
DESCRIPTION:3/42 SK Třebín JKY - SK Třebín LVI 2:0 (12\,18)
DTSTART;TZID=Europe/Berlin:20240203T120000
DTEND;TZID=Europe/Berlin:20240203T140000
LOCATION:ZŠ Máj I\, M. Chlajna 1319 České Budějovice - České Budějovice 2
SUMMARY:JC-U22Z: SK Třebín JKY-SK Třebín LVI
END:VEVENT
BEGIN:VEVENT
UID:32303864-6632-4534-a433-343431383261
DTSTAMP:20260421T231836Z
DESCRIPTION:3/43 TJ Slovan J. Hradec - VSK Slavia JU ČB 2:0 (22\,14)
DTSTART;TZID=Europe/Berlin:20240203T130000
DTEND;TZID=Europe/Berlin:20240203T150000
LOCATION:Sportovní hala J. Hradec\, U Stadionu 1137 Jindřichův Hradec - Jin
 dřichův Hradec II
SUMMARY:JC-U22Z: TJ Slovan J. Hradec-VSK Slavia JU ČB
END:VEVENT
BEGIN:VEVENT
UID:66363635-3865-4434-b734-376361633830
DTSTAMP:20260421T231836Z
DESCRIPTION:3/44 Volejbal Tábor A - SK Třebín JKY 2:0 (13\,16)
DTSTART;TZID=Europe/Berlin:20240203T130000
DTEND;TZID=Europe/Berlin:20240203T150000
LOCATION:Sportovní Hala Mír\, U Stadionu Míru 1579 Tábor
SUMMARY:JC-U22Z: Volejbal Tábor A-SK Třebín JKY
END:VEVENT
BEGIN:VEVENT
UID:37643338-3961-4439-b135-396636356334
DTSTAMP:20260421T231836Z
DESCRIPTION:3/45 SK Třebín LVI - České Budějovice 1:2 (-19\,22\,-8)
DTSTART;TZID=Europe/Berlin:20240203T130000
DTEND;TZID=Europe/Berlin:20240203T150000
LOCATION:ZŠ Máj I\, M. Chlajna 1319 České Budějovice - České Budějovice 2
SUMMARY:JC-U22Z: SK Třebín LVI-České Budějovice
END:VEVENT
BEGIN:VEVENT
UID:64343930-6235-4265-b938-626366613364
DTSTAMP:20260421T231836Z
DESCRIPTION:4/46 TJ Slovan J. Hradec - SK Třebín LVI 2:0 (16\,20)\nPořadate
 l: Tábor (areál Bydlinského\, Tábor)
DTSTART;TZID=Europe/Berlin:20240316T090000
DTEND;TZID=Europe/Berlin:20240316T110000
LOCATION:Sportovní hala J. Hradec\, U Stadionu 1137 Jindřichův Hradec - Jin
 dřichův Hradec II
SUMMARY:JC-U22Z: TJ Slovan J. Hradec-SK Třebín LVI
END:VEVENT
BEGIN:VEVENT
UID:61616263-3630-4431-b034-613038326639
DTSTAMP:20260421T231836Z
DESCRIPTION:4/47 VSK Slavia JU ČB - SK Třebín JKY 0:2 (-17\,-22)
DTSTART;TZID=Europe/Berlin:20240316T090000
DTEND;TZID=Europe/Berlin:20240316T110000
LOCATION:Sportovní hala Jihočeské univerzity\, Na Sádkách 305 České Budějov
 ice - České Budějovice 2
SUMMARY:JC-U22Z: VSK Slavia JU ČB-SK Třebín JKY
END:VEVENT
BEGIN:VEVENT
UID:38386637-3432-4164-b535-316332313732
DTSTAMP:20260421T231836Z
DESCRIPTION:4/48 Volejbal Tábor A - TJ Slovan J. Hradec 2:0 (9\,18)
DTSTART;TZID=Europe/Berlin:20240316T100000
DTEND;TZID=Europe/Berlin:20240316T120000
LOCATION:Sportovní Hala Mír\, U Stadionu Míru 1579 Tábor
SUMMARY:JC-U22Z: Volejbal Tábor A-TJ Slovan J. Hradec
END:VEVENT
BEGIN:VEVENT
UID:34323266-6361-4939-a132-306666366238
DTSTAMP:20260421T231836Z
DESCRIPTION:4/49 VSK Slavia JU ČB - České Budějovice 0:2 (-10\,-17)
DTSTART;TZID=Europe/Berlin:20240316T100000
DTEND;TZID=Europe/Berlin:20240316T120000
LOCATION:Sportovní hala Jihočeské univerzity\, Na Sádkách 305 České Budějov
 ice - České Budějovice 2
SUMMARY:JC-U22Z: VSK Slavia JU ČB-České Budějovice
END:VEVENT
BEGIN:VEVENT
UID:62376232-6530-4137-a334-653333343266
DTSTAMP:20260421T231836Z
DESCRIPTION:4/50 Volejbal Tábor A - SK Třebín LVI 2:0 (12\,14)
DTSTART;TZID=Europe/Berlin:20240316T110000
DTEND;TZID=Europe/Berlin:20240316T130000
LOCATION:Sportovní Hala Mír\, U Stadionu Míru 1579 Tábor
SUMMARY:JC-U22Z: Volejbal Tábor A-SK Třebín LVI
END:VEVENT
BEGIN:VEVENT
UID:61663132-3231-4366-a433-363635656136
DTSTAMP:20260421T231836Z
DESCRIPTION:4/51 SK Třebín JKY - České Budějovice 1:2 (19\,-16\,-13)
DTSTART;TZID=Europe/Berlin:20240316T110000
DTEND;TZID=Europe/Berlin:20240316T130000
LOCATION:ZŠ Máj I\, M. Chlajna 1319 České Budějovice - České Budějovice 2
SUMMARY:JC-U22Z: SK Třebín JKY-České Budějovice
END:VEVENT
BEGIN:VEVENT
UID:37303762-6537-4339-b131-333431316130
DTSTAMP:20260421T231836Z
DESCRIPTION:4/52 SK Třebín LVI - VSK Slavia JU ČB 0:2 (-9\,-20)
DTSTART;TZID=Europe/Berlin:20240316T120000
DTEND;TZID=Europe/Berlin:20240316T140000
LOCATION:ZŠ Máj I\, M. Chlajna 1319 České Budějovice - České Budějovice 2
SUMMARY:JC-U22Z: SK Třebín LVI-VSK Slavia JU ČB
END:VEVENT
BEGIN:VEVENT
UID:64396437-6531-4365-a361-363966353831
DTSTAMP:20260421T231836Z
DESCRIPTION:4/53 České Budějovice - TJ Slovan J. Hradec 2:0 (19\,6)
DTSTART;TZID=Europe/Berlin:20240316T120000
DTEND;TZID=Europe/Berlin:20240316T140000
LOCATION:Sportovní hala\, Stromovka 1216 České Budějovice - České Budějovic
 e 2
SUMMARY:JC-U22Z: České Budějovice-TJ Slovan J. Hradec
END:VEVENT
BEGIN:VEVENT
UID:64306333-6266-4565-a465-623266643961
DTSTAMP:20260421T231836Z
DESCRIPTION:4/54 Volejbal Tábor A - VSK Slavia JU ČB 2:0 (22\,14)
DTSTART;TZID=Europe/Berlin:20240316T130000
DTEND;TZID=Europe/Berlin:20240316T150000
LOCATION:Sportovní Hala Mír\, U Stadionu Míru 1579 Tábor
SUMMARY:JC-U22Z: Volejbal Tábor A-VSK Slavia JU ČB
END:VEVENT
BEGIN:VEVENT
UID:32393236-6435-4331-b766-643631616636
DTSTAMP:20260421T231836Z
DESCRIPTION:4/55 SK Třebín JKY - TJ Slovan J. Hradec 2:0 (11\,7)
DTSTART;TZID=Europe/Berlin:20240316T130000
DTEND;TZID=Europe/Berlin:20240316T150000
LOCATION:ZŠ Máj I\, M. Chlajna 1319 České Budějovice - České Budějovice 2
SUMMARY:JC-U22Z: SK Třebín JKY-TJ Slovan J. Hradec
END:VEVENT
BEGIN:VEVENT
UID:33366535-3031-4637-a161-633362646430
DTSTAMP:20260421T231836Z
DESCRIPTION:4/56 Volejbal Tábor A - České Budějovice 0:2 (-16\,-21)
DTSTART;TZID=Europe/Berlin:20240316T140000
DTEND;TZID=Europe/Berlin:20240316T160000
LOCATION:Sportovní Hala Mír\, U Stadionu Míru 1579 Tábor
SUMMARY:JC-U22Z: Volejbal Tábor A-České Budějovice
END:VEVENT
BEGIN:VEVENT
UID:38613561-3838-4532-b764-656439323139
DTSTAMP:20260421T231836Z
DESCRIPTION:4/57 SK Třebín LVI - SK Třebín JKY 0:2 (-13\,-9)
DTSTART;TZID=Europe/Berlin:20240316T140000
DTEND;TZID=Europe/Berlin:20240316T160000
LOCATION:ZŠ Máj I\, M. Chlajna 1319 České Budějovice - České Budějovice 2
SUMMARY:JC-U22Z: SK Třebín LVI-SK Třebín JKY
END:VEVENT
BEGIN:VEVENT
UID:39313265-3230-4463-b737-646238346233
DTSTAMP:20260421T231836Z
DESCRIPTION:4/58 VSK Slavia JU ČB - TJ Slovan J. Hradec 2:0 (20\,23)
DTSTART;TZID=Europe/Berlin:20240316T150000
DTEND;TZID=Europe/Berlin:20240316T170000
LOCATION:Sportovní hala Jihočeské univerzity\, Na Sádkách 305 České Budějov
 ice - České Budějovice 2
SUMMARY:JC-U22Z: VSK Slavia JU ČB-TJ Slovan J. Hradec
END:VEVENT
BEGIN:VEVENT
UID:63356538-6135-4131-a562-363437353839
DTSTAMP:20260421T231836Z
DESCRIPTION:4/59 SK Třebín JKY - Volejbal Tábor A 2:0 (22\,20)
DTSTART;TZID=Europe/Berlin:20240316T150000
DTEND;TZID=Europe/Berlin:20240316T170000
LOCATION:ZŠ Máj I\, M. Chlajna 1319 České Budějovice - České Budějovice 2
SUMMARY:JC-U22Z: SK Třebín JKY-Volejbal Tábor A
END:VEVENT
BEGIN:VEVENT
UID:39323131-3461-4535-a137-343364363534
DTSTAMP:20260421T231836Z
DESCRIPTION:4/60 České Budějovice - SK Třebín LVI 2:0 (15\,8)
DTSTART;TZID=Europe/Berlin:20240316T160000
DTEND;TZID=Europe/Berlin:20240316T180000
LOCATION:Sportovní hala\, Stromovka 1216 České Budějovice - České Budějovic
 e 2
SUMMARY:JC-U22Z: České Budějovice-SK Třebín LVI
END:VEVENT
END:VCALENDAR
