BEGIN:VCALENDAR
VERSION:2.0
PRODID:-//MYSLIK-U16MP//NONSGML kigkonsult.se iCalcreator 2.41.80//
CALSCALE:GREGORIAN
UID:30643166-3361-4834-b730-336239653938
BEGIN:VEVENT
UID:62356265-3539-4466-b165-323062366461
DTSTAMP:20260424T034536Z
DESCRIPTION:1/1 Praha - Kraj Vysočina 2:0 (12\,14)\nA1-B4
DTSTART;TZID=Europe/Berlin:20230527T161000
DTEND;TZID=Europe/Berlin:20230527T181000
LOCATION:SH SK Prosek\, Lovosická 559 Praha - Letňany
SUMMARY:MYSLIK-U16MP: Praha-Kraj Vysočina
END:VEVENT
BEGIN:VEVENT
UID:37656137-3335-4232-b565-346530333130
DTSTAMP:20260424T034536Z
DESCRIPTION:1/2 Zlínský kraj - Středočeský kraj 1:2 (-20\,24\,-12)\nA3-B2
DTSTART;TZID=Europe/Berlin:20230527T161000
DTEND;TZID=Europe/Berlin:20230527T181000
LOCATION:Sportovní hala Datart Zlín\, U Zimního stadionu 4286 Zlín
SUMMARY:MYSLIK-U16MP: Zlínský kraj-Středočeský kraj
END:VEVENT
BEGIN:VEVENT
UID:37666130-3539-4133-b966-646362393539
DTSTAMP:20260424T034536Z
DESCRIPTION:1/3 Pardubický kraj - Moravskoslezský kraj 0:2 (-6\,-12)\nA4-B1
DTSTART;TZID=Europe/Berlin:20230527T161000
DTEND;TZID=Europe/Berlin:20230527T181000
LOCATION:Sportovní hala Na Střelnici\, Pražská 2162 Svitavy - Předměstí
SUMMARY:MYSLIK-U16MP: Pardubický kraj-Moravskoslezský kraj
END:VEVENT
BEGIN:VEVENT
UID:31336234-6335-4331-a364-633466313966
DTSTAMP:20260424T034536Z
DESCRIPTION:1/4 Jihočeský kraj - Olomoucký kraj 2:0 (20\,13)\nA2-B3
DTSTART;TZID=Europe/Berlin:20230527T161000
DTEND;TZID=Europe/Berlin:20230527T181000
LOCATION:ZŠ Oskara Nedbala České Budějovice\, O. Nedbala 882 České Budějovi
 ce - České Budějovice 2
SUMMARY:MYSLIK-U16MP: Jihočeský kraj-Olomoucký kraj
END:VEVENT
BEGIN:VEVENT
UID:65666431-6338-4939-a532-366663333962
DTSTAMP:20260424T034536Z
DESCRIPTION:1/5 Praha - Středočeský kraj 0:2 (-29\,-20)\nV43-V44
DTSTART;TZID=Europe/Berlin:20230528T093000
DTEND;TZID=Europe/Berlin:20230528T113000
LOCATION:SH SK Prosek\, Lovosická 559 Praha - Letňany
SUMMARY:MYSLIK-U16MP: Praha-Středočeský kraj
END:VEVENT
BEGIN:VEVENT
UID:34343130-6462-4964-a437-363838643061
DTSTAMP:20260424T034536Z
DESCRIPTION:1/6 Moravskoslezský kraj - Jihočeský kraj 1:2 (-16\,20\,-10)\nV
 45-V46
DTSTART;TZID=Europe/Berlin:20230528T093000
DTEND;TZID=Europe/Berlin:20230528T113000
LOCATION:Víceúčelová sportovní hala\,  Raškovice18
SUMMARY:MYSLIK-U16MP: Moravskoslezský kraj-Jihočeský kraj
END:VEVENT
BEGIN:VEVENT
UID:36613832-3239-4764-b537-306231386638
DTSTAMP:20260424T034536Z
DESCRIPTION:2/7 Kraj Vysočina - Zlínský kraj 1:2 (-24\,10\,-6)\nP43-P44
DTSTART;TZID=Europe/Berlin:20230528T093000
DTEND;TZID=Europe/Berlin:20230528T113000
LOCATION:ZŠ Komenského\, Komenského 1 Velké Meziříčí
SUMMARY:MYSLIK-U16MP: Kraj Vysočina-Zlínský kraj
END:VEVENT
BEGIN:VEVENT
UID:39353637-3832-4039-b431-333061373036
DTSTAMP:20260424T034536Z
DESCRIPTION:2/8 Pardubický kraj - Olomoucký kraj 0:2 (-21\,-24)\nP45-P46
DTSTART;TZID=Europe/Berlin:20230528T093000
DTEND;TZID=Europe/Berlin:20230528T113000
LOCATION:Sportovní hala Na Střelnici\, Pražská 2162 Svitavy - Předměstí
SUMMARY:MYSLIK-U16MP: Pardubický kraj-Olomoucký kraj
END:VEVENT
BEGIN:VEVENT
UID:62313834-6362-4032-b532-323931366436
DTSTAMP:20260424T034536Z
DESCRIPTION:2/9 Pardubický kraj - Kraj Vysočina 0:2 (-16\,-18)\no 7. místo
DTSTART;TZID=Europe/Berlin:20230528T110000
DTEND;TZID=Europe/Berlin:20230528T130000
LOCATION:Sportovní hala Na Střelnici\, Pražská 2162 Svitavy - Předměstí
SUMMARY:MYSLIK-U16MP: Pardubický kraj-Kraj Vysočina
END:VEVENT
BEGIN:VEVENT
UID:37363933-3864-4165-a133-353765363362
DTSTAMP:20260424T034536Z
DESCRIPTION:2/10 Olomoucký kraj - Zlínský kraj 2:1 (22\,-17\,13)\no 5. míst
 o
DTSTART;TZID=Europe/Berlin:20230528T110000
DTEND;TZID=Europe/Berlin:20230528T130000
LOCATION:, Hanusíkova 1476 Kojetín - Kojetín I-Město
SUMMARY:MYSLIK-U16MP: Olomoucký kraj-Zlínský kraj
END:VEVENT
BEGIN:VEVENT
UID:35653938-3439-4164-b862-306265376330
DTSTAMP:20260424T034536Z
DESCRIPTION:2/11 Praha - Moravskoslezský kraj 2:0 (17\,21)\no 3. místo
DTSTART;TZID=Europe/Berlin:20230528T110000
DTEND;TZID=Europe/Berlin:20230528T130000
LOCATION:SH SK Prosek\, Lovosická 559 Praha - Letňany
SUMMARY:MYSLIK-U16MP: Praha-Moravskoslezský kraj
END:VEVENT
BEGIN:VEVENT
UID:32643563-6133-4565-a564-306563633631
DTSTAMP:20260424T034536Z
DESCRIPTION:2/12 Středočeský kraj - Jihočeský kraj 0:2 (-22\,-12)\no 1. mís
 to
DTSTART;TZID=Europe/Berlin:20230528T110000
DTEND;TZID=Europe/Berlin:20230528T130000
LOCATION:Sokolovna\, Zápská 329 Brandýs nad Labem-Stará Boleslav - Brandýs 
 nad Labem
SUMMARY:MYSLIK-U16MP: Středočeský kraj-Jihočeský kraj
END:VEVENT
END:VCALENDAR
